BEGIN:VCALENDAR
VERSION:2.0
PRODID:-//Ateneo Mercantil de Valencia - ECPv6.0.4//NONSGML v1.0//EN
CALSCALE:GREGORIAN
METHOD:PUBLISH
X-ORIGINAL-URL:https://historico.ateneovalencia.es
X-WR-CALDESC:Eventos para Ateneo Mercantil de Valencia
REFRESH-INTERVAL;VALUE=DURATION:PT1H
X-Robots-Tag:noindex
X-PUBLISHED-TTL:PT1H
BEGIN:VTIMEZONE
TZID:Europe/Madrid
BEGIN:DAYLIGHT
TZOFFSETFROM:+0100
TZOFFSETTO:+0200
TZNAME:CEST
DTSTART:20210328T010000
END:DAYLIGHT
BEGIN:STANDARD
TZOFFSETFROM:+0200
TZOFFSETTO:+0100
TZNAME:CET
DTSTART:20211031T010000
END:STANDARD
END:VTIMEZONE
BEGIN:VEVENT
DTSTART;TZID=Europe/Madrid:20211102T113000
DTEND;TZID=Europe/Madrid:20211102T210000
DTSTAMP:20260426T005634
CREATED:20211018T111947Z
LAST-MODIFIED:20211018T111947Z
UID:65386-1635852600-1635886800@historico.ateneovalencia.es
SUMMARY:XVI Edición del Taller de Protocolo del Aula de Moda Ateneo - La comunicación no verbal - Sesión 1
DESCRIPTION:Décimo sexta edición de los Talleres de Protocolo del Aula de Moda del Ateneo que organiza la Asesoría de Imagen Personal de Carmen Selva. Hoy martes 2 de noviembre arranca la primera de la clases con "La comunicación no verbal”. En la Sala Multiusos - Tertulia Taurina. \nEstas son las próximas clases y fechas de los talleres: \n- Martes 9/11/2021. El arte de comer \n- Martes 16/11/2021. Mesa y su configuración \n- Martes 23/11/2021. Presentaciones y saludos \n- Martes 30/11/2021. Saber vestir y la etiqueta \nHorario a elegir: De 11:30 a 13:00 h. – De 19:30 a 21:00 h. \nPrecio ciclo completo: 55 € Socios – 65 € No socios. \nInformación\, Dudas e Inscripciones: Carmen Selva: 686 002 933 | Email: carmenselva.af@hotmail.com | web: www.cursopersonalshopper.net \nCartel:
URL:https://historico.ateneovalencia.es/evento/xvi-edicion-del-taller-de-protocolo-del-aula-de-moda-ateneo-la-comunicacion-no-verbal-sesion-1/
LOCATION:Sala Multiusos - Tertulia Taurina
CATEGORIES:Taller de Protocolo
ATTACH;FMTTYPE=image/jpeg:https://historico.ateneovalencia.es/wp-content/uploads/2021/10/20180507-Taller-Protocolo.jpg
ORGANIZER;CN="Asesor%C3%ADa%20de%20Imagen%20Personal%20-%20Carmen%20Selva":MAILTO:carmenselva.af@hotmail.com
END:VEVENT
BEGIN:VEVENT
DTSTART;TZID=Europe/Madrid:20211109T113000
DTEND;TZID=Europe/Madrid:20211109T210000
DTSTAMP:20260426T005634
CREATED:20211018T112121Z
LAST-MODIFIED:20211018T112137Z
UID:65390-1636457400-1636491600@historico.ateneovalencia.es
SUMMARY:XVI Edición del Taller de Protocolo del Aula de Moda Ateneo - El arte de comer - Sesión 2
DESCRIPTION:Décimo sexta edición de los Talleres de Protocolo del Aula de Moda del Ateneo que organiza la Asesoría de Imagen Personal de Carmen Selva. Hoy martes 9 de noviembre arranca la segunda de la clases con "El arte de comer". En la Sala Multiusos - Tertulia Taurina. \nEstas son las próximas clases y fechas de los talleres: \n- Martes 16/11/2021. Mesa y su configuración \n- Martes 23/11/2021. Presentaciones y saludos \n- Martes 30/11/2021. Saber vestir y la etiqueta \nHorario a elegir: De 11:30 a 13:00 h. – De 19:30 a 21:00 h. \nPrecio ciclo completo: 55 € Socios – 65 € No socios. \nInformación\, Dudas e Inscripciones: Carmen Selva: 686 002 933 | Email: carmenselva.af@hotmail.com | web: www.cursopersonalshopper.net \nCartel:
URL:https://historico.ateneovalencia.es/evento/xvi-edicion-del-taller-de-protocolo-del-aula-de-moda-ateneo-el-arte-de-comer-sesion-2/
LOCATION:Sala Multiusos - Tertulia Taurina
CATEGORIES:Taller de Protocolo
ATTACH;FMTTYPE=image/jpeg:https://historico.ateneovalencia.es/wp-content/uploads/2021/10/20180507-Taller-Protocolo.jpg
ORGANIZER;CN="Asesor%C3%ADa%20de%20Imagen%20Personal%20-%20Carmen%20Selva":MAILTO:carmenselva.af@hotmail.com
END:VEVENT
BEGIN:VEVENT
DTSTART;TZID=Europe/Madrid:20211116T113000
DTEND;TZID=Europe/Madrid:20211116T210000
DTSTAMP:20260426T005634
CREATED:20211018T112445Z
LAST-MODIFIED:20211018T112445Z
UID:65392-1637062200-1637096400@historico.ateneovalencia.es
SUMMARY:XVI Edición del Taller de Protocolo del Aula de Moda Ateneo - Mesa y su configuración - Sesión 3
DESCRIPTION:Décimo sexta edición de los Talleres de Protocolo del Aula de Moda del Ateneo que organiza la Asesoría de Imagen Personal de Carmen Selva. Hoy martes 16 de noviembre arranca la tercera de la clases con la "Mesa y su configuración". En la Sala Multiusos - Tertulia Taurina. \nEstas son las próximas clases y fechas de los talleres: \n- Martes 23/11/2021. Presentaciones y saludos \n- Martes 30/11/2021. Saber vestir y la etiqueta \nHorario a elegir: De 11:30 a 13:00 h. – De 19:30 a 21:00 h. \nPrecio ciclo completo: 55 € Socios – 65 € No socios. \nInformación\, Dudas e Inscripciones: Carmen Selva: 686 002 933 | Email: carmenselva.af@hotmail.com | web: www.cursopersonalshopper.net \nCartel:
URL:https://historico.ateneovalencia.es/evento/xvi-edicion-del-taller-de-protocolo-del-aula-de-moda-ateneo-mesa-y-su-configuracion-sesion-3/
LOCATION:Sala Multiusos - Tertulia Taurina
CATEGORIES:Taller de Protocolo
ATTACH;FMTTYPE=image/jpeg:https://historico.ateneovalencia.es/wp-content/uploads/2021/10/20180507-Taller-Protocolo.jpg
ORGANIZER;CN="Asesor%C3%ADa%20de%20Imagen%20Personal%20-%20Carmen%20Selva":MAILTO:carmenselva.af@hotmail.com
END:VEVENT
BEGIN:VEVENT
DTSTART;TZID=Europe/Madrid:20211123T113000
DTEND;TZID=Europe/Madrid:20211123T210000
DTSTAMP:20260426T005634
CREATED:20211018T112730Z
LAST-MODIFIED:20211018T112730Z
UID:65394-1637667000-1637701200@historico.ateneovalencia.es
SUMMARY:XVI Edición del Taller de Protocolo del Aula de Moda Ateneo - Presentaciones y saludos - Sesión 4
DESCRIPTION:Décimo sexta edición de los Talleres de Protocolo del Aula de Moda del Ateneo que organiza la Asesoría de Imagen Personal de Carmen Selva. Hoy martes 23 de noviembre arranca la cuarta de la clases con las "Presentaciones y saludos". En la Sala Multiusos - Tertulia Taurina. \nEsta es la próxima clase y fecha de los talleres: \n- Martes 30/11/2021. Saber vestir y la etiqueta \nHorario a elegir: De 11:30 a 13:00 h. – De 19:30 a 21:00 h. \nPrecio ciclo completo: 55 € Socios – 65 € No socios. \nInformación\, Dudas e Inscripciones: Carmen Selva: 686 002 933 | Email: carmenselva.af@hotmail.com | web: www.cursopersonalshopper.net \nCartel:
URL:https://historico.ateneovalencia.es/evento/xvi-edicion-del-taller-de-protocolo-del-aula-de-moda-ateneo-presentaciones-y-saludos-sesion-4/
LOCATION:Sala Multiusos - Tertulia Taurina
CATEGORIES:Taller de Protocolo
ATTACH;FMTTYPE=image/jpeg:https://historico.ateneovalencia.es/wp-content/uploads/2021/10/20180507-Taller-Protocolo.jpg
ORGANIZER;CN="Asesor%C3%ADa%20de%20Imagen%20Personal%20-%20Carmen%20Selva":MAILTO:carmenselva.af@hotmail.com
END:VEVENT
BEGIN:VEVENT
DTSTART;TZID=Europe/Madrid:20211130T113000
DTEND;TZID=Europe/Madrid:20211130T210000
DTSTAMP:20260426T005634
CREATED:20211018T113008Z
LAST-MODIFIED:20211018T113008Z
UID:65396-1638271800-1638306000@historico.ateneovalencia.es
SUMMARY:XVI Edición del Taller de Protocolo del Aula de Moda Ateneo - Saber vestir y la etiqueta - Sesión 5
DESCRIPTION:Décimo sexta edición de los Talleres de Protocolo del Aula de Moda del Ateneo que organiza la Asesoría de Imagen Personal de Carmen Selva. Hoy martes 30 de noviembre arranca la quinta y última de la clases con el "Saber vestir y la etiqueta". En la Sala Multiusos - Tertulia Taurina. \nHorario a elegir: De 11:30 a 13:00 h. – De 19:30 a 21:00 h. \nPrecio ciclo completo: 55 € Socios – 65 € No socios. \nInformación\, Dudas e Inscripciones: Carmen Selva: 686 002 933 | Email: carmenselva.af@hotmail.com | web: www.cursopersonalshopper.net \nCartel:
URL:https://historico.ateneovalencia.es/evento/xvi-edicion-del-taller-de-protocolo-del-aula-de-moda-ateneo-saber-vestir-y-la-etiqueta-sesion-5/
LOCATION:Sala Multiusos - Tertulia Taurina
CATEGORIES:Taller de Protocolo
ATTACH;FMTTYPE=image/jpeg:https://historico.ateneovalencia.es/wp-content/uploads/2021/10/20180507-Taller-Protocolo.jpg
ORGANIZER;CN="Asesor%C3%ADa%20de%20Imagen%20Personal%20-%20Carmen%20Selva":MAILTO:carmenselva.af@hotmail.com
END:VEVENT
END:VCALENDAR