BEGIN:VCALENDAR
VERSION:2.0
PRODID:-//Ateneo Mercantil de Valencia - ECPv6.0.4//NONSGML v1.0//EN
CALSCALE:GREGORIAN
METHOD:PUBLISH
X-ORIGINAL-URL:https://historico.ateneovalencia.es
X-WR-CALDESC:Eventos para Ateneo Mercantil de Valencia
REFRESH-INTERVAL;VALUE=DURATION:PT1H
X-Robots-Tag:noindex
X-PUBLISHED-TTL:PT1H
BEGIN:VTIMEZONE
TZID:Europe/Madrid
BEGIN:DAYLIGHT
TZOFFSETFROM:+0100
TZOFFSETTO:+0200
TZNAME:CEST
DTSTART:20200329T010000
END:DAYLIGHT
BEGIN:STANDARD
TZOFFSETFROM:+0200
TZOFFSETTO:+0100
TZNAME:CET
DTSTART:20201025T010000
END:STANDARD
END:VTIMEZONE
BEGIN:VEVENT
DTSTART;TZID=Europe/Madrid:20200204T113000
DTEND;TZID=Europe/Madrid:20200204T200000
DTSTAMP:20260421T070534
CREATED:20200113T111631Z
LAST-MODIFIED:20200116T093346Z
UID:55345-1580815800-1580846400@historico.ateneovalencia.es
SUMMARY:Taller: "Aprendiendo a relajarnos - Introducción al Mindfulness" - Sesión 2
DESCRIPTION:El Ateneo Mercantil acoge un taller sobre relajación e introducción al Mindfulness que abarcará desde sus conceptos básicos hasta el estrés\, y que organiza la Fundación Ateneo Mercantil y Active - Tiempo de bienestar.es. El taller consta de cinco sesiones y se llevará a cabo durante el mes de enero y de febrero. La segunda de las sesiones será el martes 4 de febrero y llega bajo el título "La importancia de la atención y la respiración". \nLas inscripciones y para más información hay que llamar al teléfono 686.00.29.33 o enviar un correo electrónico a info@activetiempodebienestar.es. El precio del taller para los socios es de 55 euros mientras que para los no socios es de 65 euros. \nHorarios a elegir: \n\nDe 11.30 a 13.00 horas\nDe 18.30 a 20.00 horas\n\nLas próximas sesiones del taller son: \n\n11 de febrero: "Mindfulness en tú día a día"\n18 de febrero: "Autocompasión. Mindfulness y Emociones"\n25 de febrero: "Reducción del estrés basado en el mindfulness"\n\nCartel:
URL:https://historico.ateneovalencia.es/evento/taller-aprendiendo-a-relajarnos-introduccion-al-mindfulness-sesion-2/
LOCATION:Despacho 4º Piso
CATEGORIES:Taller de Mindfulness
ATTACH;FMTTYPE=image/jpeg:https://historico.ateneovalencia.es/wp-content/uploads/2020/01/20200128-Taller-Mindfulness.jpg
END:VEVENT
BEGIN:VEVENT
DTSTART;TZID=Europe/Madrid:20200211T113000
DTEND;TZID=Europe/Madrid:20200211T200000
DTSTAMP:20260421T070534
CREATED:20200113T111813Z
LAST-MODIFIED:20200116T101127Z
UID:55347-1581420600-1581451200@historico.ateneovalencia.es
SUMMARY:Taller: "Aprendiendo a relajarnos - Introducción al Mindfulness" - Sesión 3
DESCRIPTION:El Ateneo Mercantil acoge un taller sobre relajación e introducción al Mindfulness que abarcará desde sus conceptos básicos hasta el estrés\, y que organiza la Fundación Ateneo Mercantil y Active - Tiempo de bienestar.es. El taller consta de cinco sesiones y se llevará a cabo durante el mes de enero y de febrero. La tercera de las sesiones será el martes 11 de febrero y llega bajo el título "Mindfulness en tú día a día". \nLas inscripciones y para más información hay que llamar al teléfono 686.00.29.33 o enviar un correo electrónico a info@activetiempodebienestar.es. El precio del taller para los socios es de 55 euros mientras que para los no socios es de 65 euros. \nHorarios a elegir: \n\nDe 11.30 a 13.00 horas\nDe 18.30 a 20.00 horas\n\nLas próximas sesiones del taller son: \n\n18 de febrero: "Autocompasión. Mindfulness y Emociones"\n25 de febrero: "Reducción del estrés basado en el mindfulness"\n\nCartel:
URL:https://historico.ateneovalencia.es/evento/taller-aprendiendo-a-relajarnos-introduccion-al-mindfulness-sesion-3/
LOCATION:Despacho 4º Piso
CATEGORIES:Taller de Mindfulness
ATTACH;FMTTYPE=image/jpeg:https://historico.ateneovalencia.es/wp-content/uploads/2020/01/20200128-Taller-Mindfulness.jpg
END:VEVENT
BEGIN:VEVENT
DTSTART;TZID=Europe/Madrid:20200218T113000
DTEND;TZID=Europe/Madrid:20200218T200000
DTSTAMP:20260421T070534
CREATED:20200113T112011Z
LAST-MODIFIED:20200116T101430Z
UID:55349-1582025400-1582056000@historico.ateneovalencia.es
SUMMARY:Taller: "Aprendiendo a relajarnos - Introducción al Mindfulness" - Sesión 4
DESCRIPTION:El Ateneo Mercantil acoge un taller sobre relajación e introducción al Mindfulness que abarcará desde sus conceptos básicos hasta el estrés\, y que organiza la Fundación Ateneo Mercantil y Active - Tiempo de bienestar.es. El taller consta de cinco sesiones y se llevará a cabo durante el mes de enero y de febrero. La cuarta de las sesiones será el martes 18 de febrero y llega bajo el título "Autocompasión. Mindfulness y Emociones". \nLas inscripciones y para más información hay que llamar al teléfono 686.00.29.33 o enviar un correo electrónico a info@activetiempodebienestar.es. El precio del taller para los socios es de 55 euros mientras que para los no socios es de 65 euros. \nHorarios a elegir: \n\nDe 11.30 a 13.00 horas\nDe 18.30 a 20.00 horas\n\nLa próxima y última sesión del taller es: \n\n25 de febrero: "Reducción del estrés basado en el mindfulness"\n\nCartel:
URL:https://historico.ateneovalencia.es/evento/taller-aprendiendo-a-relajarnos-introduccion-al-mindfulness-sesion-4/
LOCATION:Despacho 4º Piso
CATEGORIES:Taller de Mindfulness
ATTACH;FMTTYPE=image/jpeg:https://historico.ateneovalencia.es/wp-content/uploads/2020/01/20200128-Taller-Mindfulness.jpg
END:VEVENT
BEGIN:VEVENT
DTSTART;TZID=Europe/Madrid:20200225T113000
DTEND;TZID=Europe/Madrid:20200225T200000
DTSTAMP:20260421T070534
CREATED:20200113T112152Z
LAST-MODIFIED:20200116T101848Z
UID:55351-1582630200-1582660800@historico.ateneovalencia.es
SUMMARY:Taller: "Aprendiendo a relajarnos - Introducción al Mindfulness" - Sesión 5
DESCRIPTION:El Ateneo Mercantil acoge un taller sobre relajación e introducción al Mindfulness que abarcará desde sus conceptos básicos hasta el estrés\, y que organiza la Fundación Ateneo Mercantil y Active - Tiempo de bienestar.es. El taller consta de cinco sesiones y se llevará a cabo durante el mes de enero y de febrero. La quinta y última de las sesiones será el martes 25 de febrero y llega bajo el título "Reducción del estrés basado en el mindfulness". \nLas inscripciones y para más información hay que llamar al teléfono 686.00.29.33 o enviar un correo electrónico a info@activetiempodebienestar.es. El precio del taller para los socios es de 55 euros mientras que para los no socios es de 65 euros. \nHorarios a elegir: \n\nDe 11.30 a 13.00 horas\nDe 18.30 a 20.00 horas\n\nCartel:
URL:https://historico.ateneovalencia.es/evento/taller-aprendiendo-a-relajarnos-introduccion-al-mindfulness-sesion-5/
LOCATION:Despacho 4º Piso
CATEGORIES:Taller de Mindfulness
ATTACH;FMTTYPE=image/jpeg:https://historico.ateneovalencia.es/wp-content/uploads/2020/01/20200128-Taller-Mindfulness.jpg
END:VEVENT
END:VCALENDAR