BEGIN:VCALENDAR
VERSION:2.0
PRODID:-//Ateneo Mercantil de Valencia - ECPv6.0.4//NONSGML v1.0//EN
CALSCALE:GREGORIAN
METHOD:PUBLISH
X-WR-CALNAME:Ateneo Mercantil de Valencia
X-ORIGINAL-URL:https://historico.ateneovalencia.es
X-WR-CALDESC:Eventos para Ateneo Mercantil de Valencia
REFRESH-INTERVAL;VALUE=DURATION:PT1H
X-Robots-Tag:noindex
X-PUBLISHED-TTL:PT1H
BEGIN:VTIMEZONE
TZID:Europe/Madrid
BEGIN:DAYLIGHT
TZOFFSETFROM:+0100
TZOFFSETTO:+0200
TZNAME:CEST
DTSTART:20220327T010000
END:DAYLIGHT
BEGIN:STANDARD
TZOFFSETFROM:+0200
TZOFFSETTO:+0100
TZNAME:CET
DTSTART:20221030T010000
END:STANDARD
BEGIN:DAYLIGHT
TZOFFSETFROM:+0100
TZOFFSETTO:+0200
TZNAME:CEST
DTSTART:20230326T010000
END:DAYLIGHT
BEGIN:STANDARD
TZOFFSETFROM:+0200
TZOFFSETTO:+0100
TZNAME:CET
DTSTART:20231029T010000
END:STANDARD
END:VTIMEZONE
BEGIN:VEVENT
DTSTART;TZID=Europe/Madrid:20221125T170000
DTEND;TZID=Europe/Madrid:20230108T200000
DTSTAMP:20260423T190946
CREATED:20221207T112253Z
LAST-MODIFIED:20221228T111843Z
UID:72339-1669395600-1673208000@historico.ateneovalencia.es
SUMMARY:Navidad en el Ateneo:  Juego Brawl Stars - Laser Football Game
DESCRIPTION:El Ateneo Mercantil de Valencia\, dentro de su firme apuesta por ofrecer a los más pequeños de la casa y a sus familias actividades de entretenimiento\, diversión y espectáculo convertirá el videojuego de móviles Brawl Stars\, que causa furor entre los más pequeños\, en un juego real\, que será recreado a gran escala en la primera planta del Ateneo a partir del 25 de noviembre. La elección de este juego\, donde se ha escogido el balón como protagonista\, se ha hecho con toda la intención coincidiendo con el Mundial de Qatar 2022. \nEste juego virtual que ahora cobra vida abrirá sus puertas todos los fines de semana a partir del 25 de noviembre en el primer piso del Ateneo. Un espacio de más de 60 metros cuadrados que ya acogió en la Navidad de 2021\, el famoso videojuego del Among US\, que fue visitado por más de 4.000 niños y niñas. \nLos horarios hasta el 23 de diciembre son todos los viernes de 17 a 20 horas\, sábados de 16.30 a 20 horas y domingos de 12 a 14 horas. Desde el 23 de diciembre\, con motivo de las vacaciones de Navidad\, las puertas para jugar al Fútbol Láser Game permanecerá abiertas hasta el 8 de enero de 17 a 20 horas. Además\, se suman tres sesiones tan sólo por la mañana de 12 a 14h: los días 24 y 31 de diciembre y el 5 de enero de 2023\, mientras que sólo habrá sesión por la tarde de 17 a 20 horas los días 25\, 1 y 6 de enero. \nEsta actividad infantil es para niñas y niños de 6 a 13 años. Altura mínima 1\,2o m para poder jugar. El precio de la entrada es de 5 euros\, que permitirá a los más pequeños disfrutar de tres partidas. \nEntradas a la venta en taquillas del Ateneo Mercantil de Valencia.\nReglas del juego\nEl conocido como Brawl Stars o Estrellas de la Pelea consiste en una competición entre dos equipos\, diferenciados por color azul y color rojo\, compuestos por tres participantes. Uno de los principales desafíos para marcar un punto es la destreza que deberá mostrar cada participante\, que no podrá disparar la pistola láser hasta que no suelte el balón. \nLa duración de las tres partidas es de 3 minutos cada una y se impondrá el que alcance el 2-0. En caso de empate se decide con el gol de oro de un minuto de duración. Si un equipo se impone en las dos primeras partidas\, se disputará igualmente un tercer enfrentamiento. Los jugadores podrán llevar el balón todo el tiempo a no ser que sean eliminados. Si uno de los participantes ha sido ‘tocado’ tendrá que levantar la pistola láser por encima de la cabeza e ir andando hasta su portería y tocarla para revivir. \nCartel:
URL:https://historico.ateneovalencia.es/evento/navidad-en-el-ateneo-juego-brawl-stars-laser-football-game/
LOCATION:Sala Bridge - Ateneo Mercantil de Valencia\, Plaza del Ayuntamiento\, 18\, Valencia\, España\, Valencia\, Valencia\, 46002\, España
CATEGORIES:Infantil,Navidad
ATTACH;FMTTYPE=image/jpeg:https://historico.ateneovalencia.es/wp-content/uploads/2022/12/20221125-Brawl-Stars-Laser-Game-Football.jpg
END:VEVENT
BEGIN:VEVENT
DTSTART;TZID=Europe/Madrid:20221220T100000
DTEND;TZID=Europe/Madrid:20230108T200000
DTSTAMP:20260423T190946
CREATED:20221212T092953Z
LAST-MODIFIED:20221212T122443Z
UID:72377-1671530400-1673208000@historico.ateneovalencia.es
SUMMARY:Exposición - Descubre el gran Belén artesanal y tradicional de estilo orientalista del Ateneo estas Navidades
DESCRIPTION:Estas Navidades\, coincidiendo con el reconocimiento de la representación cristiana del Belén como Patrimonio Inmaterial de la Humanidad\, el Ateneo Mercantil expone\, en el Salón Stolz\, uno propio de características muy particulares. El proyecto\, realizado a lo largo de un año por la restauradora Carmen Pérez y la belenista Blanca Fitera\, se ha materializado en un belén de estética orientalista donde coexisten las construcciones de Blanca Fitera y las figuras de Carmen Pérez en total armonía. \nA través de una realización absolutamente artesanal de cada uno de sus elementos (los edificios son únicos\, tallados y pintados a mano\, y las figuras\, pintadas y vestidas cada una con un atuendo diferente)\, han logrado presentar un belén vivo\, alegre\, lleno de detalles\, representando múltiples artesanías y formas de vida de la ciudad de Belén\, convirtiéndolo así en atractivo tanto para niños como para adultos. \nLa perdurabilidad de esta tradición cristiana dentro de la celebración navideña constituye su elemento más relevante y totalmente compatible con los adornos propios de esta época. \nFechas: Del 20 de diciembre de 2022 al 8 de enero de 2023. \nHorario: Todos los días abierto de 10 a 20 horas. \nSalón: Salón Stolz. \nExposición Gratuita \nCartel:
URL:https://historico.ateneovalencia.es/evento/exposicion-navidad-belen-tradicional-descubre-el-gran-belen-artesanal-de-estilo-orientalista-del-ateneo-valencia/
LOCATION:Salón Stolz - Ateneo Mercantil de Valencia\, Plaza del Ayuntamiento\, 18\, Valencia\, España\, Valencia\, Valencia\, 46002\, España
CATEGORIES:Exposiciones,Navidad
ATTACH;FMTTYPE=image/jpeg:https://historico.ateneovalencia.es/wp-content/uploads/2022/12/20221215-Exposicion-Belen-Orientalista.jpg
END:VEVENT
BEGIN:VEVENT
DTSTART;TZID=Europe/Madrid:20221222T180000
DTEND;TZID=Europe/Madrid:20221222T193000
DTSTAMP:20260423T190946
CREATED:20221215T113619Z
LAST-MODIFIED:20221215T113624Z
UID:72412-1671732000-1671737400@historico.ateneovalencia.es
SUMMARY:Arrancan las fiestas navideñas en el Ateneo Mercantil con la Gala de Navidad 2022
DESCRIPTION:Los actos navideños exclusivos para los socios arrancan el próximo jueves 22 de diembre a las 18 horas con la Gala de Navidad\, en el que se premiará de un nuevo a un periodista por su carrera profesional\, en el XXII Premio Periodístico\, que esta vez recae en D. Paco Lloret\, director de Valencia Capital Radio y con una carrera profesional extensísima. También los más pequeños de la casa tendrán su hueco en la gala\, ya que se volverá a premiar sus dibujos navideños con el XVIII Premio de Tarjetas Navideñas. Lo mismo ocurre con nuestros estudiantes que han aprobado su oposición\, este año se les distinguirá como se hacía antaño. Además\, en la gala se presentará a la Reina del Ateneo de 2023\, la Srta. Paula Rocafull Lis\, y se despedirá a nuestra Reina del Ateneo de los últimos años\, la Srta. Ana Bonet Cerdà. \nSe acercan las entrañables fiestas de la Navidad y el Salón de Actos se vestirá con las mejores galas para recibir a nuestros socios y dar el pistoletazo de salida a todos los actos programados por nuestra institución para estas señaladas fechas. \nAdemás\, la presidenta del Ateneo Mercantil\, Dª. Carmen de Rosa\, presentará un breve balance de las actividades que se han realizado este año. \nLa gala estará amenizada por una actuación de un grupo de solistas de la Orquesta Sinfónica del Mediterráneo.\n \nCartel:
URL:https://historico.ateneovalencia.es/evento/arrancan-las-fiestas-navidenas-en-el-ateneo-mercantil-con-la-gala-de-navidad-2022/
LOCATION:Teatro Ateneo
CATEGORIES:Navidad
ATTACH;FMTTYPE=image/jpeg:https://historico.ateneovalencia.es/wp-content/uploads/2022/12/20221222-Gala-Navidad-2022.jpg
END:VEVENT
END:VCALENDAR