BEGIN:VCALENDAR
VERSION:2.0
PRODID:-//Ateneo Mercantil de Valencia - ECPv6.0.4//NONSGML v1.0//EN
CALSCALE:GREGORIAN
METHOD:PUBLISH
X-ORIGINAL-URL:https://historico.ateneovalencia.es
X-WR-CALDESC:Eventos para Ateneo Mercantil de Valencia
REFRESH-INTERVAL;VALUE=DURATION:PT1H
X-Robots-Tag:noindex
X-PUBLISHED-TTL:PT1H
BEGIN:VTIMEZONE
TZID:Europe/Madrid
BEGIN:DAYLIGHT
TZOFFSETFROM:+0100
TZOFFSETTO:+0200
TZNAME:CEST
DTSTART:20230326T010000
END:DAYLIGHT
BEGIN:STANDARD
TZOFFSETFROM:+0200
TZOFFSETTO:+0100
TZNAME:CET
DTSTART:20231029T010000
END:STANDARD
BEGIN:DAYLIGHT
TZOFFSETFROM:+0100
TZOFFSETTO:+0200
TZNAME:CEST
DTSTART:20240331T010000
END:DAYLIGHT
BEGIN:STANDARD
TZOFFSETFROM:+0200
TZOFFSETTO:+0100
TZNAME:CET
DTSTART:20241027T010000
END:STANDARD
END:VTIMEZONE
BEGIN:VEVENT
DTSTART;TZID=Europe/Madrid:20231221T100000
DTEND;TZID=Europe/Madrid:20240107T200000
DTSTAMP:20260422T011958
CREATED:20231128T094250Z
LAST-MODIFIED:20231208T054611Z
UID:76029-1703152800-1704657600@historico.ateneovalencia.es
SUMMARY:Exposición del gran Belén artesanal y tradicional de estilo orientalista del Ateneo esta Navidad
DESCRIPTION:Estas Navidades el Ateneo Mercantil vuelve a exponer\, en el Salón Stolz\, un Belén de características muy particulares. El proyecto\, realizado a lo largo de un año por la restauradora Carmen Pérez y la belenista Blanca Fitera\, se ha materializado en un belén de estética orientalista donde coexisten las construcciones de Blanca Fitera y las figuras de Carmen Pérez en total armonía. \nA través de una realización absolutamente artesanal de cada uno de sus elementos (los edificios son únicos\, tallados y pintados a mano\, y las figuras\, pintadas y vestidas cada una con un atuendo diferente)\, han logrado presentar un belén vivo\, alegre\, lleno de detalles\, representando múltiples artesanías y formas de vida de la ciudad de Belén\, convirtiéndolo así en atractivo tanto para niños como para adultos. \nLa perdurabilidad de esta tradición cristiana dentro de la celebración navideña constituye su elemento más relevante y totalmente compatible con los adornos propios de esta época. No dudes en visitarlo. \nFechas: Del 21 de diciembre de 2023 al 7 de enero de 2024. \nHorario: Todos los días abierto de 10 a 20 horas. \nSalón: Salón Stolz. \nExposición Gratuita \nCartel:\n 
URL:https://historico.ateneovalencia.es/evento/exposicion-gran-belen-artesanal-y-tradicional-de-estilo-orientalista-del-ateneo-navidades-2023/
LOCATION:Salón Stolz - Ateneo Mercantil de Valencia\, Plaza del Ayuntamiento\, 18\, Valencia\, España\, Valencia\, Valencia\, 46002\, España
CATEGORIES:Exposiciones,Navidad
ATTACH;FMTTYPE=image/jpeg:https://historico.ateneovalencia.es/wp-content/uploads/2023/11/20231218-Belen-Tradicional-Exposicion-2023.jpg
END:VEVENT
BEGIN:VEVENT
DTSTART;TZID=Europe/Madrid:20240103T113000
DTEND;TZID=Europe/Madrid:20240103T133000
DTSTAMP:20260422T011958
CREATED:20231205T115106Z
LAST-MODIFIED:20231205T115106Z
UID:76102-1704281400-1704288600@historico.ateneovalencia.es
SUMMARY:Cine Infantil: "Super Mario Bros - La Película"
DESCRIPTION:Tras la primera proyección de "Super Mario Bros: La Película"\, el día de Navidad\, el Ateneo Mercantil ha programado una segunda para el miércoles 3 de enero de 2024\, pero esta vez en horario matinal\, a las 11.30 horas en el Teatro Ateneo. De nuevo se proyectará esta película animada dirigida por Aaron Horvath y Michael Jelenic. Una película de Illumination Entertainment\, Nintendo y Universal Pictures muy esperada por todos los niños que se estrenó en cines el pasado mes de abril de 2023. \nMientras trabajan en una avería subterránea\, los fontaneros de Brooklyn\, Mario y su hermano Luigi\, viajan por una misteriosa tubería hasta un nuevo mundo mágico. Pero\, cuando los hermanos se separan\, Mario deberá emprender una épica misión para encontrar a Luigi. Con la ayuda del champiñón local Toad y unas cuantas nociones de combate de la guerrera líder del Reino Champiñón\, la princesa Peach\, Mario descubre todo el poder que alberga en su interior. \nCartel:
URL:https://historico.ateneovalencia.es/evento/cine-infantil-super-mario-bros-la-pelicula-2/
LOCATION:Teatro Ateneo
CATEGORIES:Navidad
ATTACH;FMTTYPE=image/jpeg:https://historico.ateneovalencia.es/wp-content/uploads/2023/12/20231225-Super-Mario-Bros-La-Pelicula.jpg
END:VEVENT
BEGIN:VEVENT
DTSTART;TZID=Europe/Madrid:20240104T113000
DTEND;TZID=Europe/Madrid:20240104T133000
DTSTAMP:20260422T011958
CREATED:20231205T121735Z
LAST-MODIFIED:20231205T121735Z
UID:76108-1704367800-1704375000@historico.ateneovalencia.es
SUMMARY:Cine Infantil: "Rally Road Racers"
DESCRIPTION:La segunda proyección de película infantil "Rally Road Racers" será el jueves 4 de enero en horario matinal\, a las 11.30 horas\, en el Teatro Ateneo. Una nueva cita con el mejor cine de dibujos animados. Se proyectará esta película animada dirigida por Ross Venokur. Una película de Kintop Pictures\, Riverstone Pictures y Vanguard Animation Production y producida por los creadores de Shrek. Se estrenó en cines el pasado mes de julio de 2023. \nLos corredores compiten en un rally de alto riesgo a lo largo de la famosa ruta comercial Silk Road. Su sueño siempre fue el de competir en el famoso Rally de la Ruta de la Seda. Para ello tendrá que enfrentarse a unos locos corredores en una aventura única. La nueva película del equipo que nos sorprendió con SHREK. \nCartel:
URL:https://historico.ateneovalencia.es/evento/cine-infantil-rally-road-racers-2/
LOCATION:Teatro Ateneo
CATEGORIES:Navidad
ATTACH;FMTTYPE=image/jpeg:https://historico.ateneovalencia.es/wp-content/uploads/2023/12/20231226-Cine-Infantil-Rally-Road-Racers-1.jpg
END:VEVENT
BEGIN:VEVENT
DTSTART;TZID=Europe/Madrid:20240105T113000
DTEND;TZID=Europe/Madrid:20240105T133000
DTSTAMP:20260422T011958
CREATED:20231205T131233Z
LAST-MODIFIED:20231205T131233Z
UID:76113-1704454200-1704461400@historico.ateneovalencia.es
SUMMARY:Gala de Reyes 2024: Sus Majestades los Reyes Magos de Oriente reparten regalos en el Ateneo
DESCRIPTION:El Ateneo Mercantil mantendrá su tradicional Gala de Reyes\, que celebra desde hace 25 años\, y este viernes 5 de enero recibirá la visita de Sus Majestades Los Reyes Magos de Oriente\, que atenderán a cerca de un centenar niños y niñas que han reservado su cita previamente. \nLos Reyes Melchor\, Gaspar y Baltasar atenderán a los niños ateneístas antes de desfilar en la Cabalgata de Reyes de Valencia y en la intensa mágica tarde-noche para los niños y niñas de la ciudad. \nRecuerda que comenzará la recepción de regalos en Secretaría desde el lunes 18 de diciembre de 2023 hasta el 4 de enero de 2023.\nSi quieres que SSMM los Reyes Magos de Oriente entreguen un regalito a vuestros niños\, tan sólo tenéis que apuntaros en Secretaría y traer un regalo de pequeñas o medianas dimensiones. \nCartel:
URL:https://historico.ateneovalencia.es/evento/gala-de-reyes-2024-sus-majestades-los-reyes-magos-de-oriente-reparten-regalos-en-el-ateneo/
LOCATION:Salón Stolz - Ateneo Mercantil de Valencia\, Plaza del Ayuntamiento\, 18\, Valencia\, España\, Valencia\, Valencia\, 46002\, España
CATEGORIES:Navidad
ATTACH;FMTTYPE=image/jpeg:https://historico.ateneovalencia.es/wp-content/uploads/2023/12/20240105-Gala-Reyes-Magos-2024.jpg
END:VEVENT
BEGIN:VEVENT
DTSTART;TZID=Europe/Madrid:20240105T163000
DTEND;TZID=Europe/Madrid:20240105T193000
DTSTAMP:20260422T011958
CREATED:20231220T234454Z
LAST-MODIFIED:20231220T234537Z
UID:76220-1704472200-1704483000@historico.ateneovalencia.es
SUMMARY:Cabalgata de Reyes Magos 2024 con la temática "La Navidad"
DESCRIPTION:El Ateneo Mercantil de Valencia participa en cabalgata de los Reyes Magos de Oriente con dos trenecitos decorados al efecto\, que transportaran a niños y niñas ateneístas. Durante el recorrido\, nuestros pequeños\, repartieran cerca de 500 kilos de caramelos\, y 50 kilos de golosinas. \nLa cabalgata de Reyes está dirigida a los niños y niñas ateneístas de edades comprendidas entre los 6 a 12 años. Las inscripciones se harán en Secretaría (5ª planta) y el precio es de la inscripción es de 12 €. \nRecuerda que el punto de encuentro será el Paseo de la Alameda y la hora de citación será a las 16.30 horas.\nLa temática del disfraz para poder salir en el tren será LA NAVIDAD. Pueden ir de personajes del Belén como pastorcillos o bien de adorno de Navidad como una estrella o bola\, Estos son sólo algunos ejemplos\, pero puedes sorprendernos con tu imaginación. \nCartel:\n \n 
URL:https://historico.ateneovalencia.es/evento/cabalgata-de-reyes-magos-2024-con-la-tematica-la-navidad/
LOCATION:Paseo de la Alameda\, 28\, Valencia\, Valencia\, España
CATEGORIES:Navidad
ATTACH;FMTTYPE=image/jpeg:https://historico.ateneovalencia.es/wp-content/uploads/2022/12/20200105-Cabalgata-Reyes-Navidad-2019-scaled.jpg
END:VEVENT
END:VCALENDAR