BEGIN:VCALENDAR
VERSION:2.0
PRODID:-//Ateneo Mercantil de Valencia - ECPv6.0.4//NONSGML v1.0//EN
CALSCALE:GREGORIAN
METHOD:PUBLISH
X-WR-CALNAME:Ateneo Mercantil de Valencia
X-ORIGINAL-URL:https://historico.ateneovalencia.es
X-WR-CALDESC:Eventos para Ateneo Mercantil de Valencia
REFRESH-INTERVAL;VALUE=DURATION:PT1H
X-Robots-Tag:noindex
X-PUBLISHED-TTL:PT1H
BEGIN:VTIMEZONE
TZID:Europe/Madrid
BEGIN:DAYLIGHT
TZOFFSETFROM:+0100
TZOFFSETTO:+0200
TZNAME:CEST
DTSTART:20250330T010000
END:DAYLIGHT
BEGIN:STANDARD
TZOFFSETFROM:+0200
TZOFFSETTO:+0100
TZNAME:CET
DTSTART:20251026T010000
END:STANDARD
END:VTIMEZONE
BEGIN:VEVENT
DTSTART;TZID=Europe/Madrid:20250123T190000
DTEND;TZID=Europe/Madrid:20250123T210000
DTSTAMP:20260421T182046
CREATED:20250109T095331Z
LAST-MODIFIED:20250109T095413Z
UID:82674-1737658800-1737666000@historico.ateneovalencia.es
SUMMARY:Exaltación de la Reina del Ateneo 2025: La Srta. Carla Romero Olaso acompañada de su Corte de Honor
DESCRIPTION:El Ateneo Mercantil se complace en invitar a todos sus socios y acompañantes a la Solemne Ceremonia de Exaltación de la Reina del Ateneo 2025\, que tendrá lugar el próximo: \n📅 Jueves\, 23 de enero de 2025\n🕖 19 horas\n📍 Teatro Ateneo \nEn este magno acto\, tendremos el honor de proclamar a la Srta. Carla Romero Olaso como Reina del Ateneo 2025\, quien estará acompañada por su Corte de Honor. Esta ceremonia es una oportunidad única para dar la bienvenida a nuestra nueva soberana\, deseándole un reinado lleno de éxitos y alegría. \nTras el acto solemne\, la Reina del Ateneo invitará a todos los asistentes a un vino de honor en el elegante Salón Stolz\, donde compartiremos un momento de convivencia y celebración. \n\nPresentación y Bienvenida Especial\nDurante la ceremonia\, la nueva Reina será presentada en sociedad y recibirá la calurosa bienvenida de las comisiones falleras más cercanas al Ateneo Mercantil\, en un acto lleno de emoción\, tradición y orgullo. \n\n¡Reserva tu lugar en la Cena de Gala Fallera!\nRecuerda que ya están disponibles los tiques para la esperada Cena de Gala Fallera\, que se celebrará:\n📅 Viernes\, 21 de febrero de 2025\n💵 Precio por persona: 45 €\n🎶 Orquesta en directo para disfrutar de una noche inolvidable. \n\n¡Te esperamos para celebrar juntos esta maravillosa tarde y desearle a Carla un reinado memorable! \nCartel
URL:https://historico.ateneovalencia.es/evento/solemne-ceremonia-de-exaltacion-de-la-reina-del-ateneo-2025-la-srta-carla-romero-olaso-acompanada-de-su-corte-de-honor/
LOCATION:Teatro Ateneo
CATEGORIES:Fallas,Fiestas Sociales
ATTACH;FMTTYPE=image/jpeg:https://historico.ateneovalencia.es/wp-content/uploads/2025/01/20250123-Exaltacion-Reina-del-Ateneo-2025.jpg
END:VEVENT
END:VCALENDAR