BEGIN:VCALENDAR
VERSION:2.0
PRODID:-//Ateneo Mercantil de Valencia - ECPv6.0.4//NONSGML v1.0//EN
CALSCALE:GREGORIAN
METHOD:PUBLISH
X-WR-CALNAME:Ateneo Mercantil de Valencia
X-ORIGINAL-URL:https://historico.ateneovalencia.es
X-WR-CALDESC:Eventos para Ateneo Mercantil de Valencia
REFRESH-INTERVAL;VALUE=DURATION:PT1H
X-Robots-Tag:noindex
X-PUBLISHED-TTL:PT1H
BEGIN:VTIMEZONE
TZID:Europe/Madrid
BEGIN:DAYLIGHT
TZOFFSETFROM:+0100
TZOFFSETTO:+0200
TZNAME:CEST
DTSTART:20240331T010000
END:DAYLIGHT
BEGIN:STANDARD
TZOFFSETFROM:+0200
TZOFFSETTO:+0100
TZNAME:CET
DTSTART:20241027T010000
END:STANDARD
END:VTIMEZONE
BEGIN:VEVENT
DTSTART;TZID=Europe/Madrid:20240202T190000
DTEND;TZID=Europe/Madrid:20240202T203000
DTSTAMP:20260421T181039
CREATED:20240125T092340Z
LAST-MODIFIED:20240125T092340Z
UID:76508-1706900400-1706905800@historico.ateneovalencia.es
SUMMARY:Solemne ceremonia de Exaltación de la Reina del Ateneo 2024\, la Srta. Carla Rubio Alfonso
DESCRIPTION:El pistoletazo de salida de las Fallas en el Ateneo Mercantil de Valencia se dará este viernes 2 de febrero con el solemne acto de Exaltación de la Reina del Ateneo 2024\, la Srta. Carla Rubio Alfonso. Así\, ese viernes a las 19 horas en el Salón de Actos arrancan unos emotivos festejos que son especiales para todos los socios y falleros. \nLa Srta. Carla Rubio Alfonso es la vigésimo sexta Reina del Ateneo\, una figura\, cada vez más consolidada y afianzada desde que en 1998 se diera el principal protagonismo a la mujer en las celebraciones falleras en nuestra institución. Carla Rubio Alfonso estará acompañada por su Corte de Honor\, que la componen las damas: Ana Rubio Alfonso\, Sara García Años\, Elena Morales Ávila\, Carla Soler Serra\, Cristina Ramo Serrano y Aida Mora Ayuso. \nLa entrada al acto es gratuita y libre hasta completar el aforo del salón y al finalizar el mismo\, se ofrecerá un vino de honor por cortesía de la Reina del Ateneo. \nCartel:
URL:https://historico.ateneovalencia.es/evento/solemne-ceremonia-de-exaltacion-de-la-reina-del-ateneo-2024-la-srta-carla-rubio-alfonso/
LOCATION:Teatro Ateneo
CATEGORIES:Fallas
ATTACH;FMTTYPE=image/jpeg:https://historico.ateneovalencia.es/wp-content/uploads/2024/01/20240202-Exaltacion-Reina-Ateneo-2024-Carla-Rubio-Alfonso.jpg
END:VEVENT
END:VCALENDAR