BEGIN:VCALENDAR
VERSION:2.0
PRODID:-//Ateneo Mercantil de Valencia - ECPv6.0.4//NONSGML v1.0//EN
CALSCALE:GREGORIAN
METHOD:PUBLISH
X-WR-CALNAME:Ateneo Mercantil de Valencia
X-ORIGINAL-URL:https://historico.ateneovalencia.es
X-WR-CALDESC:Eventos para Ateneo Mercantil de Valencia
REFRESH-INTERVAL;VALUE=DURATION:PT1H
X-Robots-Tag:noindex
X-PUBLISHED-TTL:PT1H
BEGIN:VTIMEZONE
TZID:Europe/Madrid
BEGIN:DAYLIGHT
TZOFFSETFROM:+0100
TZOFFSETTO:+0200
TZNAME:CEST
DTSTART:20230326T010000
END:DAYLIGHT
BEGIN:STANDARD
TZOFFSETFROM:+0200
TZOFFSETTO:+0100
TZNAME:CET
DTSTART:20231029T010000
END:STANDARD
END:VTIMEZONE
BEGIN:VEVENT
DTSTART;TZID=Europe/Madrid:20230312T210000
DTEND;TZID=Europe/Madrid:20230319T233000
DTSTAMP:20260422T155212
CREATED:20230225T190430Z
LAST-MODIFIED:20230225T190527Z
UID:73275-1678654800-1679268600@historico.ateneovalencia.es
SUMMARY:Fallas 2023: Cena de bocadillos y tapas reservando en la cafetería del Noble
DESCRIPTION:El Ateneo Mercantil de Valencia celebrará sus cenas de bocadillos y tapas de las Fallas 2023 en el Salón Noble desde el domingo 12 al 19 de marzo. Será imprescindible reservar en la cafetería del Salón Noble para poder cenar. Todas las cenas darán comienzo a las 21 horas\, a excepción de la del día 19 de marzo que comenzará a las 22 horas. \nPara poder asistir es imprescindible reservar. Habrá baile con orquesta todos los días desde las 23 horas hasta la 1 de la madrugada\, excepto el día de San José\, que está la cremà de la Falla de la Plaza del Ayuntamiento. \nCartel:
URL:https://historico.ateneovalencia.es/evento/fallas-2023-cena-de-bocadillos-y-tapas-reservando-en-la-cafeteria-del-noble/
LOCATION:Salón Noble - Ateneo Mercantil de Valencia\, Plaza del Ayuntamiento 18\, Valencia\, Valencia\, 46002\, España
CATEGORIES:Fallas
ATTACH;FMTTYPE=image/jpeg:https://historico.ateneovalencia.es/wp-content/uploads/2022/02/20220313-Fallas-2022-Cenas-Bocadillo-y-Tapas.jpg
END:VEVENT
BEGIN:VEVENT
DTSTART;TZID=Europe/Madrid:20230319T103000
DTEND;TZID=Europe/Madrid:20230319T120000
DTSTAMP:20260422T155212
CREATED:20230225T194141Z
LAST-MODIFIED:20230225T194143Z
UID:73282-1679221800-1679227200@historico.ateneovalencia.es
SUMMARY:Fallas 2023: Misa y ofrenda a San José en la Iglesia de San Martín
DESCRIPTION:La Reina del Ateneo\, la Srta. Paula Rocafull Lis se despedirá de la semana fallera con la eucaristía en honor a San José en la Iglesia de San Martín (calle San Vicente\, 11). Tras la solemne misa\, la Reina y su Corte de Honor entregarán una ofrenda floral al patrón de Valencia. \nLa concentración será a las 10.30 en la puerta del Ateneo Mercantil. Los socios que quieran acompañar a la Reina y su Corte en un día tan especial podrán marchar tras la bandera ateneísta y se realizará el tradicional pasacalles entre el Ateneo y la Iglesia de San Martín que será amenizado por un trío de dolçainers y tabaler. Si quieren pueden acudir directamente a las 11 horas a la iglesia que es la hora de comienzo de la santa misa. \nCartel:\n 
URL:https://historico.ateneovalencia.es/evento/fallas-2023-misa-y-ofrenda-a-san-jose-en-la-iglesia-de-san-martin/
LOCATION:Externo\, Valencia
CATEGORIES:Fallas
ATTACH;FMTTYPE=image/jpeg:https://historico.ateneovalencia.es/wp-content/uploads/2023/02/20230319-MISA-SAN-JOSE.jpg
END:VEVENT
BEGIN:VEVENT
DTSTART;TZID=Europe/Madrid:20230319T140000
DTEND;TZID=Europe/Madrid:20230319T143000
DTSTAMP:20260422T155212
CREATED:20230225T134228Z
LAST-MODIFIED:20230319T100730Z
UID:73242-1679234400-1679236200@historico.ateneovalencia.es
SUMMARY:Mascletà 19 de Marzo: Pirotecnia Valenciana | Retransmisión en directo
DESCRIPTION:Décimo noveno y último día de mascletaes en Valencia. Retransmisión en directo del disparo que ofrece la Pirotecnia Valenciana. Desde Llanera de Ranes nos llega esta empresa que tiene presencia en la Catedral de la Pólvora desde 1988. \nSuscríbete gratuitamente al canal de Youtube: https://www.youtube.com/@tradicionesyculturavalencianas\nPara seguir la mascletà en directo: https://youtu.be/HXcYUfYcPQo\n\nJosé Manuel Crespo Vidal dirige una empresa de ámbito familiar\, fundada por Manuel Crespo Ortells en 1965 y regentada por él hasta su fallecimiento en 1992. Después la empresa es dirigida por su viuda María Vidal y su hijo\, el antes mencionado\, en aquel momento\, el pirotécnico más joven de España. \nJosé Manuel Crespo diseñó y disparó su primera mascletá en la plaza del Ayuntamiento con 17 años. Actualmente es uno de los mejores diseñadores de fuegos artificiales de nuestro tiempo.
URL:https://historico.ateneovalencia.es/evento/mascleta-19-de-marzo-fallas-2023-pirotecnia-valenciana-retransmision-en-directo/
LOCATION:Ateneo Mercantil Valencia\, Plaza del Ayuntamiento 18\, Valencia\, Valencia\, 46002\, España
CATEGORIES:Fallas
END:VEVENT
END:VCALENDAR