BEGIN:VCALENDAR
VERSION:2.0
PRODID:-//Ateneo Mercantil de Valencia - ECPv6.0.4//NONSGML v1.0//EN
CALSCALE:GREGORIAN
METHOD:PUBLISH
X-ORIGINAL-URL:https://historico.ateneovalencia.es
X-WR-CALDESC:Eventos para Ateneo Mercantil de Valencia
REFRESH-INTERVAL;VALUE=DURATION:PT1H
X-Robots-Tag:noindex
X-PUBLISHED-TTL:PT1H
BEGIN:VTIMEZONE
TZID:Europe/Madrid
BEGIN:DAYLIGHT
TZOFFSETFROM:+0100
TZOFFSETTO:+0200
TZNAME:CEST
DTSTART:20230326T010000
END:DAYLIGHT
BEGIN:STANDARD
TZOFFSETFROM:+0200
TZOFFSETTO:+0100
TZNAME:CET
DTSTART:20231029T010000
END:STANDARD
END:VTIMEZONE
BEGIN:VEVENT
DTSTART;TZID=Europe/Madrid:20230312T210000
DTEND;TZID=Europe/Madrid:20230319T233000
DTSTAMP:20260422T202840
CREATED:20230225T190430Z
LAST-MODIFIED:20230225T190527Z
UID:73275-1678654800-1679268600@historico.ateneovalencia.es
SUMMARY:Fallas 2023: Cena de bocadillos y tapas reservando en la cafetería del Noble
DESCRIPTION:El Ateneo Mercantil de Valencia celebrará sus cenas de bocadillos y tapas de las Fallas 2023 en el Salón Noble desde el domingo 12 al 19 de marzo. Será imprescindible reservar en la cafetería del Salón Noble para poder cenar. Todas las cenas darán comienzo a las 21 horas\, a excepción de la del día 19 de marzo que comenzará a las 22 horas. \nPara poder asistir es imprescindible reservar. Habrá baile con orquesta todos los días desde las 23 horas hasta la 1 de la madrugada\, excepto el día de San José\, que está la cremà de la Falla de la Plaza del Ayuntamiento. \nCartel:
URL:https://historico.ateneovalencia.es/evento/fallas-2023-cena-de-bocadillos-y-tapas-reservando-en-la-cafeteria-del-noble/
LOCATION:Salón Noble - Ateneo Mercantil de Valencia\, Plaza del Ayuntamiento 18\, Valencia\, Valencia\, 46002\, España
CATEGORIES:Fallas
ATTACH;FMTTYPE=image/jpeg:https://historico.ateneovalencia.es/wp-content/uploads/2022/02/20220313-Fallas-2022-Cenas-Bocadillo-y-Tapas.jpg
END:VEVENT
BEGIN:VEVENT
DTSTART;TZID=Europe/Madrid:20230313T140000
DTEND;TZID=Europe/Madrid:20230313T143000
DTSTAMP:20260422T202840
CREATED:20230225T120621Z
LAST-MODIFIED:20230313T085754Z
UID:73228-1678716000-1678717800@historico.ateneovalencia.es
SUMMARY:Mascletà 13 de Marzo: Pirotecnia Zarzoso | Retransmisión en directo
DESCRIPTION:Décimo tercer día de mascletaes en Valencia. Retransmisión en directo del disparo que ofrece la Pirotecnia Zarzoso. Llegan desde la comarca del Alto Palancia en Castellón\, de la localidad de Altura. Decir Zarzoso es sinónimo de tradición\, de ritmo de menos a más y de encendido a mano. Mascletaes como las de antes. El año pasado fue la única pirotecnia que se quedó sin disparar por la lluvia\, así que este año llegan con ganas de conquistar Valencia. \nSuscríbete gratuitamente al canal de Youtube: https://www.youtube.com/@tradicionesyculturavalencianas\nPara seguir la mascletà en directo: https://youtu.be/Hm81gRib6Ho\n\nLa Pirotecnia Zarzoso es una empresa dinámica e innovadora\, con dos sellos claros: la calidad y la tradición.  Ellos son los grandes 'culpables' de que el Tro de Bac no desapareciera\, ya que fue la última pirotecnia del mundo en resistir y no claudicaron\, de ahí que no desapareciera. El tradicional petardo de las despertás sigue vigente gracias a ellos. En cuanto a las mascletaes y los castillos\, cada vez innovan más y han sorprendido a propios y extraños\, y tienen el mérito en la última década de tener presencia en la Catedral de la Pólvora en la semana grande de Las Fallas. \nFundada en 1930\, lleva desde 1991\, por lo tanto 32 años seguidos\, disparando en la Catedral de la Pólvora. Fue fundada por D. Antonio Zarzoso Carot\, sus comienzos se desarrollaron por los pueblos de la provincia de Teruel y la Comunitat Valenciana. Actualmente está a cargo de Antonio Zarzoso Navarrete\, tercera generación de pirotécnicos. Disponen de un departamento técnico que se encarga del diseño de espectáculos\, un departamento de fabricación\, otro comercial y el departamento de montaje y disparo.
URL:https://historico.ateneovalencia.es/evento/mascleta-13-de-marzo-fallas-2023-pirotecnia-zarzoso-retransmision-en-directo/
LOCATION:Ateneo Mercantil Valencia\, Plaza del Ayuntamiento 18\, Valencia\, Valencia\, 46002\, España
CATEGORIES:Fallas
END:VEVENT
END:VCALENDAR