BEGIN:VCALENDAR
VERSION:2.0
PRODID:-//Ateneo Mercantil de Valencia - ECPv6.0.4//NONSGML v1.0//EN
CALSCALE:GREGORIAN
METHOD:PUBLISH
X-WR-CALNAME:Ateneo Mercantil de Valencia
X-ORIGINAL-URL:https://historico.ateneovalencia.es
X-WR-CALDESC:Eventos para Ateneo Mercantil de Valencia
REFRESH-INTERVAL;VALUE=DURATION:PT1H
X-Robots-Tag:noindex
X-PUBLISHED-TTL:PT1H
BEGIN:VTIMEZONE
TZID:Europe/Madrid
BEGIN:DAYLIGHT
TZOFFSETFROM:+0100
TZOFFSETTO:+0200
TZNAME:CEST
DTSTART:20230326T010000
END:DAYLIGHT
BEGIN:STANDARD
TZOFFSETFROM:+0200
TZOFFSETTO:+0100
TZNAME:CET
DTSTART:20231029T010000
END:STANDARD
END:VTIMEZONE
BEGIN:VEVENT
DTSTART;TZID=Europe/Madrid:20230310T210000
DTEND;TZID=Europe/Madrid:20230311T010000
DTSTAMP:20260421T213512
CREATED:20230225T181737Z
LAST-MODIFIED:20230225T181739Z
UID:73267-1678482000-1678496400@historico.ateneovalencia.es
SUMMARY:Segunda de las cenas de Fallas 2023: Pataqueta valenciana de embutido
DESCRIPTION:El Ateneo Mercantil de Valencia celebrará la segunda de las cenas de Fallas 2023\, el próximo viernes 10 de marzo\, con la cena de Pataqueta Valenciana de Embutido: longanizas\, chorizo y morcilla. La acto dará comienzo a las 21 horas en el Salón Noble del Ateneo Mercantil. Para poder asistir es imprescindible adquirir los tiques en Secretaría. Habrá baile con orquesta desde las 23 horas hasta la 1 de la madrugada. \nObservaciones: \n\nLos tiques para las Cenas de Titaina y la Cena de Embutido tendrán un precio de 6 euros cada tique. En las Cenas de Titaina cada socio podrá asistir sólo a una de las dos.\nTodos los tiques deberán ser recogidos personalmente\, previa presentación del carnet de socio\, en Secretaría del Ateneo. Será necesario mostrarlos en la entrada de cada cena.\nLas Cenas Valencianas consisten en un bocadillo de la típica Titaina del Cabañal\, acompañado de aperitivos\, cerveza\, vino y postre. La Cena de Embutido consiste en un bocadillo de longaniza\, morcilla y chorizo\, con pisto o habas acompañado de aperitivos\, cerveza\, vino y postre.\nLas cenas se celebrarán en el Salón Noble y tendrán un aforo máximo de 200 personas por día.\n\nCartel:
URL:https://historico.ateneovalencia.es/evento/segunda-de-las-cenas-de-fallas-2023-pataqueta-valenciana-de-embutido/
LOCATION:Salón Noble - Ateneo Mercantil de Valencia\, Plaza del Ayuntamiento 18\, Valencia\, Valencia\, 46002\, España
CATEGORIES:Fallas
ATTACH;FMTTYPE=image/jpeg:https://historico.ateneovalencia.es/wp-content/uploads/2023/02/20230310-Cena-Fallas-Embutido.jpg
END:VEVENT
BEGIN:VEVENT
DTSTART;TZID=Europe/Madrid:20230311T123000
DTEND;TZID=Europe/Madrid:20230311T130000
DTSTAMP:20260421T213512
CREATED:20230225T183920Z
LAST-MODIFIED:20230225T183920Z
UID:73271-1678537800-1678539600@historico.ateneovalencia.es
SUMMARY:Fallas 2023: Inauguración de la Barraca Fallera por la Reina del Ateneo \, la Srta. Paula Rocafull
DESCRIPTION:A las 12.30 horas arranca un gran día en nuestra institución con la inauguración de la Barraca Fallera del Salón Noble por parte de la Reina del Ateneo\, la Srta. Paula Rocafull Lis\, quien cortará la cinta de nuestra Barraca Fallera\, que es el casal fallero del Ateneo Mercantil\, junto a su corte de honor y la presidenta del Ateneo\, Carmen de Rosa. \nEl acto estará amenizado por la tuna\, que no quieren perderse una de las grandes tradiciones ateneístas\, la apertura de mano de Amstel\, nuestro patrocinador\, de la Barraca de Fallas en el Noble. Los socios tendrán cerveza gratis desde este sábado 11 de marzo hasta el día de San José. \nCartel:\n 
URL:https://historico.ateneovalencia.es/evento/fallas-2023-inauguracion-de-la-barraca-fallera-por-la-reina-del-ateneo-la-srta-paula-rocafull/
LOCATION:Salón Noble - Ateneo Mercantil de Valencia\, Plaza del Ayuntamiento 18\, Valencia\, Valencia\, 46002\, España
CATEGORIES:Fallas
ATTACH;FMTTYPE=image/jpeg:https://historico.ateneovalencia.es/wp-content/uploads/2023/02/20230311-Fallas-2023-Inauguracion-de-la-Barraca.jpg
END:VEVENT
BEGIN:VEVENT
DTSTART;TZID=Europe/Madrid:20230311T140000
DTEND;TZID=Europe/Madrid:20230311T143000
DTSTAMP:20260421T213512
CREATED:20230225T110929Z
LAST-MODIFIED:20230311T091405Z
UID:73224-1678543200-1678545000@historico.ateneovalencia.es
SUMMARY:Mascletà 11 de Marzo: Pirotecnia Tomás | Retransmisión en directo
DESCRIPTION:Undécimo día de mascletaes en Valencia. Retransmisión en directo del disparo que ofrece la Pirotecnia Tomás. Una empresa castellonense que viene de Benicarló\, aunque la fábrica se encuentra en Calig. \nSuscríbete gratuitamente al canal de Youtube: https://www.youtube.com/@tradicionesyculturavalencianas\nPara seguir la mascletà en directo: https://youtu.be/1kcEirN5Ycw\n\nFue fundada en 1994 con el objetivo de introducir un nuevo estilo de empresa pirotécnica\, basada principalmente en la creación y disparo de novedosos y originales espectáculos pirotécnicos. Actualmente\, bajo la supervisión D. Miguel Ángel Tomás Ortí\, la empresa Pirotecnia Tomás cuenta con una plantilla de Personal propio experto de dedicación habitual y fija (19 expertos) destinados a la actividad en el Sector de Pirotecnia (fabricación\, transporte\, manipulación\, montaje y disparo de espectáculos pirotécnicos).
URL:https://historico.ateneovalencia.es/evento/mascleta-11-de-marzo-fallas-2023-pirotecnia-tomas-retransmision-en-directo/
LOCATION:Ateneo Mercantil Valencia\, Plaza del Ayuntamiento 18\, Valencia\, Valencia\, 46002\, España
CATEGORIES:Fallas
END:VEVENT
BEGIN:VEVENT
DTSTART;TZID=Europe/Madrid:20230311T210000
DTEND;TZID=Europe/Madrid:20230312T010000
DTSTAMP:20260421T213512
CREATED:20230225T172847Z
LAST-MODIFIED:20230225T172849Z
UID:73260-1678568400-1678582800@historico.ateneovalencia.es
SUMMARY:Tercera cena de Fallas 2023: Pataqueta valenciana de Titaina del Cabanyal-Canyamelar
DESCRIPTION:El Ateneo Mercantil de Valencia celebra la tercera de las cenas de las Fallas 2023\, el próximo sábado 11 de marzo\, de nuevo con una cena de Pataqueta Valenciana de Titaina del Cabanyal-Canyamelar. La acto dará comienzo a las 21 horas en el Salón Noble del Ateneo Mercantil. Para poder asistir es imprescindible adquirir los tiques en Secretaría. Habrá baile con orquesta desde las 23 horas hasta la 1 de la madrugada. \nObservaciones: \n\nLos tiques para las Cenas de Titaina y la Cena de Embutido tienen un precio de 6 euros cada tique. En las Cenas de Titaina cada socio podrá asistir sólo a una de las dos.\nTodos los tiques deberán ser recogidos personalmente\, previa presentación del carnet de socio\, en Secretaría del Ateneo. Será necesario mostrar el tique en la entrada de cada cena.\nLas Cenas Valencianas consisten en un bocadillo de la típica Titaina del Cabañal\, acompañado de aperitivos\, cerveza\, vino y postre. La Cena de Embutido consiste en un bocadillo de longaniza\, morcilla y chorizo\, con pisto o habas acompañado de aperitivos\, cerveza\, vino y postre.\nLas cenas se celebrarán en el Salón Noble y tendrán un aforo máximo de 200 personas por día.\n\nCartel:
URL:https://historico.ateneovalencia.es/evento/tercera-cena-de-fallas-2023-pataqueta-valenciana-de-titaina-del-cabanyal-canyamelar/
LOCATION:Salón Noble - Ateneo Mercantil de Valencia\, Plaza del Ayuntamiento 18\, Valencia\, Valencia\, 46002\, España
CATEGORIES:Fallas
ATTACH;FMTTYPE=image/jpeg:https://historico.ateneovalencia.es/wp-content/uploads/2023/02/20230311-Cena-Titaina-2.jpg
END:VEVENT
END:VCALENDAR