BEGIN:VCALENDAR
VERSION:2.0
PRODID:-//Ateneo Mercantil de Valencia - ECPv6.0.4//NONSGML v1.0//EN
CALSCALE:GREGORIAN
METHOD:PUBLISH
X-ORIGINAL-URL:https://historico.ateneovalencia.es
X-WR-CALDESC:Eventos para Ateneo Mercantil de Valencia
REFRESH-INTERVAL;VALUE=DURATION:PT1H
X-Robots-Tag:noindex
X-PUBLISHED-TTL:PT1H
BEGIN:VTIMEZONE
TZID:Europe/Madrid
BEGIN:DAYLIGHT
TZOFFSETFROM:+0100
TZOFFSETTO:+0200
TZNAME:CEST
DTSTART:20230326T010000
END:DAYLIGHT
BEGIN:STANDARD
TZOFFSETFROM:+0200
TZOFFSETTO:+0100
TZNAME:CET
DTSTART:20231029T010000
END:STANDARD
END:VTIMEZONE
BEGIN:VEVENT
DTSTART;TZID=Europe/Madrid:20230307T140000
DTEND;TZID=Europe/Madrid:20230307T143000
DTSTAMP:20260422T000654
CREATED:20230225T011155Z
LAST-MODIFIED:20230306T194858Z
UID:73213-1678197600-1678199400@historico.ateneovalencia.es
SUMMARY:Mascletà 7 de Marzo: Pirotecnia Lluch | Retransmisión en directo
DESCRIPTION:Séptimo día de mascletaes en Valencia. Retransmisión en directo del disparo que ofrece la pirotecnia LLuch. Esta empresa cuenta con una enorme tradición en el Camp de Morvedre\, pero ya ha disparado en Valencia. Se estrenó en 2013 en La Catedral y participó durante varios años más\, pero en los últimos tiempos no había tenido presencia entre las grandes pirotecnias\, por lo que con total seguridad echará el resto. \nSuscríbete gratuitamente al canal de Youtube: https://www.youtube.com/@tradicionesyculturavalencianas\nPara seguir la mascletà en directo: https://youtu.be/PTGQ3OYpt1w\n\nPirotecnia Lluch llega desde Faura\, en Castellón. Son grandes especialistas en castillos\, pero en sus apariciones en las mascletaes de Valencia no dejó a nadie indiferente. Lógicamente una empresa no aparece de la nada\, quien la crea ha sido formado en alguna de las pirotecnias existentes y con buenos maestros polvoristas. En este caso uno de sus maestros fue el difunto Miguel Zamorano de la desaparecida AC que muchos seguro recordarán.
URL:https://historico.ateneovalencia.es/evento/mascleta-7-de-marzo-fallas-2023-pirotecnia-lluch-retransmision-en-directo/
LOCATION:Ateneo Mercantil Valencia\, Plaza del Ayuntamiento 18\, Valencia\, Valencia\, 46002\, España
CATEGORIES:Fallas
END:VEVENT
END:VCALENDAR