BEGIN:VCALENDAR
VERSION:2.0
PRODID:-//Ateneo Mercantil de Valencia - ECPv6.0.4//NONSGML v1.0//EN
CALSCALE:GREGORIAN
METHOD:PUBLISH
X-WR-CALNAME:Ateneo Mercantil de Valencia
X-ORIGINAL-URL:https://historico.ateneovalencia.es
X-WR-CALDESC:Eventos para Ateneo Mercantil de Valencia
REFRESH-INTERVAL;VALUE=DURATION:PT1H
X-Robots-Tag:noindex
X-PUBLISHED-TTL:PT1H
BEGIN:VTIMEZONE
TZID:Europe/Madrid
BEGIN:DAYLIGHT
TZOFFSETFROM:+0100
TZOFFSETTO:+0200
TZNAME:CEST
DTSTART:20230326T010000
END:DAYLIGHT
BEGIN:STANDARD
TZOFFSETFROM:+0200
TZOFFSETTO:+0100
TZNAME:CET
DTSTART:20231029T010000
END:STANDARD
END:VTIMEZONE
BEGIN:VEVENT
DTSTART;TZID=Europe/Madrid:20230306T140000
DTEND;TZID=Europe/Madrid:20230306T143000
DTSTAMP:20260421T175435
CREATED:20230225T001921Z
LAST-MODIFIED:20230306T115308Z
UID:73209-1678111200-1678113000@historico.ateneovalencia.es
SUMMARY:Mascletà 6 de Marzo: Pirotecnia Camp de Turia | Retransmisión en directo
DESCRIPTION:Sexto día de mascletaes en Valencia. Retransmisión en directo del disparo que ofrece una de las debutantes\, la pirotecnia Camp de Turia. Esta empresa pirotécnica se estrena ante las grandes ausencias de Ricasa o Reyes Martí\, entre otras\, este año 2023. \nSuscríbete gratuitamente al canal de Youtube: https://www.youtube.com/@tradicionesyculturavalencianas\nPara seguir la mascletà en directo: https://youtu.be/R9iHWyYEzUw\n\nFocs d'Artifici Camp del Turia es una empresa constituida en 1987 cuyo gerente pertenece a la tercera generación de una de las familias más arraigadas a la cultura y tradición pirotécnica valenciana. Son especializados en fabricación de producto nacional. Desde la tradicional y autentica traca valenciana\, hasta la fabricación de producto exclusivamente de uso profesional en todos sus formatos.
URL:https://historico.ateneovalencia.es/evento/mascleta-6-de-marzo-fallas-2023-pirotecnia-camp-de-turia-retransmision-en-directo/
LOCATION:Ateneo Mercantil Valencia\, Plaza del Ayuntamiento 18\, Valencia\, Valencia\, 46002\, España
CATEGORIES:Fallas
END:VEVENT
END:VCALENDAR