BEGIN:VCALENDAR
VERSION:2.0
PRODID:-//Ateneo Mercantil de Valencia - ECPv6.0.4//NONSGML v1.0//EN
CALSCALE:GREGORIAN
METHOD:PUBLISH
X-ORIGINAL-URL:https://historico.ateneovalencia.es
X-WR-CALDESC:Eventos para Ateneo Mercantil de Valencia
REFRESH-INTERVAL;VALUE=DURATION:PT1H
X-Robots-Tag:noindex
X-PUBLISHED-TTL:PT1H
BEGIN:VTIMEZONE
TZID:Europe/Madrid
BEGIN:DAYLIGHT
TZOFFSETFROM:+0100
TZOFFSETTO:+0200
TZNAME:CEST
DTSTART:20230326T010000
END:DAYLIGHT
BEGIN:STANDARD
TZOFFSETFROM:+0200
TZOFFSETTO:+0100
TZNAME:CET
DTSTART:20231029T010000
END:STANDARD
END:VTIMEZONE
BEGIN:VEVENT
DTSTART;TZID=Europe/Madrid:20230302T140000
DTEND;TZID=Europe/Madrid:20230302T143000
DTSTAMP:20260423T023231
CREATED:20220217T112828Z
LAST-MODIFIED:20230302T132006Z
UID:67158-1677765600-1677767400@historico.ateneovalencia.es
SUMMARY:Mascletà 2 de Marzo: Pirotecnia Dragón | Retransmisión en directo
DESCRIPTION:Segundo día de mascletaes en Valencia. Se retransmite en directo el disparo que ofrece la pirotecnia Dragón. Podrán seguir en directo este acontecimiento desde la Plaza del Ayuntamiento. \nSuscríbete gratuitamente al Canal de Youtube: https://www.youtube.com/@tradicionesyculturavalencianas\nPara seguir la mascletà en directo: https://youtu.be/Ox-p3gwB0D8\n\nEmpiezan las mascletaes en la Plaza del Ayuntamiento y la Pirotecnia Dragón dispara este 2 de marzo. Esta empresa pirotécnica valenciana están especializados en montajes de espectáculos artísticos\, digitales\, piromusicales\, acuáticos\, mascletàs\, etc. \nDebutante en 2020 en la Plaza del Ayuntamiento\, la Pirotecnia Dragón de Villena\, fue fundada en el año 2012. José María Enríquez y José Luis Matoses\, dos de los tres socios fundadores y con experiencia en empresas como Caballer y Brunchú. \nCabe destacar que en 2013 Pirotecnia Dragón ganó el primer Premio de Mascletaes Fiestas de la Magdalena en Castellón. Asimismo\, han disparado en el Concurso de Alicante de Fogueres de Sant Joan\, cinco años mascletà y tres años castillos de fuegos. \n 
URL:https://historico.ateneovalencia.es/evento/mascleta-2-de-marzo-fallas-2023-pirotecnia-dragon-retransmision-en-directo/
LOCATION:Ateneo Mercantil Valencia\, Plaza del Ayuntamiento 18\, Valencia\, Valencia\, 46002\, España
CATEGORIES:Fallas
END:VEVENT
END:VCALENDAR