BEGIN:VCALENDAR
VERSION:2.0
PRODID:-//Ateneo Mercantil de Valencia - ECPv6.0.4//NONSGML v1.0//EN
CALSCALE:GREGORIAN
METHOD:PUBLISH
X-WR-CALNAME:Ateneo Mercantil de Valencia
X-ORIGINAL-URL:https://historico.ateneovalencia.es
X-WR-CALDESC:Eventos para Ateneo Mercantil de Valencia
REFRESH-INTERVAL;VALUE=DURATION:PT1H
X-Robots-Tag:noindex
X-PUBLISHED-TTL:PT1H
BEGIN:VTIMEZONE
TZID:Europe/Madrid
BEGIN:DAYLIGHT
TZOFFSETFROM:+0100
TZOFFSETTO:+0200
TZNAME:CEST
DTSTART:20220327T010000
END:DAYLIGHT
BEGIN:STANDARD
TZOFFSETFROM:+0200
TZOFFSETTO:+0100
TZNAME:CET
DTSTART:20221030T010000
END:STANDARD
END:VTIMEZONE
BEGIN:VEVENT
DTSTART;TZID=Europe/Madrid:20220309T140000
DTEND;TZID=Europe/Madrid:20220309T143000
DTSTAMP:20260421T174338
CREATED:20220217T124925Z
LAST-MODIFIED:20220218T133110Z
UID:67180-1646834400-1646836200@historico.ateneovalencia.es
SUMMARY:Mascletà 9 de Marzo: Retransmisión en directo desde la Plaza del Ayuntamiento de Valencia
DESCRIPTION:Noveno día de mascletaes en Valencia. El Canal de Youtube del Ateneo retransmite en directo el disparo que ofrece la pirotecnia Crespo. Desde las 13.55 horas\, podrán seguir en directo este acontecimiento que regresa a la Plaza del Ayuntamiento tras un año y medio sin poder sentir el ruido y el olor a pólvora por las restricciones de la pandemia de la Covid-19. \nSuscríbete gratuitamente a nuestro Canal de Youtube: https://www.youtube.com/c/AteneoMercantildeValencia\nPara seguir la mascletà en directo: https://youtu.be/IunPeCLZnEk\n\nEmpiezan las mascletaes en la Plaza del Ayuntamiento y la Pirotecnia Crespo dispara este 9 de marzo. Una de las pirotecnias con solera\, uno de esos nombres que no pueden faltar en los disparos de fallas\, y así está siendo ininterrumpidamente desde 1989. Con su sede social en Alzira\, se ha convertido en la pirotecnia más reclamada y reconocida de La Ribera y las comarcas centrales. Presumen de realizar todo el proceso de fabricación de cada uno de los artefactos pirotécnicos que utilizan desde el inicio hasta que la mecha prende cada uno de sus disparos. Vicente Rodríguez (padre) se ha convertido en un referente entre los profesionales que cada año vienen disparando en el programa de mascletaes de fallas\, hasta que le cedió el testigo a su hijo.
URL:https://historico.ateneovalencia.es/evento/mascleta-9-de-marzo-retransmision-en-directo-desde-la-plaza-del-ayuntamiento-de-valencia/
LOCATION:Ateneo Mercantil Valencia\, Plaza del Ayuntamiento 18\, Valencia\, Valencia\, 46002\, España
CATEGORIES:Fallas
ATTACH;FMTTYPE=image/jpeg:https://historico.ateneovalencia.es/wp-content/uploads/2022/02/20220309-Mascleta.jpg
END:VEVENT
END:VCALENDAR