BEGIN:VCALENDAR
VERSION:2.0
PRODID:-//Ateneo Mercantil de Valencia - ECPv6.0.4//NONSGML v1.0//EN
CALSCALE:GREGORIAN
METHOD:PUBLISH
X-ORIGINAL-URL:https://historico.ateneovalencia.es
X-WR-CALDESC:Eventos para Ateneo Mercantil de Valencia
REFRESH-INTERVAL;VALUE=DURATION:PT1H
X-Robots-Tag:noindex
X-PUBLISHED-TTL:PT1H
BEGIN:VTIMEZONE
TZID:Europe/Madrid
BEGIN:DAYLIGHT
TZOFFSETFROM:+0100
TZOFFSETTO:+0200
TZNAME:CEST
DTSTART:20220327T010000
END:DAYLIGHT
BEGIN:STANDARD
TZOFFSETFROM:+0200
TZOFFSETTO:+0100
TZNAME:CET
DTSTART:20221030T010000
END:STANDARD
END:VTIMEZONE
BEGIN:VEVENT
DTSTART;TZID=Europe/Madrid:20220308T123000
DTEND;TZID=Europe/Madrid:20220308T130000
DTSTAMP:20260421T200257
CREATED:20220215T120922Z
LAST-MODIFIED:20220215T120924Z
UID:67117-1646742600-1646744400@historico.ateneovalencia.es
SUMMARY:Fallas 2022: Inauguración de la Barraca Fallera por la Reina del Ateneo \, la Srta. Ana Bonet
DESCRIPTION:A las 12.30 horas arranca un gran día en nuestra institución con la inauguración de la Barraca Fallera del Salón Noble por parte de la Reina del Ateneo\, la Srta. Ana Bonet Cerdá\, quien cortará la cinta de nuestra Barraca Fallera\, que es el casal fallero del Ateneo Mercantil\, junto a su corte de honor y la presidenta del Ateneo\, Carmen de Rosa. \nUn día que vuelve a coincidir\, como viene siendo habitual\, con el Día de la Mujer Trabajadora\, por lo que el Ateneo regalará a todas sus mujeres un pequeño detalle. El acto estará amenizado por la tuna\, que no quieren perderse una de las grandes tradiciones ateneístas\, la apertura de mano de Amstel\, nuestro patrocinador\, de la Barraca de Fallas en el Noble. \nCartel:
URL:https://historico.ateneovalencia.es/evento/fallas-2022-inauguracion-de-la-barraca-fallera-por-la-reina-del-ateneo-la-srta-ana-bonet/
LOCATION:Salón Noble - Ateneo Mercantil de Valencia\, Plaza del Ayuntamiento 18\, Valencia\, Valencia\, 46002\, España
CATEGORIES:Fallas
ATTACH;FMTTYPE=image/jpeg:https://historico.ateneovalencia.es/wp-content/uploads/2022/02/20220308-Fallas-2022-Barraca.jpg
END:VEVENT
BEGIN:VEVENT
DTSTART;TZID=Europe/Madrid:20220308T140000
DTEND;TZID=Europe/Madrid:20220308T143000
DTSTAMP:20260421T200257
CREATED:20220217T124219Z
LAST-MODIFIED:20220218T133049Z
UID:67177-1646748000-1646749800@historico.ateneovalencia.es
SUMMARY:Mascletà 8 de Marzo: Retransmisión en directo desde la Plaza del Ayuntamiento de Valencia
DESCRIPTION:Octavo día de mascletaes en Valencia. El Canal de Youtube del Ateneo retransmite en directo el disparo que ofrece la pirotecnia Martí. Desde las 13.55 horas\, podrán seguir en directo este acontecimiento que regresa a la Plaza del Ayuntamiento tras un año y medio sin poder sentir el ruido y el olor a pólvora por las restricciones de la pandemia de la Covid-19. \nSuscríbete gratuitamente a nuestro Canal de Youtube: https://www.youtube.com/c/AteneoMercantildeValencia\nPara seguir la mascletà en directo: https://youtu.be/oqXm5XMgKyc\n\nEmpiezan las mascletaes en la Plaza del Ayuntamiento y la Pirotecnia Martí dispara este 8 de marzo. Pirotecnia Martí nació en 1868 de la mano de José Martí Usó\, tatarabuelo de la jefa actual. Era dinamitero y\, para mejorar la economía familiar\, pensó que podía conseguir unos ingresos extra haciendo fuegos artificiales. Desde el siglo XIX hasta hoy\, la empresa ha cambiado mucho. \nNo es\, ni de lejos\, la pirotécnica más grande de la Comunitat Valenciana. Es una pequeña empresa familiar de cuarta generación en Onda\, pero sí que puede presumir de ser la más antigua y la segunda del España. ha ganado muchos premios: El Concurso Internacional de Fuegos Artificiales de Donostia\, el Concurso de Mascletaes de Alicante\, el Concurso Internacional de Fuegos de Artificio Ciutat de Tarragona...
URL:https://historico.ateneovalencia.es/evento/mascleta-8-de-marzo-retransmision-en-directo-desde-la-plaza-del-ayuntamiento-de-valencia/
LOCATION:Ateneo Mercantil Valencia\, Plaza del Ayuntamiento 18\, Valencia\, Valencia\, 46002\, España
CATEGORIES:Fallas
ATTACH;FMTTYPE=image/jpeg:https://historico.ateneovalencia.es/wp-content/uploads/2022/02/20220308-Mascleta.jpg
END:VEVENT
END:VCALENDAR