BEGIN:VCALENDAR
VERSION:2.0
PRODID:-//Ateneo Mercantil de Valencia - ECPv6.0.4//NONSGML v1.0//EN
CALSCALE:GREGORIAN
METHOD:PUBLISH
X-WR-CALNAME:Ateneo Mercantil de Valencia
X-ORIGINAL-URL:https://historico.ateneovalencia.es
X-WR-CALDESC:Eventos para Ateneo Mercantil de Valencia
REFRESH-INTERVAL;VALUE=DURATION:PT1H
X-Robots-Tag:noindex
X-PUBLISHED-TTL:PT1H
BEGIN:VTIMEZONE
TZID:Europe/Madrid
BEGIN:DAYLIGHT
TZOFFSETFROM:+0100
TZOFFSETTO:+0200
TZNAME:CEST
DTSTART:20220327T010000
END:DAYLIGHT
BEGIN:STANDARD
TZOFFSETFROM:+0200
TZOFFSETTO:+0100
TZNAME:CET
DTSTART:20221030T010000
END:STANDARD
END:VTIMEZONE
BEGIN:VEVENT
DTSTART;TZID=Europe/Madrid:20220304T140000
DTEND;TZID=Europe/Madrid:20220304T143000
DTSTAMP:20260422T013415
CREATED:20220217T115131Z
LAST-MODIFIED:20220218T132930Z
UID:67164-1646402400-1646404200@historico.ateneovalencia.es
SUMMARY:Mascletà 4 de Marzo: Retransmisión en directo desde la Plaza del Ayuntamiento de Valencia
DESCRIPTION:Cuarto día de mascletaes en Valencia. El Canal de Youtube del Ateneo retransmite en directo el disparo que ofrece la pirotecnia Zaragozana. Desde las 13.55 horas\, podrán seguir en directo este acontecimiento que regresa a la Plaza del Ayuntamiento tras un año y medio sin poder sentir el ruido y el olor a pólvora por las restricciones de la pandemia de la Covid-19. \nSuscríbete gratuitamente a nuestro Canal de Youtube: https://www.youtube.com/c/AteneoMercantildeValencia\nPara seguir la mascletà en directo: https://youtu.be/bi9C_80UUUE\n\nEmpiezan las mascletaes en la Plaza del Ayuntamiento y la Pirotecnia Zaragozana dispara este 4 de marzo. Esta pirotecnia aragonesa obtuvo el primer premio del concurso internacional de piromusicales Globalfest en Calgary (Canadá) en 2019\, año en el que inauguró y cerró la Feria de Albacete y la Feria de Abril de Sevilla. Una de las pirotecnias que más sorprendió en 2020 en la Plaza del Ayuntamiento de Valencia por su potencia y ritmo. Detrás de Zaragozana está el histórico Luis Brunchú\, un especialista en combinar formas artesanales con nuevas tecnologías y efectos de humo de colores\, truenos y silbadores.
URL:https://historico.ateneovalencia.es/evento/mascleta-4-de-marzo-retransmision-en-directo-desde-la-plaza-del-ayuntamiento-de-valencia/
LOCATION:Ateneo Mercantil Valencia\, Plaza del Ayuntamiento 18\, Valencia\, Valencia\, 46002\, España
CATEGORIES:Fallas
ATTACH;FMTTYPE=image/jpeg:https://historico.ateneovalencia.es/wp-content/uploads/2022/02/20220304-Mascleta.jpg
END:VEVENT
END:VCALENDAR