BEGIN:VCALENDAR
VERSION:2.0
PRODID:-//Ateneo Mercantil de Valencia - ECPv6.0.4//NONSGML v1.0//EN
CALSCALE:GREGORIAN
METHOD:PUBLISH
X-ORIGINAL-URL:https://historico.ateneovalencia.es
X-WR-CALDESC:Eventos para Ateneo Mercantil de Valencia
REFRESH-INTERVAL;VALUE=DURATION:PT1H
X-Robots-Tag:noindex
X-PUBLISHED-TTL:PT1H
BEGIN:VTIMEZONE
TZID:Europe/Madrid
BEGIN:DAYLIGHT
TZOFFSETFROM:+0100
TZOFFSETTO:+0200
TZNAME:CEST
DTSTART:20220327T010000
END:DAYLIGHT
BEGIN:STANDARD
TZOFFSETFROM:+0200
TZOFFSETTO:+0100
TZNAME:CET
DTSTART:20221030T010000
END:STANDARD
END:VTIMEZONE
BEGIN:VEVENT
DTSTART;TZID=Europe/Madrid:20220301T140000
DTEND;TZID=Europe/Madrid:20220301T143000
DTSTAMP:20260422T000635
CREATED:20220217T112018Z
LAST-MODIFIED:20220218T132821Z
UID:67155-1646143200-1646145000@historico.ateneovalencia.es
SUMMARY:Mascletà 1 de Marzo: Retransmisión en directo desde la Plaza del Ayuntamiento de Valencia
DESCRIPTION:Primer día de mascletaes en Valencia. El Canal de Youtube del Ateneo retransmite en directo el disparo que ofrece la pirotecnia Peñarroja. Desde las 13.55 horas\, podrán seguir en directo este acontecimiento que regresa a la Plaza del Ayuntamiento tras un año y medio sin poder sentir el ruido y el olor a pólvora por las restricciones de la pandemia de la Covid-19. \nSuscríbete gratuitamente a nuestro Canal de Youtube: https://www.youtube.com/c/AteneoMercantildeValencia\nPara seguir la mascletà en directo: https://youtu.be/v2bZr-Dm_eM\n\nEmpiezan las mascletaes en la Plaza del Ayuntamiento y como viene siendo habitual\, Pirotecnia Peñarroja dispara el 1 de marzo por petición propia. Esta empresa pirotécnica de la Vall d’Uixó\, de larga trayectoria profesional y vocación artesanal\, viene desarrollando su trabajo desde el año 1895 y desde hace décadas participa en las principales fiestas de la Comunitat Valenciana. \nPeñarroja ha diseñado una mascletà artesanal\, con productos fabricados en sus instalaciones de la Vall d’Uixó\, y combinará elementos clásicos con alguna novedad pirotécnica\, destacando su ritmo frenético desde el inicio hasta el final. \n 
URL:https://historico.ateneovalencia.es/evento/mascleta-1-de-marzo-retransmision-en-directo-desde-la-plaza-del-ayuntamiento-de-valencia/
LOCATION:Ateneo Mercantil Valencia\, Plaza del Ayuntamiento 18\, Valencia\, Valencia\, 46002\, España
CATEGORIES:Fallas
ATTACH;FMTTYPE=image/jpeg:https://historico.ateneovalencia.es/wp-content/uploads/2022/02/20220301-Mascleta.jpg
END:VEVENT
END:VCALENDAR