BEGIN:VCALENDAR
VERSION:2.0
PRODID:-//Ateneo Mercantil de Valencia - ECPv6.0.4//NONSGML v1.0//EN
CALSCALE:GREGORIAN
METHOD:PUBLISH
X-WR-CALNAME:Ateneo Mercantil de Valencia
X-ORIGINAL-URL:https://historico.ateneovalencia.es
X-WR-CALDESC:Eventos para Ateneo Mercantil de Valencia
REFRESH-INTERVAL;VALUE=DURATION:PT1H
X-Robots-Tag:noindex
X-PUBLISHED-TTL:PT1H
BEGIN:VTIMEZONE
TZID:Europe/Madrid
BEGIN:DAYLIGHT
TZOFFSETFROM:+0100
TZOFFSETTO:+0200
TZNAME:CEST
DTSTART:20220327T010000
END:DAYLIGHT
BEGIN:STANDARD
TZOFFSETFROM:+0200
TZOFFSETTO:+0100
TZNAME:CET
DTSTART:20221030T010000
END:STANDARD
END:VTIMEZONE
BEGIN:VEVENT
DTSTART;TZID=Europe/Madrid:20220217T090000
DTEND;TZID=Europe/Madrid:20220228T143000
DTSTAMP:20260421T175437
CREATED:20220208T133155Z
LAST-MODIFIED:20220208T165303Z
UID:66953-1645088400-1646058600@historico.ateneovalencia.es
SUMMARY:Venta de Tiques para Fallas 2022 - Cenas de Titaina y Embutido
DESCRIPTION:El Ateneo Mercantil de Valencia arranca la venta de tiques para las cenas sociales de las Fallas 2022 el próximo jueves 17 de febrero en Secretaría en horario de mañanas de 9 a 14.30 horas y se pueden adquirir boletos para las dos cenas de pataqueta de titaina del Cabanyal (10 y 12 de marzo) y para la cena de pataqueta valenciana de embutido (11 de marzo). Recordarles que las cenas comenzarán a las 21 horas y se realizarán en el Salón Noble. \nLas cenas valencianas consisten en el bocadillo de la típica titaina del Cabañal y bocadillo de embutido de longaniza\, chorizo y morcilla\, y ambas irán acompañadas de aperitivos\, cerveza\, vino y postre. \nEl aforo máximo de las cenas serán de 200 personas por día. \nObservaciones:  \n\nLos tiques para las Cenas de Titaina y la Cena de Embutido tendrán un precio de 6 euros cada tique. En las Cenas de Titaina cada socio podrá asistir sólo a una de las dos.\nTodos los tiques deberán ser recogidos personalmente\, previa presentación del carnet de socio\, en Secretaría del Ateneo\, a partir del día 17 de febrero. Sólo se venderán 2 tiques por socio. Cada socio podrá presentar un máximo de 3 carnets\, incluido el propio\, para recoger los tiques. Será necesario mostrarlos en la entrada de cada cena.\nLas Cenas Valencianas consisten en un bocadillo de la típica Titaina del Cabañal\, acompañado de aperitivos\, cerveza\, vino y postre. La Cena de Embutido consiste en un bocadillo de longaniza\, morcilla y chorizo\, con pisto o habas acompañado de aperitivos\, cerveza\, vino y postre.\nLas cenas se celebrarán en el Salón Noble y tendrán un aforo máximo de 200 personas por día.\n\n10 de Marzo (Jueves)\n21:00 horas – Salón Noble \nCena de Pataqueta Valenciana de Titaina del Cabanyal. \n23:00 horas\n \nBaile con orquesta\, hasta la 1 de la madrugada. \n11 de Marzo (Viernes)\n21:00 horas – Salón Noble \nCena de Pataqueta Valenciana de Embutido. \n23:00 horas\n \nBaile con orquesta\, hasta la 1 de la madrugada. \n12 de Marzo (Sábado)\n21:00 horas – Salón Noble \nCena de Pataqueta Valenciana de Titaina del Cabanyal. \n23:00 horas\n \nBaile con orquesta\, hasta la 1 de la madrugada. \nCartel:
URL:https://historico.ateneovalencia.es/evento/venta-de-tickets-para-fallas-2022-cenas-de-titaina-y-embutido/
LOCATION:Secretaría Ateneo
CATEGORIES:Fallas
ATTACH;FMTTYPE=image/jpeg:https://historico.ateneovalencia.es/wp-content/uploads/2022/02/20190309-Cena-Titaina-Cabanyal.jpg
END:VEVENT
END:VCALENDAR