BEGIN:VCALENDAR
VERSION:2.0
PRODID:-//Ateneo Mercantil de Valencia - ECPv6.0.4//NONSGML v1.0//EN
CALSCALE:GREGORIAN
METHOD:PUBLISH
X-ORIGINAL-URL:https://historico.ateneovalencia.es
X-WR-CALDESC:Eventos para Ateneo Mercantil de Valencia
REFRESH-INTERVAL;VALUE=DURATION:PT1H
X-Robots-Tag:noindex
X-PUBLISHED-TTL:PT1H
BEGIN:VTIMEZONE
TZID:Europe/Madrid
BEGIN:DAYLIGHT
TZOFFSETFROM:+0100
TZOFFSETTO:+0200
TZNAME:CEST
DTSTART:20220327T010000
END:DAYLIGHT
BEGIN:STANDARD
TZOFFSETFROM:+0200
TZOFFSETTO:+0100
TZNAME:CET
DTSTART:20221030T010000
END:STANDARD
END:VTIMEZONE
BEGIN:VEVENT
DTSTART;TZID=Europe/Madrid:20220204T190000
DTEND;TZID=Europe/Madrid:20220204T193000
DTSTAMP:20260423T074656
CREATED:20220204T132618Z
LAST-MODIFIED:20220204T132618Z
UID:66834-1644001200-1644003000@historico.ateneovalencia.es
SUMMARY:Imposición de la Banda a la Reina del Ateneo 2022\, Ana Bonet
DESCRIPTION:Un año más\, se acercan la Fiestas de Fallas y en el Ateneo Mercantil iniciamos los actos con la solemne celebración de la Imposición de la Banda de la Reina del Ateneo 2022 en el Salón Stolz. Una ceremonia en la que se presenta en sociedad a la Srta. Ana Bonet Cerdá y su Corte de Honor: las Srtas. Mónica Bascuñan Morell\, Marta Parra Herrero\, Irene Carreras Jiménez\, Elena Albo Jiménez\, Pepa Falomir Esteve y Julia Falomir Esteve. \nEl acto de exaltación de nuestra Reina es una ceremonia que se viene celebrando desde el año 1998 y en la que los socios ateneístas pueden conocer más de cerca a la que será nuestra abanderada durante todas las Fallas. Al finalizar el acto se servirá un vino de honor cortesía del Ateneo Mercantil de Valencia. \n 
URL:https://historico.ateneovalencia.es/evento/imposicion-de-la-banda-a-la-reina-del-ateneo-2022-ana-bonet/
LOCATION:Salón Stolz - Ateneo Mercantil de Valencia\, Plaza del Ayuntamiento\, 18\, Valencia\, España\, Valencia\, Valencia\, 46002\, España
CATEGORIES:Fallas
ATTACH;FMTTYPE=image/jpeg:https://historico.ateneovalencia.es/wp-content/uploads/2022/02/20200207-Exaltacion-Reina-del-Ateneo-2020.jpg
END:VEVENT
END:VCALENDAR