BEGIN:VCALENDAR
VERSION:2.0
PRODID:-//Ateneo Mercantil de Valencia - ECPv6.0.4//NONSGML v1.0//EN
CALSCALE:GREGORIAN
METHOD:PUBLISH
X-WR-CALNAME:Ateneo Mercantil de Valencia
X-ORIGINAL-URL:https://historico.ateneovalencia.es
X-WR-CALDESC:Eventos para Ateneo Mercantil de Valencia
REFRESH-INTERVAL;VALUE=DURATION:PT1H
X-Robots-Tag:noindex
X-PUBLISHED-TTL:PT1H
BEGIN:VTIMEZONE
TZID:Europe/Madrid
BEGIN:DAYLIGHT
TZOFFSETFROM:+0100
TZOFFSETTO:+0200
TZNAME:CEST
DTSTART:20230326T010000
END:DAYLIGHT
BEGIN:STANDARD
TZOFFSETFROM:+0200
TZOFFSETTO:+0100
TZNAME:CET
DTSTART:20231029T010000
END:STANDARD
END:VTIMEZONE
BEGIN:VEVENT
DTSTART;TZID=Europe/Madrid:20230203T190000
DTEND;TZID=Europe/Madrid:20230203T203000
DTSTAMP:20260421T021931
CREATED:20230130T131430Z
LAST-MODIFIED:20230130T131432Z
UID:72812-1675450800-1675456200@historico.ateneovalencia.es
SUMMARY:Solemne ceremonia de Exaltación de la Reina del Ateneo 2023\, la Srta. Paula Rocafull Lis
DESCRIPTION:El pistoletazo de salida de las Fallas en el Ateneo Mercantil de Valencia se dará este viernes 3 de febrero con el solemne acto de Exaltación de la Reina del Ateneo 2023\, la srta. Paula Rocafull Lis. Así\, ese viernes a las 19 horas en el Salón de Actos arrancan unos emotivos festejos que son especiales para todos los socios y falleros. \nLa Srta. Paula Rocafull Lis es la vigésimo quinta Reina del Ateneo\, una figura\, cada vez más consolidada y afianzada desde que en 1998 se diera el principal protagonismo a la mujer en las celebraciones falleras en nuestra institución. Paula Rocafull estará acompañada por su Corte de Honor\, que la componen las damas: Alba Cerverón Carballada\, Nuria Martínez Balaguer\, Paula Hernández Ribelles y Laura Martín Sancho. \nLa entrada al acto es gratuita y libre hasta completar el aforo del salón y al finalizar el mismo\, se ofrecerá un vino de honor por cortesía de la Reina del Ateneo. \nCartel:
URL:https://historico.ateneovalencia.es/evento/solemne-ceremonia-de-exaltacion-de-la-reina-del-ateneo-2023-la-srta-paula-rocafull-lis/
LOCATION:Teatro Ateneo
CATEGORIES:Fallas
ATTACH;FMTTYPE=image/jpeg:https://historico.ateneovalencia.es/wp-content/uploads/2023/01/20230203-Exaltacion-Reina-del-Ateneo-2023.jpg
END:VEVENT
END:VCALENDAR