BEGIN:VCALENDAR
VERSION:2.0
PRODID:-//Ateneo Mercantil de Valencia - ECPv6.0.4//NONSGML v1.0//EN
CALSCALE:GREGORIAN
METHOD:PUBLISH
X-WR-CALNAME:Ateneo Mercantil de Valencia
X-ORIGINAL-URL:https://historico.ateneovalencia.es
X-WR-CALDESC:Eventos para Ateneo Mercantil de Valencia
REFRESH-INTERVAL;VALUE=DURATION:PT1H
X-Robots-Tag:noindex
X-PUBLISHED-TTL:PT1H
BEGIN:VTIMEZONE
TZID:Europe/Madrid
BEGIN:DAYLIGHT
TZOFFSETFROM:+0100
TZOFFSETTO:+0200
TZNAME:CEST
DTSTART:20240331T010000
END:DAYLIGHT
BEGIN:STANDARD
TZOFFSETFROM:+0200
TZOFFSETTO:+0100
TZNAME:CET
DTSTART:20241027T010000
END:STANDARD
BEGIN:DAYLIGHT
TZOFFSETFROM:+0100
TZOFFSETTO:+0200
TZNAME:CEST
DTSTART:20250330T010000
END:DAYLIGHT
BEGIN:STANDARD
TZOFFSETFROM:+0200
TZOFFSETTO:+0100
TZNAME:CET
DTSTART:20251026T010000
END:STANDARD
END:VTIMEZONE
BEGIN:VEVENT
DTSTART;TZID=Europe/Madrid:20241122T170000
DTEND;TZID=Europe/Madrid:20250112T203000
DTSTAMP:20260421T170845
CREATED:20241123T112340Z
LAST-MODIFIED:20241204T015305Z
UID:82250-1732294800-1736713800@historico.ateneovalencia.es
SUMMARY:Exposición Clicks Playmóbil - La mayor colección privada de Europa llega a Valencia con 25.000 piezas
DESCRIPTION:Llega a Valencia y al Ateneo Mercantil de Valencia la mayor colección privada de Europa de clicks de Playmóbil\, que contará en esta ocasión con más de 25.000 piezas que invaden el Ateneo Mercantil (Plaza del Ayuntamiento\, 18 de Valencia) un año más para celebrar las Navidades con los más pequeños\, bueno y los no tan pequeños porque esta exposición la pueden disfrutar todos los integrantes de la familia. \nEste nueva exposición del universo de los clicks recrean dos espectaculares dioramas: ‘La época medieval’ con más de 100 metros cuadrados de diorama y ‘El mundo de las hadas’ y hay que destacar que está colección privada procede de Almería\, Salamanca\, Alicante\, Murcia\, Madrid y Valencia. \nHorarios y entradas a la venta por 4€\nEsta exposición de Clicks de Playmóbil abre sus puertas el viernes 22 de noviembre a partir de las 17:30 horas y permanecerá abierta hasta las 20:30 horas. \nLos sábados y domingos el horario es de 11.00 a 14.00h. y de 17.00 a 20.30h. Ya durante las vacaciones de Navidad la exposición abrirá ininterrumpidamente todos los días de 11.00 a 14.00 y de 17.00 a 20.30. Los días 24 y 31 de diciembre abrirá sólo por la mañana. Los días 25 de diciembre\, 1 y 6 de enero abrirá sólo por la tarde. Tras las fiestas navideñas abrirá el viernes 10 de enero y 11 y 12\, tanto de mañana como de tarde. \nEl precio de la entrada es de 4 euros por persona (niños y adultos). Se pueden adquirir en las propias taquillas del Ateneo Mercantil y a través de la web. \nEntradas Online comprar aquí\nCartel:
URL:https://historico.ateneovalencia.es/evento/exposicion-clicks-playmobil-la-mayor-coleccion-privada-de-europa-llega-a-valencia-con-25-000-piezas/
LOCATION:Salón Noble - Ateneo Mercantil de Valencia\, Plaza del Ayuntamiento 18\, Valencia\, Valencia\, 46002\, España
CATEGORIES:Exposiciones,Navidad
ATTACH;FMTTYPE=image/jpeg:https://historico.ateneovalencia.es/wp-content/uploads/2024/11/20241122-Exposicion-Clics-Playmobil.jpg
END:VEVENT
BEGIN:VEVENT
DTSTART;TZID=Europe/Madrid:20241225T140000
DTEND;TZID=Europe/Madrid:20250106T180000
DTSTAMP:20260421T170845
CREATED:20241203T110237Z
LAST-MODIFIED:20241203T110504Z
UID:82361-1735135200-1736186400@historico.ateneovalencia.es
SUMMARY:Celebra las Navidades 2024 en el Restaurante Ateneo Mercantil - Descubre nuestros Menús
DESCRIPTION:Estas fiestas\, el Restaurante Ateneo te invita a vivir una experiencia gastronómica única con nuestros exclusivos cuatro menús navideños\, diseñados para cada ocasión especial de esta temporada. Disfruta de la magia de la Navidad en un ambiente elegante y acogedor\, con la mejor cocina y vistas inigualables a la Plaza del Ayuntamiento. \n\n1. Menú de Navidad – 25 de diciembre\nCelebra el día más especial del año con un menú que combina tradición y sofisticación: \n\nPrecio: 65 € socios | 75 € no socios\nIncluye: Bienvenida\, aperitivos\, primer plato\, un principal a escoger\, postre y bodega Ladrón de Lunas.\nMenú Infantil: 35 € (Entrante individual\, principal\, postre y bebida).\n\n\n2. Menú Cena de Nochevieja – 31 de diciembre\nDespide el 2024 con una noche inolvidable en el Salón Stolz\, con fiesta\, DJ y todo lo necesario para empezar el año con energía: \n\nPrecio: 110 € socios | 150 € no socios\nIncluye: Copa de cava de bienvenida\, aperitivos\, entrante\, principal\, postre\, uvas\, cotillón y bodega de vinos Vicente Gandía.\nMenú Infantil: 35 € (Entrante individual\, principal\, postre y bebida).\n\n\n3. Menú de Año Nuevo – 1 de enero\nComienza el 2025 disfrutando de una propuesta gastronómica pensada para compartir: \n\nPrecio: 40 € socios | 45 € no socios\nIncluye: Aperitivo\, entrantes a compartir\, un principal a escoger y bodega Ladrón de Lunas.\nMenú Infantil: 35 € (Entrante individual\, principal\, postre y bebida).\n\n\n4. Menú de Reyes – 6 de enero\nCierra las fiestas con el toque mágico del Día de Reyes\, ideal para disfrutar en familia: \n\nPrecio: 45 € socios | 50 € no socios\nIncluye: Bienvenida\, aperitivo\, primer plato\, principal a escoger\, postre y bodega Ladrón de Lunas.\nMenú Infantil: 35 € (Entrante individual\, principal\, postre y bebida).\n\n\n¡Reserva ya y celebra las fiestas con nosotros!\nEn el Restaurante Ateneo\, cuidamos cada detalle para que tu Navidad sea inolvidable. Ven a disfrutar de una propuesta gastronómica excepcional en un entorno único. 🎄✨ \nMenús:\n \nCondiciones de Contratación y de Cancelación:\n \n 
URL:https://historico.ateneovalencia.es/evento/celebra-las-navidades-2024-en-el-restaurante-ateneo-mercantil-descubre-nuestros-menus/
LOCATION:Ateneo Restaurante\, Plaza del Ayuntamiento\, 18\, Valencia\, España\, Valencia\, Comunidad Valenciana\, 46002\, España
CATEGORIES:Navidad
ATTACH;FMTTYPE=image/jpeg:https://historico.ateneovalencia.es/wp-content/uploads/2024/12/20241225-Menus-Navidad-Ateneo-2024.jpg
END:VEVENT
BEGIN:VEVENT
DTSTART;TZID=Europe/Madrid:20250101T190000
DTEND;TZID=Europe/Madrid:20250101T210000
DTSTAMP:20260421T170845
CREATED:20241112T174911Z
LAST-MODIFIED:20241204T011720Z
UID:82182-1735758000-1735765200@historico.ateneovalencia.es
SUMMARY:Gran Concierto de Año Nuevo 2025 - Siente Viena en el Ateneo Mercantil
DESCRIPTION:El Ateneo Mercantil acoge por sexto año consecutivo el Gran Concierto de Año Nuevo en Valencia\, que tendrá lugar el 1 de enero de 2025 a partir de las 19:00 horas en el Teatro Ateneo. Una cita que se ha convertido ya en ineludible para el público valenciano tras el éxito de las anteriores ediciones\, en las que en todas terminó por colgarse el cartel de 'Todo Vendido'. Se espera repetir un lleno absoluto\, ya que en el primer día de preventa de localidades ya se han vendido más de un centenar de ellas. \nEl Concierto de este año será mucho más que música; será un acto de solidaridad y compromiso gracias a sus patrocinadores. El principal socio patrocinador\, Power Electronics\, aporta su fortaleza y modernidad para formar junto al Ateneo Mercantil un binomio de sobriedad y vanguardia. Juntos lideran una noble causa: la reposición de los instrumentos de músicos afectados por la DANA de Valencia\, devolviendo la esperanza y la voz a la música. \nAdemás\, contamos nuevamente con Caixa Popular\, patrocinador fiel desde la primera edición\, y con Argimiro Joyero\, colaborador especial y gran defensor de la música clásica en Valencia. Gracias a su generoso apoyo\, este concierto se convierte en un evento único para empezar el año con la elegancia y el espíritu de Viena en el corazón de Valencia. \nSiente Viena en el Ateneo Mercantil de Valencia y revive la magia de Johann Strauss como nunca antes. No hay mejor regalo para estas Navidades que unas buenas entradas para el mejor concierto de música clásica de estas Navidades en Valencia. \nEl Gran Concierto de Año Nuevo será dirigido de nuevo por el reconocido director artístico y musical valenciano\, Juan Antonio Ramírez\, cabeza visible de la prestigiosa Orquesta Sinfónica del Mediterráneo\, que es un clásico en este tipo de conciertos de apertura musical en la capital del Turia\, ya que ha hecho este mismo concierto en el Palau de la Música\, en Les Arts y ahora en el Ateneo Mercantil de Valencia. \nJuan Antonio Ramírez siempre se ha caracterizado por respetar al máximo el espíritu vienés de la mano del extenso repertorio de la familia Strauss e introduciendo pequeñas variantes y sorpresas que gustan mucho al público. El director volverá a sumergir al público en la elegancia y el encanto del mundo de Johann Strauss. Y como no contará con las alegres polkas y los majestuosos valses. \nLa Orquesta Sinfónica del Mediterráneo volverá a ofrecer una interpretación magistral y transportará a los presentes a través de un viaje sonoro encantador y lleno de emociones como ha hecho desde el año 2020 ininterrumpidamente. \nVenta de entradas:\n\n\nEn taquillas del Ateneo Mercantil (Descuento 10% a socios del Ateneo)\n\n\nVenta Online en ateneovalencia.es: pincha aquí\n\n\nCartel:
URL:https://historico.ateneovalencia.es/evento/gran-concierto-de-ano-nuevo-2025-siente-viena-en-el-ateneo-mercantil/
LOCATION:Teatro Ateneo
CATEGORIES:Conciertos y Recitales,Navidad
ATTACH;FMTTYPE=image/jpeg:https://historico.ateneovalencia.es/wp-content/uploads/2024/11/20250101-Concierto-Anyo-Nuevo.jpg
END:VEVENT
END:VCALENDAR