BEGIN:VCALENDAR
VERSION:2.0
PRODID:-//Ateneo Mercantil de Valencia - ECPv6.0.4//NONSGML v1.0//EN
CALSCALE:GREGORIAN
METHOD:PUBLISH
X-ORIGINAL-URL:https://historico.ateneovalencia.es
X-WR-CALDESC:Eventos para Ateneo Mercantil de Valencia
REFRESH-INTERVAL;VALUE=DURATION:PT1H
X-Robots-Tag:noindex
X-PUBLISHED-TTL:PT1H
BEGIN:VTIMEZONE
TZID:Europe/Madrid
BEGIN:DAYLIGHT
TZOFFSETFROM:+0100
TZOFFSETTO:+0200
TZNAME:CEST
DTSTART:20230326T010000
END:DAYLIGHT
BEGIN:STANDARD
TZOFFSETFROM:+0200
TZOFFSETTO:+0100
TZNAME:CET
DTSTART:20231029T010000
END:STANDARD
END:VTIMEZONE
BEGIN:VEVENT
DTSTART;TZID=Europe/Madrid:20230312T210000
DTEND;TZID=Europe/Madrid:20230319T233000
DTSTAMP:20260421T223051
CREATED:20230225T190430Z
LAST-MODIFIED:20230225T190527Z
UID:73275-1678654800-1679268600@historico.ateneovalencia.es
SUMMARY:Fallas 2023: Cena de bocadillos y tapas reservando en la cafetería del Noble
DESCRIPTION:El Ateneo Mercantil de Valencia celebrará sus cenas de bocadillos y tapas de las Fallas 2023 en el Salón Noble desde el domingo 12 al 19 de marzo. Será imprescindible reservar en la cafetería del Salón Noble para poder cenar. Todas las cenas darán comienzo a las 21 horas\, a excepción de la del día 19 de marzo que comenzará a las 22 horas. \nPara poder asistir es imprescindible reservar. Habrá baile con orquesta todos los días desde las 23 horas hasta la 1 de la madrugada\, excepto el día de San José\, que está la cremà de la Falla de la Plaza del Ayuntamiento. \nCartel:
URL:https://historico.ateneovalencia.es/evento/fallas-2023-cena-de-bocadillos-y-tapas-reservando-en-la-cafeteria-del-noble/
LOCATION:Salón Noble - Ateneo Mercantil de Valencia\, Plaza del Ayuntamiento 18\, Valencia\, Valencia\, 46002\, España
CATEGORIES:Fallas
ATTACH;FMTTYPE=image/jpeg:https://historico.ateneovalencia.es/wp-content/uploads/2022/02/20220313-Fallas-2022-Cenas-Bocadillo-y-Tapas.jpg
END:VEVENT
BEGIN:VEVENT
DTSTART;TZID=Europe/Madrid:20230318T140000
DTEND;TZID=Europe/Madrid:20230318T143000
DTSTAMP:20260421T223051
CREATED:20230225T132404Z
LAST-MODIFIED:20230227T104552Z
UID:73238-1679148000-1679149800@historico.ateneovalencia.es
SUMMARY:Mascletà 18 de Marzo: Pirotecnia Aitana | Retransmisión en directo
DESCRIPTION:Décimo octavo día de mascletaes en Valencia. Retransmisión en directo del disparo que ofrece la Pirotecnia Aitana. Fundada un 4 de diciembre de 2007\, el día de Santa Barbara (patrona de los pirotécnicos). Una empresa que naaaaació de la unión de varios especialistas en el mundo de la pirotecnia. \nSuscríbete gratuitamente al canal de Youtube: https://www.youtube.com/@tradicionesyculturavalencianas\nPara seguir la mascletà en directo:\n\nEsta pirotecnia nació de la unión de varios especialistas en el mundo de la pólvora\, que decidieron emprender este proyecto (tras haber obtenido todos los informes favorables de los distintos organismos locales\, provinciales y nacionales). \nAitana se maneja muy bien por todos los rincones de España y la Comunidad Valenciana. En cada pueblo\, en cada fiesta. Pero si hay algún disparo especial para esta pirotecnia de Bélgida\, ese es el del día de la cabalgata de los Reyes Magos de Alc
URL:https://historico.ateneovalencia.es/evento/mascleta-18-de-marzo-fallas-2023-pirotecnia-aitana-retransmision-en-directo/
LOCATION:Ateneo Mercantil Valencia\, Plaza del Ayuntamiento 18\, Valencia\, Valencia\, 46002\, España
CATEGORIES:Fallas
END:VEVENT
BEGIN:VEVENT
DTSTART;TZID=Europe/Madrid:20230318T203000
DTEND;TZID=Europe/Madrid:20230318T230000
DTSTAMP:20260421T223051
CREATED:20230225T192309Z
LAST-MODIFIED:20230225T192309Z
UID:73279-1679171400-1679180400@historico.ateneovalencia.es
SUMMARY:Fallas 2023: Ofrenda a la Virgen de los Desamparados de Valencia
DESCRIPTION:El Ateneo Mercantil de Valencia desfila en la Ofrenda a la Virgen de los Desamparados como entidad cívica\, con dos filas en las que estarán la Reina del Ateneo 2023\, la Srta Paula Rocafull Lis y sus Damas de Honor\, la presidenta Carmen de Rosa\, la Junta Directiva y la comisión de las Fallas del Ateneo. Una tarde-noche inolvidable para la comitiva ateneísta que tras la ofrenda accederán a la Real Basílica de los Desamparados\, un momento inolvidable. \n\nCartel:\n 
URL:https://historico.ateneovalencia.es/evento/fallas-2023-ofrenda-a-la-virgen-de-los-desamparados-de-valencia/
LOCATION:Ateneo Mercantil Valencia\, Plaza del Ayuntamiento 18\, Valencia\, Valencia\, 46002\, España
CATEGORIES:Fallas
ATTACH;FMTTYPE=image/jpeg:https://historico.ateneovalencia.es/wp-content/uploads/2022/02/20220317-Fallas-2022-Ofrenda-a-la-Virgen.jpg
END:VEVENT
END:VCALENDAR