BEGIN:VCALENDAR
VERSION:2.0
PRODID:-//Ateneo Mercantil de Valencia - ECPv6.0.4//NONSGML v1.0//EN
CALSCALE:GREGORIAN
METHOD:PUBLISH
X-ORIGINAL-URL:https://historico.ateneovalencia.es
X-WR-CALDESC:Eventos para Ateneo Mercantil de Valencia
REFRESH-INTERVAL;VALUE=DURATION:PT1H
X-Robots-Tag:noindex
X-PUBLISHED-TTL:PT1H
BEGIN:VTIMEZONE
TZID:Europe/Madrid
BEGIN:DAYLIGHT
TZOFFSETFROM:+0100
TZOFFSETTO:+0200
TZNAME:CEST
DTSTART:20230326T010000
END:DAYLIGHT
BEGIN:STANDARD
TZOFFSETFROM:+0200
TZOFFSETTO:+0100
TZNAME:CET
DTSTART:20231029T010000
END:STANDARD
END:VTIMEZONE
BEGIN:VEVENT
DTSTART;TZID=Europe/Madrid:20230309T210000
DTEND;TZID=Europe/Madrid:20230310T010000
DTSTAMP:20260422T013646
CREATED:20230225T175750Z
LAST-MODIFIED:20230225T175750Z
UID:73264-1678395600-1678410000@historico.ateneovalencia.es
SUMMARY:Primera cena de Fallas 2023: Pataqueta valenciana de Titaina del Cabanyal-Canyamelar
DESCRIPTION:El Ateneo Mercantil de Valencia arranca las cenas de Fallas 2023 el próximo jueves 9 de marzo\, con una cena de Pataqueta Valenciana de Titaina del Cabanyal-Canyamelar. La acto dará comienzo a las 21 horas en el Salón Noble del Ateneo Mercantil. Para poder asistir es imprescindible adquirir los tiques en Secretaría. Habrá baile con orquesta desde las 23 horas hasta la 1 de la madrugada. \nObservaciones: \n\nLos tiques para las Cenas de Titaina y la Cena de Embutido tienen un precio de 6 euros cada tique. En las Cenas de Titaina cada socio podrá asistir sólo a una de las dos.\nTodos los tiques deberán ser recogidos personalmente\, previa presentación del carnet de socio\, en Secretaría del Ateneo. Será necesario mostrar el tique en la entrada de cada cena.\nLas Cenas Valencianas consisten en un bocadillo de la típica Titaina del Cabañal\, acompañado de aperitivos\, cerveza\, vino y postre. La Cena de Embutido consiste en un bocadillo de longaniza\, morcilla y chorizo\, con pisto o habas acompañado de aperitivos\, cerveza\, vino y postre.\nLas cenas se celebrarán en el Salón Noble y tendrán un aforo máximo de 200 personas por día.\n\nCartel:\n 
URL:https://historico.ateneovalencia.es/evento/primera-cena-de-fallas-2023-pataqueta-valenciana-de-titaina-del-cabanyal-canyamelar/
LOCATION:Salón Noble - Ateneo Mercantil de Valencia\, Plaza del Ayuntamiento 18\, Valencia\, Valencia\, 46002\, España
CATEGORIES:Fallas
ATTACH;FMTTYPE=image/jpeg:https://historico.ateneovalencia.es/wp-content/uploads/2023/02/20230311-Cena-Titaina-2.jpg
END:VEVENT
BEGIN:VEVENT
DTSTART;TZID=Europe/Madrid:20230310T140000
DTEND;TZID=Europe/Madrid:20230310T143000
DTSTAMP:20260422T013646
CREATED:20230225T102045Z
LAST-MODIFIED:20230309T131903Z
UID:73222-1678456800-1678458600@historico.ateneovalencia.es
SUMMARY:Mascletà 10 de Marzo: Pirotecnia Zaragozana | Retransmisión en directo
DESCRIPTION:Décimo día de mascletaes en Valencia. Retransmisión en directo del disparo que ofrece la Pirotecnia Zaragozana. Es una de las más grandes pirotecnias a nivel nacional e internacional que visita habitualmente la Catedral de la Pólvora. Desde Garrapinillos (Zaragoza) al mundo... \nSuscríbete gratuitamente al canal de Youtube: https://www.youtube.com/@tradicionesyculturavalencianas\nPara seguir la mascletà en directo: https://youtu.be/y4loncVXqjM\n\nFundada en 1.860\, es una de las empresas más históricas del panorama pirotécnico español. Comenzaron en un pequeño taller situado en un barrio rural de Zaragoza\, regentado por Ángel Sanz. Este pequeño taller se transformó en una fábrica de fuegos artificiales. Esta tradición\, transmitida generación tras generación\, unida a una constante innovación\, hacen de Pirotecnia Zaragozana sinónimo en el mundo entero de espectáculos prestigiosos\, seguros y de calidad. \nLa entrada en el año 2014 en el grupo Etienne Lacroix\, presente en el sector pirotécnico desde el año 1739\, aporta a Pirotecnia Zaragoza una mayor capacidad de desarrollo. Su filial\, Ruggieri\, líder europeo indiscutible en la realización de espectáculos pirotécnicos\, les ha permitido acceder a medios técnicos y artísticos complementarios\, aportando a sus clientes la experiencia adquirida en los espectáculos más relevantes a nivel mundial. Todo ello para seguir cumpliendo sus objetivos desde 1860: La satisfacción de sus clientes.
URL:https://historico.ateneovalencia.es/evento/mascleta-10-de-marzo-fallas-2023-pirotecnia-zaragozana-retransmision-en-directo/
LOCATION:Ateneo Mercantil Valencia\, Plaza del Ayuntamiento 18\, Valencia\, Valencia\, 46002\, España
CATEGORIES:Fallas
END:VEVENT
BEGIN:VEVENT
DTSTART;TZID=Europe/Madrid:20230310T210000
DTEND;TZID=Europe/Madrid:20230311T010000
DTSTAMP:20260422T013646
CREATED:20230225T181737Z
LAST-MODIFIED:20230225T181739Z
UID:73267-1678482000-1678496400@historico.ateneovalencia.es
SUMMARY:Segunda de las cenas de Fallas 2023: Pataqueta valenciana de embutido
DESCRIPTION:El Ateneo Mercantil de Valencia celebrará la segunda de las cenas de Fallas 2023\, el próximo viernes 10 de marzo\, con la cena de Pataqueta Valenciana de Embutido: longanizas\, chorizo y morcilla. La acto dará comienzo a las 21 horas en el Salón Noble del Ateneo Mercantil. Para poder asistir es imprescindible adquirir los tiques en Secretaría. Habrá baile con orquesta desde las 23 horas hasta la 1 de la madrugada. \nObservaciones: \n\nLos tiques para las Cenas de Titaina y la Cena de Embutido tendrán un precio de 6 euros cada tique. En las Cenas de Titaina cada socio podrá asistir sólo a una de las dos.\nTodos los tiques deberán ser recogidos personalmente\, previa presentación del carnet de socio\, en Secretaría del Ateneo. Será necesario mostrarlos en la entrada de cada cena.\nLas Cenas Valencianas consisten en un bocadillo de la típica Titaina del Cabañal\, acompañado de aperitivos\, cerveza\, vino y postre. La Cena de Embutido consiste en un bocadillo de longaniza\, morcilla y chorizo\, con pisto o habas acompañado de aperitivos\, cerveza\, vino y postre.\nLas cenas se celebrarán en el Salón Noble y tendrán un aforo máximo de 200 personas por día.\n\nCartel:
URL:https://historico.ateneovalencia.es/evento/segunda-de-las-cenas-de-fallas-2023-pataqueta-valenciana-de-embutido/
LOCATION:Salón Noble - Ateneo Mercantil de Valencia\, Plaza del Ayuntamiento 18\, Valencia\, Valencia\, 46002\, España
CATEGORIES:Fallas
ATTACH;FMTTYPE=image/jpeg:https://historico.ateneovalencia.es/wp-content/uploads/2023/02/20230310-Cena-Fallas-Embutido.jpg
END:VEVENT
END:VCALENDAR