BEGIN:VCALENDAR
VERSION:2.0
PRODID:-//Ateneo Mercantil de Valencia - ECPv6.0.4//NONSGML v1.0//EN
CALSCALE:GREGORIAN
METHOD:PUBLISH
X-ORIGINAL-URL:https://historico.ateneovalencia.es
X-WR-CALDESC:Eventos para Ateneo Mercantil de Valencia
REFRESH-INTERVAL;VALUE=DURATION:PT1H
X-Robots-Tag:noindex
X-PUBLISHED-TTL:PT1H
BEGIN:VTIMEZONE
TZID:Europe/Madrid
BEGIN:DAYLIGHT
TZOFFSETFROM:+0100
TZOFFSETTO:+0200
TZNAME:CEST
DTSTART:20220327T010000
END:DAYLIGHT
BEGIN:STANDARD
TZOFFSETFROM:+0200
TZOFFSETTO:+0100
TZNAME:CET
DTSTART:20221030T010000
END:STANDARD
END:VTIMEZONE
BEGIN:VEVENT
DTSTART;TZID=Europe/Madrid:20221007T210000
DTEND;TZID=Europe/Madrid:20221007T233000
DTSTAMP:20260422T191858
CREATED:20220920T124301Z
LAST-MODIFIED:20220920T124331Z
UID:71185-1665176400-1665185400@historico.ateneovalencia.es
SUMMARY:Cena de Gala de Sant Dionís 2022
DESCRIPTION:El Salón Stolz acogerá el próximo viernes 7 de octubre (21 horas) el tradicional Sopar de Sant Donís\, una de las celebraciones más destacadas del Ateneo Mercantil de Valencia. Una noche inolvidable en el que se realiza una cena de gala entre nuestros socios y que está amenizada siempre por una orquesta valenciana que hace bailar a todos hasta altas horas de la madrugada. \nCon esta cena se celebra\, de manera simbólica\, la entrada triunfal del Rey Jaume I a la ciudad y el día de la Comunitat desde la Aprobación del Estatuto de Autonomía. Una fecha en la que se celebra el día de los enamorados de todos los valencianos y tradición marca que los hombres tiene que regalar a sus mujeres la mocaorà\, un pañuelo de cuello que guarda productos de la huerta elaborados con mazapán. \nRecuerda que si quieres asistir a la cena de gala de Dant Dionís tienes que sacar los tiques en el Ateneo Restaurant (sexta planta). El menú tiene un precio de 40 euros (IVA incluido) y podrás disfrutar de la mejor música en directo. \nMENU CENA SANT DIONIS 2022\nAperitivo: Coca de titaina del Cabanyal.\nEntrante: Timbal de Mar y Huerta\, noodles y tartar de berenjena y gamba.\nPrincipal (a elegir): Secreto ibérico con cremoso de boniato\, pastel de patata y jugo de carne o Corvina con ajada\, cremoso de coliflor\, vinagreta cítrica y tierra de aceitunas.\nPostre: Torrija de Horchata con helado de leche merengada y caramelo.\nBodega: Vino Blanco Masía Aldamar Sauvignon (DO Utiel-Requena) Bod. Ladrón de Lunas / Vino Tinto Masía Aldamar Crianza (DO Utiel-Requena) Bod. Ladrón de Lunas / Cava Ladrón de Lunas (DO Cava) / Refrescos\, cerveza y agua mineral. \nCartel:
URL:https://historico.ateneovalencia.es/evento/cena-de-gala-de-sant-dionis-2022/
LOCATION:Salón Stolz - Ateneo Mercantil de Valencia\, Plaza del Ayuntamiento\, 18\, Valencia\, España\, Valencia\, Valencia\, 46002\, España
CATEGORIES:Fiestas Sociales
ATTACH;FMTTYPE=image/jpeg:https://historico.ateneovalencia.es/wp-content/uploads/2022/09/20221007-Cena-Sant-Donis.jpg
END:VEVENT
END:VCALENDAR