BEGIN:VCALENDAR
VERSION:2.0
PRODID:-//Ateneo Mercantil de Valencia - ECPv6.0.4//NONSGML v1.0//EN
CALSCALE:GREGORIAN
METHOD:PUBLISH
X-WR-CALNAME:Ateneo Mercantil de Valencia
X-ORIGINAL-URL:https://historico.ateneovalencia.es
X-WR-CALDESC:Eventos para Ateneo Mercantil de Valencia
REFRESH-INTERVAL;VALUE=DURATION:PT1H
X-Robots-Tag:noindex
X-PUBLISHED-TTL:PT1H
BEGIN:VTIMEZONE
TZID:Europe/Madrid
BEGIN:DAYLIGHT
TZOFFSETFROM:+0100
TZOFFSETTO:+0200
TZNAME:CEST
DTSTART:20220327T010000
END:DAYLIGHT
BEGIN:STANDARD
TZOFFSETFROM:+0200
TZOFFSETTO:+0100
TZNAME:CET
DTSTART:20221030T010000
END:STANDARD
END:VTIMEZONE
BEGIN:VEVENT
DTSTART;TZID=Europe/Madrid:20220508T183000
DTEND;TZID=Europe/Madrid:20220508T210000
DTSTAMP:20260421T230924
CREATED:20220420T160555Z
LAST-MODIFIED:20220420T164758Z
UID:69597-1652034600-1652043600@historico.ateneovalencia.es
SUMMARY:Procesión de la Virgen de los Desamparados: domingo 8 de mayo
DESCRIPTION:El Ateneo Mercantil de Valencia se suma nuevamente a la festividad de la Virgen de los Desamparados. Así\, el segundo domingo de mayo\, todos los valencianos tienen una cita con “La Geperudeta”\, a quien dedican toda clase de honores y tributos. La Mare de Deu dels Desamparats tiene una larga historia que pasa de generación en generación\, de padres a hijos. Y el Ateneo Mercantil desfila por cuarta vez en la procesión a su Patrona de la ciudad de Valencia. \nLa Concentración será en la Puerta Principal del Ateneo Mercantil a las 18:30 horas para acudir hacia la Basílica. Los Señores socios que quieran salir deberán ir de traje\, mientras que las Señoras irán de negro\, teja y mantilla negra. Además\, deben portar un cirio para la procesión. \nCartel:
URL:https://historico.ateneovalencia.es/evento/procesion-de-la-virgen-de-los-desamparados-domingo-8-de-mayo/
LOCATION:Externo\, Valencia
CATEGORIES:Fiestas Sociales
ATTACH;FMTTYPE=image/jpeg:https://historico.ateneovalencia.es/wp-content/uploads/2022/04/20220508-PROCESION-VIRGEN-DESAMPARADOS-2022-1.jpg
END:VEVENT
END:VCALENDAR