BEGIN:VCALENDAR
VERSION:2.0
PRODID:-//Ateneo Mercantil de Valencia - ECPv6.0.4//NONSGML v1.0//EN
CALSCALE:GREGORIAN
METHOD:PUBLISH
X-WR-CALNAME:Ateneo Mercantil de Valencia
X-ORIGINAL-URL:https://historico.ateneovalencia.es
X-WR-CALDESC:Eventos para Ateneo Mercantil de Valencia
REFRESH-INTERVAL;VALUE=DURATION:PT1H
X-Robots-Tag:noindex
X-PUBLISHED-TTL:PT1H
BEGIN:VTIMEZONE
TZID:Europe/Madrid
BEGIN:DAYLIGHT
TZOFFSETFROM:+0100
TZOFFSETTO:+0200
TZNAME:CEST
DTSTART:20220327T010000
END:DAYLIGHT
BEGIN:STANDARD
TZOFFSETFROM:+0200
TZOFFSETTO:+0100
TZNAME:CET
DTSTART:20221030T010000
END:STANDARD
END:VTIMEZONE
BEGIN:VEVENT
DTSTART;TZID=Europe/Madrid:20220313T210000
DTEND;TZID=Europe/Madrid:20220319T233000
DTSTAMP:20260421T211736
CREATED:20220215T123921Z
LAST-MODIFIED:20220215T123921Z
UID:67134-1647205200-1647732600@historico.ateneovalencia.es
SUMMARY:Fallas 2022: Cena de bocadillos y tapas reservando en la cafetería del Noble
DESCRIPTION:El Ateneo Mercantil de Valencia celebrará sus cenas de bocadillos y tapas de las Fallas 2022 en el Salón Noble desde el domingo 13 al sábado 19 de marzo. Será imprescindible reservar en la cafetería del Salón Noble para poder cenar. Todas las cenas darán comienzo a las 21 horas\, a excepción de la del día 19 de marzo que comenzará a las 22 horas. Para poder asistir es imprescindible reservar. Habrá baile con orquesta todos los días desde las 23 horas hasta la 1 de la madrugada\, excepto el día 19 de marzo. \nCartel:
URL:https://historico.ateneovalencia.es/evento/fallas-2022-cena-de-bocadillo-y-tapas-reservando-en-cafeteria-del-noble/
LOCATION:Salón Noble - Ateneo Mercantil de Valencia\, Plaza del Ayuntamiento 18\, Valencia\, Valencia\, 46002\, España
CATEGORIES:Fallas
ATTACH;FMTTYPE=image/jpeg:https://historico.ateneovalencia.es/wp-content/uploads/2022/02/20220313-Fallas-2022-Cenas-Bocadillo-y-Tapas.jpg
END:VEVENT
BEGIN:VEVENT
DTSTART;TZID=Europe/Madrid:20220319T110000
DTEND;TZID=Europe/Madrid:20220319T120000
DTSTAMP:20260421T211736
CREATED:20220215T125225Z
LAST-MODIFIED:20220215T125318Z
UID:67138-1647687600-1647691200@historico.ateneovalencia.es
SUMMARY:Misa y ofrenda al patrón San José en la Iglesia de San Martín
DESCRIPTION:La Srta. Ana Bonet Cerdá se despedirá de la semana fallera con la eucaristía en honor a San José en la Iglesia de San Martín (calle San Vicente\, 11). Tras la solemne misa\, la Reina y su Corte de Honor entregarán una ofrenda floral al patrón de Las Fallas. \nLa concentración será a las 10.30 en la puerta del Ateneo Mercantil. Los socios que quieran acompañar a la Reina y su Corte en un día tan especial podrán marcha tras la bandera ateneísta y se realizará el tradicional pasacalles entre el Ateneo y la Iglesia de San Martín que será amenizado por un trío de dolçainers y tabaler. Si quieren pueden acudir directamente a las 11 horas a la iglesia que es la hora de comienzo de la santa misa. \nCartel:
URL:https://historico.ateneovalencia.es/evento/misa-y-ofrenda-al-patron-san-jose-en-la-iglesia-de-san-martin/
LOCATION:Iglesia San Martín Obispo\, Calle San Vicente\, 11\, Valencia\, Valencia\, España
CATEGORIES:Fallas
ATTACH;FMTTYPE=image/jpeg:https://historico.ateneovalencia.es/wp-content/uploads/2022/02/20220319-FALLAS-2022-MISA-SAN-JOSE-1.jpg
END:VEVENT
BEGIN:VEVENT
DTSTART;TZID=Europe/Madrid:20220319T140000
DTEND;TZID=Europe/Madrid:20220319T143000
DTSTAMP:20260421T211736
CREATED:20220217T134941Z
LAST-MODIFIED:20220218T133448Z
UID:67215-1647698400-1647700200@historico.ateneovalencia.es
SUMMARY:Mascletà 19 de Marzo: Retransmisión en directo desde la Plaza del Ayuntamiento de Valencia
DESCRIPTION:Décimo noveno día de mascletaes en Valencia. El Canal de Youtube del Ateneo retransmite en directo el disparo que ofrece la pirotecnia Hermanos Caballer. Desde las 13.55 horas\, podrán seguir en directo este acontecimiento que regresa a la Plaza del Ayuntamiento tras un año y medio sin poder sentir el ruido y el olor a pólvora por las restricciones de la pandemia de la Covid-19. \nSuscríbete gratuitamente a nuestro Canal de Youtube: https://www.youtube.com/c/AteneoMercantildeValencia\nPara seguir la mascletà en directo: https://youtu.be/u5tXy8ZxOI8\n\nEmpiezan las mascletaes en la Plaza del Ayuntamiento y la Pirotecnia Hermanos Caballer dispara este 19 de marzo. Es una empresa de pirotecnia ubicada en Almenara (Castellón) y consolidada en el mercado\, con mas de 18 años de experiencia como marca independiente\, pero con un largo recorrido que se remonta a 1980 con la fundación de Pirotecnia Hermanos Caballer\, por parte de su bisabuelo Vicente Caballer Zamorano. \nDe esta saga familiar de pirotécnicos\, José y Jorge Caballer\, han heredado un espíritu de superación y un animo de ser los mejores\, que les lleva en 1999 a independizarse para desarrollar sus propias ideas y proyectos\, más innovadores y modernos. \nEsto se manifiesta en la pasión de Hermanos caballer por los fuegos artificiales. Hermanos caballer han querido dar a sus productos un sello diferente\, lo consiguen produciendo 80% de sus productos\, con el objetivo de conseguir un material exclusivo e innovador en la combinación mas arriesgada. Han creado una nueva forma de disparo\, con la que logran nuevos efectos de sonido\, con ritmos diferentes y mayor tiempo de exposición de los fuegos\, consiguiendo así una sincronización perfecta en sus disparos con música o espectáculos multimedia.
URL:https://historico.ateneovalencia.es/evento/mascleta-19-de-marzo-retransmision-en-directo-desde-la-plaza-del-ayuntamiento-de-valencia/
LOCATION:Ateneo Mercantil Valencia\, Plaza del Ayuntamiento 18\, Valencia\, Valencia\, 46002\, España
CATEGORIES:Fallas
ATTACH;FMTTYPE=image/jpeg:https://historico.ateneovalencia.es/wp-content/uploads/2022/02/20220319-Mascleta.jpg
END:VEVENT
END:VCALENDAR