BEGIN:VCALENDAR
VERSION:2.0
PRODID:-//Ateneo Mercantil de Valencia - ECPv6.0.4//NONSGML v1.0//EN
CALSCALE:GREGORIAN
METHOD:PUBLISH
X-ORIGINAL-URL:https://historico.ateneovalencia.es
X-WR-CALDESC:Eventos para Ateneo Mercantil de Valencia
REFRESH-INTERVAL;VALUE=DURATION:PT1H
X-Robots-Tag:noindex
X-PUBLISHED-TTL:PT1H
BEGIN:VTIMEZONE
TZID:Europe/Madrid
BEGIN:DAYLIGHT
TZOFFSETFROM:+0100
TZOFFSETTO:+0200
TZNAME:CEST
DTSTART:20220327T010000
END:DAYLIGHT
BEGIN:STANDARD
TZOFFSETFROM:+0200
TZOFFSETTO:+0100
TZNAME:CET
DTSTART:20221030T010000
END:STANDARD
END:VTIMEZONE
BEGIN:VEVENT
DTSTART;TZID=Europe/Madrid:20220312T140000
DTEND;TZID=Europe/Madrid:20220312T143000
DTSTAMP:20260421T220529
CREATED:20220217T131220Z
LAST-MODIFIED:20220218T133219Z
UID:67190-1647093600-1647095400@historico.ateneovalencia.es
SUMMARY:Mascletà 12 de Marzo: Retransmisión en directo desde la Plaza del Ayuntamiento de Valencia
DESCRIPTION:Duodécimo día de mascletaes en Valencia. El Canal de Youtube del Ateneo retransmite en directo el disparo que ofrece la pirotecnia Mediterráneo. Desde las 13.55 horas\, podrán seguir en directo este acontecimiento que regresa a la Plaza del Ayuntamiento tras un año y medio sin poder sentir el ruido y el olor a pólvora por las restricciones de la pandemia de la Covid-19. \nSuscríbete gratuitamente a nuestro Canal de Youtube: https://www.youtube.com/c/AteneoMercantildeValencia\nPara seguir la mascletà en directo: https://youtu.be/gPV84Xx0F1E\n\nEmpiezan las mascletaes en la Plaza del Ayuntamiento y la Pirotecnia Mediterráneo dispara este 12 de marzo. Una vieja conocida por los valencianos. Su fábrica\, ubicada en Villamarchante\, tiene una extensión de 25.000 metros cuadrados y cuenta con diez almacenes. El regente es Antonio García Juan. Tienen su sede en la misma plaza a escasos metros de la misma zona de disparo. Es la sexta ocasión que esta joven pirotecnia disparará en el calendario de fallas\, y en cada oportunidad\, Toni García\, que se formó concienzudamente aprendiendo el oficio trabajando en una de las empresas de más prestigio\, la de Miguel Zamorano Caballer\, ha dejado señas de su buen hacer rodeado de una nómina de expertos profesionales pirotécnicos de su entera confianza y a los que siempre otorga el mérito que les corresponde entendiendo que se trata de un trabajo en equipo.
URL:https://historico.ateneovalencia.es/evento/mascleta-12-de-marzo-retransmision-en-directo-desde-la-plaza-del-ayuntamiento-de-valencia/
LOCATION:Ateneo Mercantil Valencia\, Plaza del Ayuntamiento 18\, Valencia\, Valencia\, 46002\, España
CATEGORIES:Fallas
ATTACH;FMTTYPE=image/jpeg:https://historico.ateneovalencia.es/wp-content/uploads/2022/02/20220312-Mascleta.jpg
END:VEVENT
BEGIN:VEVENT
DTSTART;TZID=Europe/Madrid:20220312T210000
DTEND;TZID=Europe/Madrid:20220312T233000
DTSTAMP:20260421T220529
CREATED:20220215T122505Z
LAST-MODIFIED:20220215T122648Z
UID:67125-1647118800-1647127800@historico.ateneovalencia.es
SUMMARY:Fallas 2022: Cena de Pataqueta Valenciana de Titaina del Cabañal
DESCRIPTION:El Ateneo Mercantil de Valencia celebrará la tercera de las cenas de Fallas 2022\, el próximo sábado 10 de marzo\, con la cena de Pataqueta Valenciana de Titaina del Cabañal y de los Poblados Marítimos de Valencia. La acto dará comienzo a las 21 horas en el Salón Noble del Ateneo Mercantil. Para poder asistir es imprescindible adquirir los tiques en Secretaría en horario de mañanas de 9 a 14.30 horas. En venta desde el jueves 17 de febrero. Habrá baile con orquesta desde las 23 horas hasta la 1 de la madrugada. \nObservaciones:  \n\nLos tiques para las Cenas de Titaina y la Cena de Embutido tendrán un precio de 6 euros cada tique. En las Cenas de Titaina cada socio podrá asistir sólo a una de las dos.\nTodos los tiques deberán ser recogidos personalmente\, previa presentación del carnet de socio\, en Secretaría del Ateneo\, a partir del día 17 de febrero. Sólo se venderán 2 tiques por socio. Cada socio podrá presentar un máximo de 3 carnets\, incluido el propio\, para recoger los tiques. Será necesario mostrarlos en la entrada de cada cena.\nLas Cenas Valencianas consisten en un bocadillo de la típica Titaina del Cabañal\, acompañado de aperitivos\, cerveza\, vino y postre. La Cena de Embutido consiste en un bocadillo de longaniza\, morcilla y chorizo\, con pisto o habas acompañado de aperitivos\, cerveza\, vino y postre.\nLas cenas se celebrarán en el Salón Noble y tendrán un aforo máximo de 200 personas por día.\n\nCartel:
URL:https://historico.ateneovalencia.es/evento/fallas-2022-cena-de-pataqueta-valenciana-de-titaina-del-cabanal-2/
LOCATION:Salón Noble - Ateneo Mercantil de Valencia\, Plaza del Ayuntamiento 18\, Valencia\, Valencia\, 46002\, España
CATEGORIES:Fallas
ATTACH;FMTTYPE=image/jpeg:https://historico.ateneovalencia.es/wp-content/uploads/2022/02/20220312-Fallas-2022-Titaina-2.jpg
END:VEVENT
END:VCALENDAR