BEGIN:VCALENDAR
VERSION:2.0
PRODID:-//Ateneo Mercantil de Valencia - ECPv6.0.4//NONSGML v1.0//EN
CALSCALE:GREGORIAN
METHOD:PUBLISH
X-WR-CALNAME:Ateneo Mercantil de Valencia
X-ORIGINAL-URL:https://historico.ateneovalencia.es
X-WR-CALDESC:Eventos para Ateneo Mercantil de Valencia
REFRESH-INTERVAL;VALUE=DURATION:PT1H
X-Robots-Tag:noindex
X-PUBLISHED-TTL:PT1H
BEGIN:VTIMEZONE
TZID:Europe/Madrid
BEGIN:DAYLIGHT
TZOFFSETFROM:+0100
TZOFFSETTO:+0200
TZNAME:CEST
DTSTART:20220327T010000
END:DAYLIGHT
BEGIN:STANDARD
TZOFFSETFROM:+0200
TZOFFSETTO:+0100
TZNAME:CET
DTSTART:20221030T010000
END:STANDARD
END:VTIMEZONE
BEGIN:VEVENT
DTSTART;TZID=Europe/Madrid:20220310T140000
DTEND;TZID=Europe/Madrid:20220310T143000
DTSTAMP:20260422T065058
CREATED:20220217T125608Z
LAST-MODIFIED:20220218T133130Z
UID:67184-1646920800-1646922600@historico.ateneovalencia.es
SUMMARY:Mascletà 10 de Marzo: Retransmisión en directo desde la Plaza del Ayuntamiento de Valencia
DESCRIPTION:Décimo día de mascletaes en Valencia. El Canal de Youtube del Ateneo retransmite en directo el disparo que ofrece la pirotecnia Valenciana. Desde las 13.55 horas\, podrán seguir en directo este acontecimiento que regresa a la Plaza del Ayuntamiento tras un año y medio sin poder sentir el ruido y el olor a pólvora por las restricciones de la pandemia de la Covid-19. \nSuscríbete gratuitamente a nuestro Canal de Youtube: https://www.youtube.com/c/AteneoMercantildeValencia\nPara seguir la mascletà en directo: https://youtu.be/-mT2tY5FhvA\n\nEmpiezan las mascletaes en la Plaza del Ayuntamiento y la Pirotecnia Valenciana dispara este 10 de marzo. Esta empresa de Llanera de Ranes (Valencia) se fundó en 1965 y tiene presencia en la Plaza del Ayuntamiento de València desde el año 1988. Es una empresa de ámbito familiar\, fundada por Manuel Crespo Ortells y regentada por él hasta su fallecimiento en 1992. Después la empresa fue dirigida por su viuda María Vidal y su hijo José Manuel Crespo Vidal\, actual propietario\, en aquel momento\, el pirotécnico más joven de España. \nJosé Manuel Crespo diseñó y disparó su primera mascletà en la plaça de l’Ajuntament con 17 años. Sus mascletàs son conocidas por contar con unos comienzos tradicionales con traca valenciana\, varios minutos de fuegos aéreos totalmente digitalizados y diversos efectos acústicos\, retenciones terrestres\, acompañadas con ritmo aéreo "in crescendo" y finalizando con un atronador terremoto.
URL:https://historico.ateneovalencia.es/evento/mascleta-10-de-marzo-retransmision-en-directo-desde-la-plaza-del-ayuntamiento-de-valencia/
LOCATION:Ateneo Mercantil Valencia\, Plaza del Ayuntamiento 18\, Valencia\, Valencia\, 46002\, España
CATEGORIES:Fallas
ATTACH;FMTTYPE=image/jpeg:https://historico.ateneovalencia.es/wp-content/uploads/2022/02/20220310-Mascleta.jpg
END:VEVENT
BEGIN:VEVENT
DTSTART;TZID=Europe/Madrid:20220310T210000
DTEND;TZID=Europe/Madrid:20220310T233000
DTSTAMP:20260422T065058
CREATED:20220215T122306Z
LAST-MODIFIED:20220215T122711Z
UID:67121-1646946000-1646955000@historico.ateneovalencia.es
SUMMARY:Fallas 2022: Cena de Pataqueta Valenciana de Titaina del Cabañal
DESCRIPTION:El Ateneo Mercantil de Valencia celebrará la primera de las cenas de Fallas 2022\, el próximo jueves 10 de marzo\, con la cena de Pataqueta Valenciana de Titaina del Cabañal y de los Poblados Marítimos de Valencia. La acto dará comienzo a las 21 horas en el Salón Noble del Ateneo Mercantil. Para poder asistir es imprescindible adquirir los tiques en Secretaría en horario de mañanas de 9 a 14.30 horas. En venta desde el jueves 17 de febrero. Habrá baile con orquesta desde las 23 horas hasta la 1 de la madrugada. \nObservaciones:  \n\nLos tiques para las Cenas de Titaina y la Cena de Embutido tendrán un precio de 6 euros cada tique. En las Cenas de Titaina cada socio podrá asistir sólo a una de las dos.\nTodos los tiques deberán ser recogidos personalmente\, previa presentación del carnet de socio\, en Secretaría del Ateneo\, a partir del día 17 de febrero. Sólo se venderán 2 tiques por socio. Cada socio podrá presentar un máximo de 3 carnets\, incluido el propio\, para recoger los tiques. Será necesario mostrarlos en la entrada de cada cena.\nLas Cenas Valencianas consisten en un bocadillo de la típica Titaina del Cabañal\, acompañado de aperitivos\, cerveza\, vino y postre. La Cena de Embutido consiste en un bocadillo de longaniza\, morcilla y chorizo\, con pisto o habas acompañado de aperitivos\, cerveza\, vino y postre.\nLas cenas se celebrarán en el Salón Noble y tendrán un aforo máximo de 200 personas por día.\n\nCartel:
URL:https://historico.ateneovalencia.es/evento/fallas-2022-cena-de-pataqueta-valenciana-de-titaina-del-cabanal/
LOCATION:Salón Noble - Ateneo Mercantil de Valencia\, Plaza del Ayuntamiento 18\, Valencia\, Valencia\, 46002\, España
CATEGORIES:Fallas
ATTACH;FMTTYPE=image/jpeg:https://historico.ateneovalencia.es/wp-content/uploads/2022/02/20220310-Fallas-2022-Cena-Titaina-1.jpg
END:VEVENT
END:VCALENDAR