BEGIN:VCALENDAR
VERSION:2.0
PRODID:-//Ateneo Mercantil de Valencia - ECPv6.0.4//NONSGML v1.0//EN
CALSCALE:GREGORIAN
METHOD:PUBLISH
X-WR-CALNAME:Ateneo Mercantil de Valencia
X-ORIGINAL-URL:https://historico.ateneovalencia.es
X-WR-CALDESC:Eventos para Ateneo Mercantil de Valencia
REFRESH-INTERVAL;VALUE=DURATION:PT1H
X-Robots-Tag:noindex
X-PUBLISHED-TTL:PT1H
BEGIN:VTIMEZONE
TZID:Europe/Madrid
BEGIN:DAYLIGHT
TZOFFSETFROM:+0100
TZOFFSETTO:+0200
TZNAME:CEST
DTSTART:20210328T010000
END:DAYLIGHT
BEGIN:STANDARD
TZOFFSETFROM:+0200
TZOFFSETTO:+0100
TZNAME:CET
DTSTART:20211031T010000
END:STANDARD
BEGIN:DAYLIGHT
TZOFFSETFROM:+0100
TZOFFSETTO:+0200
TZNAME:CEST
DTSTART:20220327T010000
END:DAYLIGHT
BEGIN:STANDARD
TZOFFSETFROM:+0200
TZOFFSETTO:+0100
TZNAME:CET
DTSTART:20221030T010000
END:STANDARD
END:VTIMEZONE
BEGIN:VEVENT
DTSTART;TZID=Europe/Madrid:20211223T120000
DTEND;TZID=Europe/Madrid:20220109T203000
DTSTAMP:20260421T230840
CREATED:20211216T121518Z
LAST-MODIFIED:20211219T073920Z
UID:66244-1640260800-1641760200@historico.ateneovalencia.es
SUMMARY:Exposición Pocoyó en el Ateneo Mercantil
DESCRIPTION:El Ateneo Mercantil de Valencia ha organizado para estas Navidades una pequeña exposición gratuita sobre Pocoyó en el primer piso del edificio que estará abierta hasta el 9 de enero de 2022. En la exposición podrás conocer de cerca la historia de esta serie británico/española creada por David Cantolla\, Colman López\, Luis Gallego y Guillermo García Carsi\, que es de las más seguidas por los niños de todo el mundo. \nEn la exposición podrás encontrar una retrospectiva de todos los personajes principales como son Pocoyó\, Pato\, Elly y Nina\, además de los secundarios más famosos como son la perrita Lula\, el robot Roberto\, el pajarito dormilón Pajaroto\, Pulpo\, el Marciano Malhumorado o la oruga Valentina\, entre otros. \nAdemás\, podrán disfrutar de dos de los capítulos míticos de la serie: el primero que se emitió hace 16 años\, en 2005\, bajo el título "Un Día de Lluvia" y el capítulo por el que recibió uno de los mejores galardones de la historia de las series de animación\, el Premio BAFTA a la Mejor Serie de Animación en 2007. \nCartel:
URL:https://historico.ateneovalencia.es/evento/exposicion-pocoyo-en-el-ateneo-mercantil/
LOCATION:Sala Bridge - Ateneo Mercantil de Valencia\, Plaza del Ayuntamiento\, 18\, Valencia\, España\, Valencia\, Valencia\, 46002\, España
CATEGORIES:Navidad
ATTACH;FMTTYPE=image/jpeg:https://historico.ateneovalencia.es/wp-content/uploads/2021/12/20211223-Exposicion-Pocoyo-1.jpg
END:VEVENT
BEGIN:VEVENT
DTSTART;TZID=Europe/Madrid:20220105T110000
DTEND;TZID=Europe/Madrid:20220105T140000
DTSTAMP:20260421T230840
CREATED:20211216T095540Z
LAST-MODIFIED:20211219T080855Z
UID:66236-1641380400-1641391200@historico.ateneovalencia.es
SUMMARY:Gala de Reyes en el Ateneo Mercantil de Valencia
DESCRIPTION:Sus Majestades los Reyes Magos de Oriente llegan de nuevo a Valencia este miércoles 5 de enero para repartir regalos entre los niños y niñas valencianos. Como viene siendo tradición\, antes de repartir regalos entre los más pequeños de la Comunitat\, primero visitarán el Ateneo Mercantil para dar una sorpresa y repartir ilusión entre los niños y niñas ateneístas. Este año de nuevo el Salón Stolz será el lugar escogido por nuestra entidad para hacer la recepción oficial de SSMM los Reyes Magos y la hora de inicio será a las 11 horas. \nEn esta ocasión será el rey Melchor el que repartirá cientos de regalos a los más hijos y nietos de nuestros socios durante la mañana del miércoles\, durante tres horas\, hasta las 14 horas. De nuevo nuestros más 'peques' tendrán una mañana inolvidable llena de sorpresas y no sólo recibirán una bolsita de dulces que Melchor trae para cada niño ateneísta\, sino que además\, volverá a repartir regalos... y se regalará una foto en el momento\, que inmortalizará este encuentro. ¡Os esperamos a todos! \nEste año se controlará el aforo del salón y se aplicarán las restricciones y medidas sanitarias oportunas por la pandemia de la Covid19. Además\, se han seguido las recomendaciones de las Autoridades Sanitarias sobre Cabalgatas Estáticas de sus Majestades los Reyes Magos para este 2022. \nPor lo que\, previamente\, los socios deben reservar turno en Secretaría\, en donde se les indicará el horario en el que los niños pasarán a ver a SM el Rey Melchor y puedan recoger sus regalos. Los niños tan sólo podrán ser acompañados por un adulto y hay que ceñirse lo máximo posible al horario que se les indique en Secretaría. Apelamos a la responsabilidad de nuestros socios para que los niños puedan disfrutar de esa mañana sin mayores problemas. No habrá baile ni juegos previos al inicio de la Gala de Reyes y cuando los pequeños recojan los regalos y se hagan la foto con Melchor deberán abandonar el salón. La idea es evitar aglomeraciones de personas\, para evitar cualquier problema. \nRecordad que la recogida de regalos para la Gala de Reyes y la reserva de horario se realizará desde el lunes 20 de diciembre al 4 de enero en Secretaría del Ateneo.\nCartel:
URL:https://historico.ateneovalencia.es/evento/gala-de-reyes-en-el-ateneo-mercantil-de-valencia/
LOCATION:Salón Stolz - Ateneo Mercantil de Valencia\, Plaza del Ayuntamiento\, 18\, Valencia\, España\, Valencia\, Valencia\, 46002\, España
CATEGORIES:Navidad
ATTACH;FMTTYPE=image/jpeg:https://historico.ateneovalencia.es/wp-content/uploads/2021/12/20220105-Gala-de-Reyes-Magos.jpg
END:VEVENT
END:VCALENDAR