BEGIN:VCALENDAR
VERSION:2.0
PRODID:-//Ateneo Mercantil de Valencia - ECPv6.0.4//NONSGML v1.0//EN
CALSCALE:GREGORIAN
METHOD:PUBLISH
X-ORIGINAL-URL:https://historico.ateneovalencia.es
X-WR-CALDESC:Eventos para Ateneo Mercantil de Valencia
REFRESH-INTERVAL;VALUE=DURATION:PT1H
X-Robots-Tag:noindex
X-PUBLISHED-TTL:PT1H
BEGIN:VTIMEZONE
TZID:Europe/Madrid
BEGIN:DAYLIGHT
TZOFFSETFROM:+0100
TZOFFSETTO:+0200
TZNAME:CEST
DTSTART:20210328T010000
END:DAYLIGHT
BEGIN:STANDARD
TZOFFSETFROM:+0200
TZOFFSETTO:+0100
TZNAME:CET
DTSTART:20211031T010000
END:STANDARD
BEGIN:DAYLIGHT
TZOFFSETFROM:+0100
TZOFFSETTO:+0200
TZNAME:CEST
DTSTART:20220327T010000
END:DAYLIGHT
BEGIN:STANDARD
TZOFFSETFROM:+0200
TZOFFSETTO:+0100
TZNAME:CET
DTSTART:20221030T010000
END:STANDARD
END:VTIMEZONE
BEGIN:VEVENT
DTSTART;TZID=Europe/Madrid:20211223T120000
DTEND;TZID=Europe/Madrid:20220109T203000
DTSTAMP:20260422T004239
CREATED:20211216T121518Z
LAST-MODIFIED:20211219T073920Z
UID:66244-1640260800-1641760200@historico.ateneovalencia.es
SUMMARY:Exposición Pocoyó en el Ateneo Mercantil
DESCRIPTION:El Ateneo Mercantil de Valencia ha organizado para estas Navidades una pequeña exposición gratuita sobre Pocoyó en el primer piso del edificio que estará abierta hasta el 9 de enero de 2022. En la exposición podrás conocer de cerca la historia de esta serie británico/española creada por David Cantolla\, Colman López\, Luis Gallego y Guillermo García Carsi\, que es de las más seguidas por los niños de todo el mundo. \nEn la exposición podrás encontrar una retrospectiva de todos los personajes principales como son Pocoyó\, Pato\, Elly y Nina\, además de los secundarios más famosos como son la perrita Lula\, el robot Roberto\, el pajarito dormilón Pajaroto\, Pulpo\, el Marciano Malhumorado o la oruga Valentina\, entre otros. \nAdemás\, podrán disfrutar de dos de los capítulos míticos de la serie: el primero que se emitió hace 16 años\, en 2005\, bajo el título "Un Día de Lluvia" y el capítulo por el que recibió uno de los mejores galardones de la historia de las series de animación\, el Premio BAFTA a la Mejor Serie de Animación en 2007. \nCartel:
URL:https://historico.ateneovalencia.es/evento/exposicion-pocoyo-en-el-ateneo-mercantil/
LOCATION:Sala Bridge - Ateneo Mercantil de Valencia\, Plaza del Ayuntamiento\, 18\, Valencia\, España\, Valencia\, Valencia\, 46002\, España
CATEGORIES:Navidad
ATTACH;FMTTYPE=image/jpeg:https://historico.ateneovalencia.es/wp-content/uploads/2021/12/20211223-Exposicion-Pocoyo-1.jpg
END:VEVENT
BEGIN:VEVENT
DTSTART;TZID=Europe/Madrid:20220103T113000
DTEND;TZID=Europe/Madrid:20220103T130000
DTSTAMP:20260422T004239
CREATED:20211216T092341Z
LAST-MODIFIED:20211219T080530Z
UID:66227-1641209400-1641214800@historico.ateneovalencia.es
SUMMARY:Cine Infantil: "Space Jam: Nuevas Leyendas"
DESCRIPTION:La tercera de las películas que el Ateneo Mercantil ha programado estas Navidades para los niños y niñas de nuestros socios es "Space Jam: Nuevas Leyendas". El lunes 3 de enero a las 17 horas en el Salón Sorolla se proyectará esta película animada y de acción real dirigida por Malcolm D. Lee y un innovador equipo de cine que cuenta con Ryan Coogler y Maverick Carretero. Un éxito más de Warner Bros Pictures que se estrenó en cines este pasado verano de 2021. \n¡Bienvenidos a un partido de otra dimensión! El campeón de la NBA e ícono mundial LeBron James se embarca en una aventura épica junto a Bugs Bunny\, el intemporal personaje de Looney Tunes en "SpaceJam: Nuevas leyendas". Este viaje de transformación es una frenética combinación de dos mundos que nos cuenta hasta dónde pueden llegar algunos padres para conectar con sus hijos. LeBron y su hijo Dom quedan atrapados en el espacio digital de una fuerza todopoderosa y malvada llamada A.I. \nPara poder volver a casa\, LeBron tendrá que con la ayuda de Bugs\, Lola Bunny y toda la pandilla de los muy indisciplinados Looney Tunes. Juntos tendrán que derrotar a los campeones digitalizados de A.I. y deberán hacerlo en la cancha de baloncesto. Se trata de una lista espectacular de estrellas de del baloncesto como nunca se ha visto. Son los Tunes contra los Goons enfrentados al desafío más importante de sus vidas que servirá para transformar el vínculo de LeBron con su hijo y arrojará luz sobre el poder de ser uno mismo. Los intrépidos Tunes se saltan todos los convencionalismos\, ponen en marcha sus singulares talentos y consiguen sorprender al "Rey" James jugando el partido a su manera. \nCartel:
URL:https://historico.ateneovalencia.es/evento/cine-infantil-space-jam-nuevas-leyendas-2/
LOCATION:Salón Sorolla - Ateneo Mercantil de Valencia\, Plaza del Ayuntamiento 18\, Valencia\, Valencia\, 46002\, España
CATEGORIES:Navidad
ATTACH;FMTTYPE=image/jpeg:https://historico.ateneovalencia.es/wp-content/uploads/2021/12/20211226-Space-Jam.jpg
END:VEVENT
BEGIN:VEVENT
DTSTART;TZID=Europe/Madrid:20220103T170000
DTEND;TZID=Europe/Madrid:20220103T183000
DTSTAMP:20260422T004239
CREATED:20211216T093635Z
LAST-MODIFIED:20211219T080602Z
UID:66234-1641229200-1641234600@historico.ateneovalencia.es
SUMMARY:Cine Infantil: "La Patrulla Canina: La Película"
DESCRIPTION:La cuarta de las películas que el Ateneo Mercantil ha programado estas Navidades para los niños y niñas de nuestros socios es "La Patrulla Canina: La Película". El lunes 3 de enero a las 17 horas en el Salón Sorolla se proyectará esta película animada y de acción real dirigida por Cal Brunker. Una película de Paramount Pictures muy esperada por todos los niños que se estrenó en cines el pasado mes de septiembre de 2021. \nLa Patrulla Canina entra en acción... ¡en su mayor aventura hasta la fecha! Cuando su rival\, Humdinger\, se convierte en alcalde de la cercana Ciudad Aventura y empieza a causar problemas de todo tipo\, Ryder y los heroicos cachorros de la Patrulla Canina se ponen en marcha para enfrentarse a la misión más difícil de sus carreras. Durante la misión\, el equipo encuentra la ayuda de una nueva aliada\, la inteligente Liberty\, y juntos luchan por salvar a los ciudadanos de Ciudad Aventura. ¿Podrá la Patrulla PAW salvar la ciudad antes de que sea demasiado tarde? Después de todo\, ninguna ciudad es demasiado grande... ¡y ningún cachorro es demasiado pequeño! \nCartel:
URL:https://historico.ateneovalencia.es/evento/cine-infantil-la-patrulla-canina-la-pelicula-2/
LOCATION:Salón Sorolla - Ateneo Mercantil de Valencia\, Plaza del Ayuntamiento 18\, Valencia\, Valencia\, 46002\, España
CATEGORIES:Navidad
ATTACH;FMTTYPE=image/jpeg:https://historico.ateneovalencia.es/wp-content/uploads/2021/12/20211227-Pelicula-La-Patrulla-Canina.jpg
END:VEVENT
END:VCALENDAR