BEGIN:VCALENDAR
VERSION:2.0
PRODID:-//Ateneo Mercantil de Valencia - ECPv6.0.4//NONSGML v1.0//EN
CALSCALE:GREGORIAN
METHOD:PUBLISH
X-WR-CALNAME:Ateneo Mercantil de Valencia
X-ORIGINAL-URL:https://historico.ateneovalencia.es
X-WR-CALDESC:Eventos para Ateneo Mercantil de Valencia
REFRESH-INTERVAL;VALUE=DURATION:PT1H
X-Robots-Tag:noindex
X-PUBLISHED-TTL:PT1H
BEGIN:VTIMEZONE
TZID:Europe/Madrid
BEGIN:DAYLIGHT
TZOFFSETFROM:+0100
TZOFFSETTO:+0200
TZNAME:CEST
DTSTART:20210328T010000
END:DAYLIGHT
BEGIN:STANDARD
TZOFFSETFROM:+0200
TZOFFSETTO:+0100
TZNAME:CET
DTSTART:20211031T010000
END:STANDARD
END:VTIMEZONE
BEGIN:VEVENT
DTSTART;TZID=Europe/Madrid:20210105T110000
DTEND;TZID=Europe/Madrid:20210105T143000
DTSTAMP:20260423T173407
CREATED:20201204T112906Z
LAST-MODIFIED:20201204T112906Z
UID:61199-1609844400-1609857000@historico.ateneovalencia.es
SUMMARY:Gala de Reyes Magos 2021
DESCRIPTION:Sus Majestades los Reyes Magos de Oriente llegan de nuevo a Valencia este martes 5 de enero para repartir regalos entre los niños y niñas atenístas. Como viene siendo tradición\, antes de repartir regalos entre los niños valencianos\, primero serán recibidos en el Ateneo Mercantil para dar una sorpresa y repartir ilusión entre los mas pequeños de casa. Este año de nuevo el Salón Stolz será el lugar escogido por nuestra entidad para hacer la recepción oficial de SSMM los Reyes Magos y la hora de inicio será a las 11 horas. \nMelchor\, Gaspar y Baltasar repartirán cientos de regalos a los más hijos y nietos de nuestros socios durante la mañana del martes\, durante tres horas y media\, hasta las 14.30 horas. De nuevo nuestros más 'peques' tendrán una mañana inolvidable llena de sorpresas y no sólo recibirán una bolsita de dulces que los tres reyes dan a cada niño\, sino que además\, volverán a repartir regalos.. ¡Os esperamos a todos! \nEste año se controlará el aforo del salón y se aplicarán las restricciones y medidas sanitarias oportunas por la pandemia de la Covid19. Además\, se han seguido las recomendaciones de las Autoridades Sanitarias sobre Cabalgatas Estáticas de sus Majestades los Reyes Magos para este 2021. \nPor lo que\, previamente\, los socios deben reservar turno en Secretaría\, en donde se les indicará el horario en el que los niños pasarán a ver a SSMM Los Reyes Magos de Oriente y puedan recoger sus regalos. Los niños tan sólo podrán ser acompañados por un adulto y hay que ceñirse lo máximo posible al horario que se les indique en Secretaría. Apelamos a la responsabilidad de nuestros socios para que los niños puedan disfrutar de esa mañana sin mayores problemas. No habrá baile ni juegos previos al inicio de la Gala de Reyes y cuando los pequeños recojan los regalos y se hagan la foto con Melchor\, Gaspar y Baltasar deberán abandonar el salón. La idea es evitar aglomeraciones de personas\, para evitar cualquier problema. \nRecordad que la recogida de regalos para la Gala de Reyes y la reserva de horario se realizará desde el 9 al 30 de diciembre en Secretaría del Ateneo.\nCartel:
URL:https://historico.ateneovalencia.es/evento/gala-de-reyes-magos-2021/
LOCATION:Salón Stolz - Ateneo Mercantil de Valencia\, Plaza del Ayuntamiento\, 18\, Valencia\, España\, Valencia\, Valencia\, 46002\, España
CATEGORIES:Navidad
ATTACH;FMTTYPE=image/jpeg:https://historico.ateneovalencia.es/wp-content/uploads/2020/12/20210105-Gala-de-Reyes-2021.jpg
END:VEVENT
BEGIN:VEVENT
DTSTART;TZID=Europe/Madrid:20210105T130000
DTEND;TZID=Europe/Madrid:20210105T190000
DTSTAMP:20260423T173407
CREATED:20201209T105755Z
LAST-MODIFIED:20201209T105755Z
UID:61268-1609851600-1609873200@historico.ateneovalencia.es
SUMMARY:Ateneo Restaurant: Comida de la Cabalgata de Reyes
DESCRIPTION:En unas Navidades especiales por la pandemia de la Covid19\, el Grupo El Alto ha programado grandes menús para las comidas y cenas\, además de escoger el mejor producto de mercado y de temporada. La quinta de las citas será la Comida de la Cabalgata de Reyes. Disfruta de la mejor restauración de estas Navidades en el centro de Valencia en la sexta planta del Ateneo Mercantil. \nRecuerda que en todas nuestras instalaciones se cumple las medidas sanitarias y de seguridad que marca la normativa Covid19 estipulada por la Conselleria de Sanitat. El Grupo El Alto ha dado a conocer el menú que ofrecerá en la comida del día de la Cabalgata de Reyes que consta de entrantes\, un principal y postre. Recuerda que ya puedes reservar tu plaza en el Ateneo Mercantil para comer el 5 de enero. Las reservas se pueden hacer en el propio Restaurante (sexta planta del edificio) o bien reservando en el teléfono 96.293.55.70 y 670.00.61.61.  \nCabe recordar que el horario de la comida puede variar según el horario de la Cabalgata de Reyes de Valencia por la pandemia de la Covid19. Preguntar cuando se haga la reserva.\n \nEl menú de la comida de Navidad tiene un precio de Adulto de 45€  si eres socio del Ateneo Mercantil y de 50€ para los No socios. \nCartel:
URL:https://historico.ateneovalencia.es/evento/ateneo-restaurant-comida-de-la-cabalgata-de-reyes/
LOCATION:Ateneo Restaurante\, Plaza del Ayuntamiento\, 18\, Valencia\, España\, Valencia\, Comunidad Valenciana\, 46002\, España
CATEGORIES:Navidad
ATTACH;FMTTYPE=image/jpeg:https://historico.ateneovalencia.es/wp-content/uploads/2020/12/20210105-Comida-Cabalgata-de-Reyes.jpg
END:VEVENT
END:VCALENDAR