BEGIN:VCALENDAR
VERSION:2.0
PRODID:-//Ateneo Mercantil de Valencia - ECPv6.0.4//NONSGML v1.0//EN
CALSCALE:GREGORIAN
METHOD:PUBLISH
X-ORIGINAL-URL:https://historico.ateneovalencia.es
X-WR-CALDESC:Eventos para Ateneo Mercantil de Valencia
REFRESH-INTERVAL;VALUE=DURATION:PT1H
X-Robots-Tag:noindex
X-PUBLISHED-TTL:PT1H
BEGIN:VTIMEZONE
TZID:Europe/Madrid
BEGIN:DAYLIGHT
TZOFFSETFROM:+0100
TZOFFSETTO:+0200
TZNAME:CEST
DTSTART:20210328T010000
END:DAYLIGHT
BEGIN:STANDARD
TZOFFSETFROM:+0200
TZOFFSETTO:+0100
TZNAME:CET
DTSTART:20211031T010000
END:STANDARD
END:VTIMEZONE
BEGIN:VEVENT
DTSTART;TZID=Europe/Madrid:20210102T113000
DTEND;TZID=Europe/Madrid:20210102T130000
DTSTAMP:20260423T190954
CREATED:20201203T171125Z
LAST-MODIFIED:20201203T171125Z
UID:61179-1609587000-1609592400@historico.ateneovalencia.es
SUMMARY:Navidades: Película Infantil "Elcano y Magallanes. Primera vuelta al Mundo"
DESCRIPTION:El Ateneo Mercantil de Valencia también ha programado actividades exclusivas para los familiares de los socios ateneístas y estas vacaciones también se ha programado cine infantil. La tercera de las películas que se proyectará en el Salón Sorolla será el próximo sábado 2 de enero a las 11.30 horas y la película de animación escogida es la española "Elcano y Magallanes. Primera vuelta al Mundo" (2019). \nPelícula inspirada en una de las aventuras más emocionantes de la historia\, un viaje a lo desconocido que comenzó en 1519 en Sevilla y concluyó tres años después en el mismo sitio\, completando así una aventura alrededor de un planeta cuya redondez quedó demostrada por primera vez. En 1519 cinco naves partieron desde Sevilla con 240 hombres a bordo. Solo una consiguió volver con 18 marineros al borde de la muerte. Los protagonistas de aquella expedición financiada por el Reino de Castilla fueron el portugués Fernando de Magallanes\, comandante de la expedición\, y el vasco Juan Sebastián Elcano\, el hombre que consiguió concluir la misión. La película está incluída en el Género de Animación y de Aventuras Infantil. Está película de cine familiar es para todos los públicos. \nCartel:
URL:https://historico.ateneovalencia.es/evento/navidades-pelicula-infantil-elcano-y-magallanes-primera-vuelta-al-mundo/
LOCATION:Salón Sorolla - Ateneo Mercantil de Valencia\, Plaza del Ayuntamiento 18\, Valencia\, Valencia\, 46002\, España
CATEGORIES:Navidad
ATTACH;FMTTYPE=image/jpeg:https://historico.ateneovalencia.es/wp-content/uploads/2020/12/20210102-Navidad-Pelicula-Elcano-Magallanes.jpg
END:VEVENT
BEGIN:VEVENT
DTSTART;TZID=Europe/Madrid:20210102T170000
DTEND;TZID=Europe/Madrid:20210102T183000
DTSTAMP:20260423T190954
CREATED:20201203T172452Z
LAST-MODIFIED:20201204T102016Z
UID:61183-1609606800-1609612200@historico.ateneovalencia.es
SUMMARY:Navidades: Película "Sonic\, la película"
DESCRIPTION:El Ateneo Mercantil de Valencia también ha programado actividades exclusivas para los familiares de los socios ateneístas y estas vacaciones también se ha programado cine juvenil. La cuarta de las películas que se proyectará en el Salón Sorolla será el próximo sábado 2 de enero a las 17 horas y la película de ciencia ficción escogida es la norteamericana "Sonic\, la película" (2020). \nSonic\, el descarado erizo azul basado en la famosa serie de videojuegos de Sega\, vivirá aventuras y desventuras cuando conoce a su amigo humano y policía\, Tom Wachowski (James Marsden). Sonic y Tom unirán sus fuerzas para tratar de detener los planes del malvado Dr. Robotnik (Jim Carrey)\, que intenta atrapar a Sonic con el fin de emplear sus inmensos poderes para dominar el mundo. La película está incluída en el Género de Aventuras\, Fantástico y Acción. Está película de cine familiar es para todos los públicos. \nCartel:
URL:https://historico.ateneovalencia.es/evento/navidades-pelicula-sonic-la-pelicula/
LOCATION:Salón Sorolla - Ateneo Mercantil de Valencia\, Plaza del Ayuntamiento 18\, Valencia\, Valencia\, 46002\, España
CATEGORIES:Navidad
ATTACH;FMTTYPE=image/jpeg:https://historico.ateneovalencia.es/wp-content/uploads/2020/12/20210102-Navidad-Pelicula-Sonic.jpg
END:VEVENT
BEGIN:VEVENT
DTSTART;TZID=Europe/Madrid:20210102T190000
DTEND;TZID=Europe/Madrid:20210102T210000
DTSTAMP:20260423T190954
CREATED:20201204T104401Z
LAST-MODIFIED:20201229T181340Z
UID:61195-1609614000-1609621200@historico.ateneovalencia.es
SUMMARY:Gran Concierto de Año Nuevo de Valencia con la Orquesta Sinfónica del Mediterráneo
DESCRIPTION:El Ateneo Mercantil de Valencia de nuevo ha logrado que el tradicional Gran Concierto de Año Nuevo de Valencia llegue hasta nuestra casa\, al Salón de Actos. Será un gran concierto que se celebrará el próximo sábado 2 de enero a las 19 horas. \nUna gran noticia porque llega a nuestra ciudad el mejor concierto posible para estas Navidades\, ya que la prestigiosa Orquesta Sinfónica del Mediterráneo con el afamado director D. Juan Antonio Ramírez volverá a hacer las delicias del público en el mejor escenario posible\, en pleno centro de Valencia\, en la Plaza del Ayuntamiento. Un concierto único con un repertorio innovador\, en el que habrá baile clásico que nos recordará a los emblemáticos conciertos de Viena. \nEste año el Gran Concierto de Año Nuevo será más exclusivo que nunca\, ya que el aforo del teatro del Ateneo Mercantil contará con las restricciones sanitarias por la pandemia de la Covid19\, por lo que el aforo será del 50%. La Orquesta Sinfónica del Mediterráneo ya triunfó años atrás con los conciertos celebrados en el Palau de la Música y en el Palau de Les Arts\, pero también la pasada Navidad cuando vendió todas las entradas en el Ateneo Mercantil. \nLa Orquesta Sinfónica del Mediterráneo es una de las mejores sinfónicas de la Comunitat Valenciana\, con un gran director y unos músicos de enorme prestigio en el mundo de la música. Disfruta de esta orquesta formada por prestigiosos músicos de la Comunidad Valenciana con gran experiencia profesional que ha maravillado en los conciertos de Navidad en 2017\, 2018\, 2019 y 2020. \nEntradas ya a la venta aquí: https://bit.ly/2WIr7n0\n\nTienen que estar atentos para no quedarse sin ellas\, ya que se pondrán a la venta tan sólo 250 entradas. No hay mejor regalo para estas Navidades que unas buenas entradas para el mejor concierto de música clásica de estas Navidades en Valencia. Disfruta de la fórmula perfecta que ha buscado el Ateneo Mercantil e Innovarts Music Productions para este concierto: Música\, Pasión y Señorío en una de las salas con más historia de la ciudad y con una gran acústica. \nCartel:
URL:https://historico.ateneovalencia.es/evento/gran-concierto-de-ano-nuevo-de-valencia-con-la-orquesta-sinfonica-del-mediterraneo/
LOCATION:Teatro Ateneo
CATEGORIES:Conciertos y Recitales,Navidad
ATTACH;FMTTYPE=image/jpeg:https://historico.ateneovalencia.es/wp-content/uploads/2020/12/20210102-Concierto-de-Año-Nuevo-Ateneo.jpg
END:VEVENT
END:VCALENDAR