BEGIN:VCALENDAR
VERSION:2.0
PRODID:-//Ateneo Mercantil de Valencia - ECPv6.0.4//NONSGML v1.0//EN
CALSCALE:GREGORIAN
METHOD:PUBLISH
X-WR-CALNAME:Ateneo Mercantil de Valencia
X-ORIGINAL-URL:https://historico.ateneovalencia.es
X-WR-CALDESC:Eventos para Ateneo Mercantil de Valencia
REFRESH-INTERVAL;VALUE=DURATION:PT1H
X-Robots-Tag:noindex
X-PUBLISHED-TTL:PT1H
BEGIN:VTIMEZONE
TZID:Europe/Madrid
BEGIN:DAYLIGHT
TZOFFSETFROM:+0100
TZOFFSETTO:+0200
TZNAME:CEST
DTSTART:20200329T010000
END:DAYLIGHT
BEGIN:STANDARD
TZOFFSETFROM:+0200
TZOFFSETTO:+0100
TZNAME:CET
DTSTART:20201025T010000
END:STANDARD
BEGIN:DAYLIGHT
TZOFFSETFROM:+0100
TZOFFSETTO:+0200
TZNAME:CEST
DTSTART:20210328T010000
END:DAYLIGHT
BEGIN:STANDARD
TZOFFSETFROM:+0200
TZOFFSETTO:+0100
TZNAME:CET
DTSTART:20211031T010000
END:STANDARD
END:VTIMEZONE
BEGIN:VEVENT
DTSTART;TZID=Europe/Madrid:20201231T193000
DTEND;TZID=Europe/Madrid:20210101T010000
DTSTAMP:20260423T173414
CREATED:20201209T101027Z
LAST-MODIFIED:20201209T101224Z
UID:61259-1609443000-1609462800@historico.ateneovalencia.es
SUMMARY:Ateneo Restaurant: Cena de Nochevieja
DESCRIPTION:En unas Navidades especiales por la pandemia de la Covid19\, el Grupo El Alto ha programado grandes menús para las comidas y cenas\, además de escoger el mejor producto de mercado y de temporada. La tercera de las citas será la Cena de Nochevieja. Disfruta de la mejor restauración de estas Navidades en el centro de Valencia en la sexta planta del Ateneo Mercantil. \nRecuerda que en todas nuestras instalaciones se cumple las medidas sanitarias y de seguridad que marca la normativa Covid19 estipulada por la Conselleria de Sanitat. El Grupo El Alto ha dado a conocer el menú que ofrecerá en la cena de Nochevieja que consta de un aperitivo\, un entrante individual\, un primero plato y un principal\, postre\, uvas y copa de cava y dulces. Recuerda que ya puedes reservar tu plaza en el Ateneo Mercantil para cenar el 31 de diciembre. Las reservas se pueden hacer en el propio Restaurante (sexta planta del edificio) o bien reservando en el teléfono 96.293.55.70 y 670.00.61.61.  \nCabe recordar que el horario de la cena puede variar según las restricciones locales de horarios por la pandemia de la Covid19. Preguntar por el horario cuando se haga la reserva.\n \nEl menú de la comida de Navidad tiene un precio de Adulto de 99€  si eres socio del Ateneo Mercantil y de 110€ para los No socios. \nCartel:
URL:https://historico.ateneovalencia.es/evento/ateneo-restaurant-cena-de-nochevieja/
LOCATION:Ateneo Restaurante\, Plaza del Ayuntamiento\, 18\, Valencia\, España\, Valencia\, Comunidad Valenciana\, 46002\, España
CATEGORIES:Navidad
ATTACH;FMTTYPE=image/jpeg:https://historico.ateneovalencia.es/wp-content/uploads/2020/12/20201231-Nochevieja.jpg
END:VEVENT
BEGIN:VEVENT
DTSTART;TZID=Europe/Madrid:20210101T130000
DTEND;TZID=Europe/Madrid:20210101T170000
DTSTAMP:20260423T173414
CREATED:20201209T102338Z
LAST-MODIFIED:20201209T102425Z
UID:61263-1609506000-1609520400@historico.ateneovalencia.es
SUMMARY:Ateneo Restaurant: Comida de Año Nuevo
DESCRIPTION:En unas Navidades especiales por la pandemia de la Covid19\, el Grupo El Alto ha programado grandes menús para las comidas y cenas\, además de escoger el mejor producto de mercado y de temporada. La cuarta de las citas será la Comida de Año Nuevo. Disfruta de la mejor restauración de estas Navidades en el centro de Valencia en la sexta planta del Ateneo Mercantil. \nRecuerda que en todas nuestras instalaciones se cumple las medidas sanitarias y de seguridad que marca la normativa Covid19 estipulada por la Conselleria de Sanitat. El Grupo El Alto ha dado a conocer el menú que ofrecerá en la comida de Año Nuevo que consta de un entrante individual\, se deberá elegir un plato entre los principales y postre. Recuerda que ya puedes reservar tu plaza en el Ateneo rMercantil para comer el 1 de enero. Las reservas se pueden hacer en el propio Restaurante (sexta planta del edificio) o bien reservando en el teléfono 96.293.55.70 y 670.00.61.61.  \nEl menú de la comida de Navidad tiene un precio de Adulto de 35€  si eres socio del Ateneo Mercantil y de 45€ para los No socios. \nCartel:
URL:https://historico.ateneovalencia.es/evento/ateneo-restaurant-comida-de-ano-nuevo/
LOCATION:Ateneo Restaurante\, Plaza del Ayuntamiento\, 18\, Valencia\, España\, Valencia\, Comunidad Valenciana\, 46002\, España
CATEGORIES:Navidad
ATTACH;FMTTYPE=image/jpeg:https://historico.ateneovalencia.es/wp-content/uploads/2020/12/20210101-Comida-Año-Nuevo.jpg
END:VEVENT
END:VCALENDAR