BEGIN:VCALENDAR
VERSION:2.0
PRODID:-//Ateneo Mercantil de Valencia - ECPv6.0.4//NONSGML v1.0//EN
CALSCALE:GREGORIAN
METHOD:PUBLISH
X-ORIGINAL-URL:https://historico.ateneovalencia.es
X-WR-CALDESC:Eventos para Ateneo Mercantil de Valencia
REFRESH-INTERVAL;VALUE=DURATION:PT1H
X-Robots-Tag:noindex
X-PUBLISHED-TTL:PT1H
BEGIN:VTIMEZONE
TZID:Europe/Madrid
BEGIN:DAYLIGHT
TZOFFSETFROM:+0100
TZOFFSETTO:+0200
TZNAME:CEST
DTSTART:20200329T010000
END:DAYLIGHT
BEGIN:STANDARD
TZOFFSETFROM:+0200
TZOFFSETTO:+0100
TZNAME:CET
DTSTART:20201025T010000
END:STANDARD
END:VTIMEZONE
BEGIN:VEVENT
DTSTART;TZID=Europe/Madrid:20200308T123000
DTEND;TZID=Europe/Madrid:20200308T130000
DTSTAMP:20260425T210050
CREATED:20200205T140029Z
LAST-MODIFIED:20200229T095242Z
UID:55803-1583670600-1583672400@historico.ateneovalencia.es
SUMMARY:Inauguración de la Barraca Fallera 2020
DESCRIPTION:A las 12.30 horas arranca un gran día en nuestra institución con la inauguración de la Barraca Fallera del Salón Noble por parte de la nueva Reina del Ateneo\, la Srta. Ana Bonet Cerdá\, quien cortará la cinta de nuestra Barraca Fallera\, que es el casal fallero del Ateneo Mercantil\, junto a su corte de honor y la presidenta del Ateneo\, Carmen de Rosa. \nUn día que vuelve a coincidir\, como viene siendo habitual\, con el Día de la Mujer Trabajadora\, por lo que el Ateneo regalará a todas sus mujeres un pequeño detalle. El acto estará amenizado por la tuna\, que no quieren perderse una de las grandes tradiciones ateneístas\, la apertura de mano de Amstel\, nuestro patrocinador\, de la Barraca de Fallas en el Noble. \nCartel:
URL:https://historico.ateneovalencia.es/evento/inauguracion-de-la-barraca-fallera-2020/
LOCATION:Salón Noble - Ateneo Mercantil de Valencia\, Plaza del Ayuntamiento 18\, Valencia\, Valencia\, 46002\, España
CATEGORIES:Fallas
ATTACH;FMTTYPE=image/jpeg:https://historico.ateneovalencia.es/wp-content/uploads/2020/02/20200308-Inauguracion-Barraca-Fallera.jpg
END:VEVENT
END:VCALENDAR