BEGIN:VCALENDAR
VERSION:2.0
PRODID:-//Ateneo Mercantil de Valencia - ECPv6.0.4//NONSGML v1.0//EN
CALSCALE:GREGORIAN
METHOD:PUBLISH
X-WR-CALNAME:Ateneo Mercantil de Valencia
X-ORIGINAL-URL:https://historico.ateneovalencia.es
X-WR-CALDESC:Eventos para Ateneo Mercantil de Valencia
REFRESH-INTERVAL;VALUE=DURATION:PT1H
X-Robots-Tag:noindex
X-PUBLISHED-TTL:PT1H
BEGIN:VTIMEZONE
TZID:Europe/Madrid
BEGIN:DAYLIGHT
TZOFFSETFROM:+0100
TZOFFSETTO:+0200
TZNAME:CEST
DTSTART:20200329T010000
END:DAYLIGHT
BEGIN:STANDARD
TZOFFSETFROM:+0200
TZOFFSETTO:+0100
TZNAME:CET
DTSTART:20201025T010000
END:STANDARD
END:VTIMEZONE
BEGIN:VEVENT
DTSTART;TZID=Europe/Madrid:20200306T210000
DTEND;TZID=Europe/Madrid:20200306T233000
DTSTAMP:20260425T221624
CREATED:20200205T133715Z
LAST-MODIFIED:20200205T133715Z
UID:55796-1583528400-1583537400@historico.ateneovalencia.es
SUMMARY:Primera Cena de Fallas 2020: Pataqueta de Embutido
DESCRIPTION:El Salón Noble del Ateneo Mercantil se convierte estas Fallas en un Casal Fallero y como tal se celebran las cenas correspondientes junto a la Barraca ateneísta. La primera de las cenas asignadas con la compra de tickets por seis euros será una Cena de Pataqueta de Embutido Valenciano. Luego hay baile hasta la 1.00 horas de la madrugada. \nRecordar a los socios que deberán comprar los tickets (precio 6€) de estas cenas previamente. La venta de tickets está abierta en Secretaría desde el 17 febrero.\nCartel:\n \n  \n 
URL:https://historico.ateneovalencia.es/evento/primera-cena-de-fallas-2020-pataqueta-de-embutido/
LOCATION:Salón Noble - Ateneo Mercantil de Valencia\, Plaza del Ayuntamiento 18\, Valencia\, Valencia\, 46002\, España
CATEGORIES:Fallas
ATTACH;FMTTYPE=image/jpeg:https://historico.ateneovalencia.es/wp-content/uploads/2020/02/20200314-Cenas-Cafeteria-Fallas.jpg
END:VEVENT
END:VCALENDAR