BEGIN:VCALENDAR
VERSION:2.0
PRODID:-//Ateneo Mercantil de Valencia - ECPv6.0.4//NONSGML v1.0//EN
CALSCALE:GREGORIAN
METHOD:PUBLISH
X-ORIGINAL-URL:https://historico.ateneovalencia.es
X-WR-CALDESC:Eventos para Ateneo Mercantil de Valencia
REFRESH-INTERVAL;VALUE=DURATION:PT1H
X-Robots-Tag:noindex
X-PUBLISHED-TTL:PT1H
BEGIN:VTIMEZONE
TZID:Europe/Madrid
BEGIN:DAYLIGHT
TZOFFSETFROM:+0100
TZOFFSETTO:+0200
TZNAME:CEST
DTSTART:20200329T010000
END:DAYLIGHT
BEGIN:STANDARD
TZOFFSETFROM:+0200
TZOFFSETTO:+0100
TZNAME:CET
DTSTART:20201025T010000
END:STANDARD
END:VTIMEZONE
BEGIN:VEVENT
DTSTART;VALUE=DATE:20200223
DTEND;VALUE=DATE:20200224
DTSTAMP:20260425T210054
CREATED:20200120T102843Z
LAST-MODIFIED:20200131T123422Z
UID:55504-1582416000-1582502399@historico.ateneovalencia.es
SUMMARY:III Día del Socio\, el domingo 23 de febrero
DESCRIPTION:Por tercer año consecutivo el Ateneo Mercantil celebra el Día del Socio. El próximo domingo 23 de febrero desde las 9:30 horas celebramos este evento que cuenta con una gran asistencia de asociados a nuestra institución. Un día dedicado al ocio y a homenajear a todos los que conforman esta gran entidad. \nEn la pasada edición cerca de 1.000 personas disfrutaron de las actividades organizadas para conmemorar este día. Este año la jornada comenzará a las 9:30 horas con la recepción de los socios en el Hall. A las 10 está previsto el almuerzo de Titaina en el Salón Noble. El Salón de Actos tomará la iniciativa a las 12 horas con una proyección cultural y musical ofrecida por Don Carlos de la Flor. A las 14:30 se dará paso a la degustación de arroces en el Salón Noble\, Salón Stolz y Salón Sorolla. A la finalización habrá sorteo y baile en el Salón Noble y como broche de oro del día en el Salón de Actos se celebrará la obra de teatro "Bodas de Sangre". \nA partir del 3 de febrero se puede realizar la inscripción en Secretaría. Esta jornada es gratuita para el socio\, que puede venir acompañado por una persona no socia abonando un ticket de 5 euros.
URL:https://historico.ateneovalencia.es/evento/iii-dia-del-socio-el-domingo-23-de-febrero/
LOCATION:Ateneo Mercantil Valencia\, Plaza del Ayuntamiento 18\, Valencia\, Valencia\, 46002\, España
CATEGORIES:Fiestas Sociales
ATTACH;FMTTYPE=image/jpeg:https://historico.ateneovalencia.es/wp-content/uploads/2020/01/20200223-III-Dia-del-Socio.jpg
END:VEVENT
END:VCALENDAR