BEGIN:VCALENDAR
VERSION:2.0
PRODID:-//Ateneo Mercantil de Valencia - ECPv6.0.4//NONSGML v1.0//EN
CALSCALE:GREGORIAN
METHOD:PUBLISH
X-ORIGINAL-URL:https://historico.ateneovalencia.es
X-WR-CALDESC:Eventos para Ateneo Mercantil de Valencia
REFRESH-INTERVAL;VALUE=DURATION:PT1H
X-Robots-Tag:noindex
X-PUBLISHED-TTL:PT1H
BEGIN:VTIMEZONE
TZID:Europe/Madrid
BEGIN:DAYLIGHT
TZOFFSETFROM:+0100
TZOFFSETTO:+0200
TZNAME:CEST
DTSTART:20200329T010000
END:DAYLIGHT
BEGIN:STANDARD
TZOFFSETFROM:+0200
TZOFFSETTO:+0100
TZNAME:CET
DTSTART:20201025T010000
END:STANDARD
END:VTIMEZONE
BEGIN:VEVENT
DTSTART;TZID=Europe/Madrid:20200207T193000
DTEND;TZID=Europe/Madrid:20200207T213000
DTSTAMP:20260425T210104
CREATED:20200204T121932Z
LAST-MODIFIED:20200207T130511Z
UID:55705-1581103800-1581111000@historico.ateneovalencia.es
SUMMARY:Acto de Exaltación de la Reina del Ateneo 2020\, la Srta. Ana Bonet Cerdá
DESCRIPTION:Un año más\, se acercan la Fiestas de Fallas y en el Ateneo Mercantil iniciamos los actos con la solemne celebración de la Exaltación de la Reina del Ateneo 2020 en el Salón de Actos. Una ceremonia en la que se presenta en sociedad a la Srta. Ana Bonet Cerdá y su Corte de Honor: las Srtas. Mónica Bascuñan Morell\, Marta Parra Herrero\, Irene Carreras Jiménez\, Elena Albo Jiménez\, Pepa Falomir Esteve y Julia Falomir Esteve. \nYa han confirmado su presencia varias comisiones falleras que quieren darle la bienvenida a nuestra Reina del Ateneo 2020. Además\, se llevará a cabo una actuación músical a cargo de la pareja Aysha Bordás y Ángel Bellido y al finalizar el acto se servirá un vino de honor cortesía de nuestra Reina. \nEl acto de exaltación de nuestra Reina es una ceremonia que se viene celebrando desde el año 1998 y en la que los socios ateneístas pueden conocer más de cerca a la que será nuestra abanderada durante todas las Fallas. \nCartel:
URL:https://historico.ateneovalencia.es/evento/acto-de-exaltacion-de-la-reina-del-ateneo-2020-la-srta-ana-bonet/
LOCATION:Teatro Ateneo
CATEGORIES:Fallas
ATTACH;FMTTYPE=image/jpeg:https://historico.ateneovalencia.es/wp-content/uploads/2020/02/20200207-Exaltacion-Reina-del-Ateneo-2020.jpg
END:VEVENT
END:VCALENDAR