BEGIN:VCALENDAR
VERSION:2.0
PRODID:-//Ateneo Mercantil de Valencia - ECPv6.0.4//NONSGML v1.0//EN
CALSCALE:GREGORIAN
METHOD:PUBLISH
X-WR-CALNAME:Ateneo Mercantil de Valencia
X-ORIGINAL-URL:https://historico.ateneovalencia.es
X-WR-CALDESC:Eventos para Ateneo Mercantil de Valencia
REFRESH-INTERVAL;VALUE=DURATION:PT1H
X-Robots-Tag:noindex
X-PUBLISHED-TTL:PT1H
BEGIN:VTIMEZONE
TZID:Europe/Madrid
BEGIN:DAYLIGHT
TZOFFSETFROM:+0100
TZOFFSETTO:+0200
TZNAME:CEST
DTSTART:20200329T010000
END:DAYLIGHT
BEGIN:STANDARD
TZOFFSETFROM:+0200
TZOFFSETTO:+0100
TZNAME:CET
DTSTART:20201025T010000
END:STANDARD
END:VTIMEZONE
BEGIN:VEVENT
DTSTART;TZID=Europe/Madrid:20200106T140000
DTEND;TZID=Europe/Madrid:20200106T170000
DTSTAMP:20260426T005713
CREATED:20191118T163903Z
LAST-MODIFIED:20191118T180459Z
UID:54150-1578319200-1578330000@historico.ateneovalencia.es
SUMMARY:Conoce el Menú de la Comida de Reyes en el Restaurante
DESCRIPTION:La mejor restauración de estas Navidades llega de la mano del Restaurante del Ateneo. El Grupo El Alto ha dado a conocer los dos menús que ofrecerá en la comida de Reyes\, el de adultos como el infantil. Recuerda que ya puedes reservar tu plaza en el Ateneo Mercantil para comer el día de Navidad. Las reservas ya se pueden hacer en el propio Restaurante (sexta planta del edificio) o bien reservando en el teléfono 96.293.55.70 y 670.00.61.61. \nRecuerda que el precio de la comida de Reyes es para el menú de adultos: 30€ para los Socios y 35€  para los No Socios\, mientras que el menú infantil es de 22€. \nCartel:
URL:https://historico.ateneovalencia.es/evento/conoce-el-menu-de-la-comida-de-reyes-en-el-restaurante/
LOCATION:Ateneo Restaurante\, Plaza del Ayuntamiento\, 18\, Valencia\, España\, Valencia\, Comunidad Valenciana\, 46002\, España
CATEGORIES:Navidad
ATTACH;FMTTYPE=image/jpeg:https://historico.ateneovalencia.es/wp-content/uploads/2019/11/20200106-Menu-Restaurante-Comida-Reyes-1.jpg
END:VEVENT
END:VCALENDAR