BEGIN:VCALENDAR
VERSION:2.0
PRODID:-//Ateneo Mercantil de Valencia - ECPv6.0.4//NONSGML v1.0//EN
CALSCALE:GREGORIAN
METHOD:PUBLISH
X-WR-CALNAME:Ateneo Mercantil de Valencia
X-ORIGINAL-URL:https://historico.ateneovalencia.es
X-WR-CALDESC:Eventos para Ateneo Mercantil de Valencia
REFRESH-INTERVAL;VALUE=DURATION:PT1H
X-Robots-Tag:noindex
X-PUBLISHED-TTL:PT1H
BEGIN:VTIMEZONE
TZID:Europe/Madrid
BEGIN:DAYLIGHT
TZOFFSETFROM:+0100
TZOFFSETTO:+0200
TZNAME:CEST
DTSTART:20200329T010000
END:DAYLIGHT
BEGIN:STANDARD
TZOFFSETFROM:+0200
TZOFFSETTO:+0100
TZNAME:CET
DTSTART:20201025T010000
END:STANDARD
END:VTIMEZONE
BEGIN:VEVENT
DTSTART;TZID=Europe/Madrid:20200104T170000
DTEND;TZID=Europe/Madrid:20200104T200000
DTSTAMP:20260425T232846
CREATED:20191117T085712Z
LAST-MODIFIED:20200103T114048Z
UID:54047-1578157200-1578168000@historico.ateneovalencia.es
SUMMARY:Segundo Taller Sylvanian Families para Socios - Plazas Limitadas
DESCRIPTION:El Mundo Sylvanian Families que llega al Ateneo Mercantil con una gran exposición en el Salon Noble\, la más grande de Europa\, se completará con dos talleres exclusivos para los niños y niñas de los socios ateneístas que tengan entre 4 y los 12 años. La segunda de las sesiones de los talleres será el próximo sábado 4 de enero\, de 17 a 20 horas en la Sala de Ocio\, en el que estarán divirtiéndose durante tres horas y estarán perfectamente cuidados por monitores. \nAdemás\, la dirección del Ateneo Mercantil se encargará de darles la merienda para que no falte hasta el más mínimo detalle y los más pequeños  se lo pasen en grande. Y es que durante tres horas podrán realizar trabajos de manualidades\, disfrutarán de teatro de muñecos\, títeres y marionetas y muchos juegos. \nEl precio de la actividad es de 2 euros y las plazas son limitadas para cada uno de dos talleres\, por lo que si no quieres quedarte sin sitio\, no pierdas la oportunidad y apunta a tus niños y niñas en Secretaría del Ateneo. Ya están abiertas las inscripciones y se cerrarán una vez se agoten las plazas. \nCartel:
URL:https://historico.ateneovalencia.es/evento/segundo-taller-sylvanian-families-para-socios-plazas-limitadas/
LOCATION:Sala de Ocio - Ateneo Mercantil de Valencia\, Plaza del Ayuntamiento\, 18\, Valencia\, España\, Valencia\, Valencia\, 46002\, España
CATEGORIES:Navidad
ATTACH;FMTTYPE=image/jpeg:https://historico.ateneovalencia.es/wp-content/uploads/2019/11/Sylvanian-1-CORTADA.jpg
END:VEVENT
END:VCALENDAR