BEGIN:VCALENDAR
VERSION:2.0
PRODID:-//Ateneo Mercantil de Valencia - ECPv6.0.4//NONSGML v1.0//EN
CALSCALE:GREGORIAN
METHOD:PUBLISH
X-ORIGINAL-URL:https://historico.ateneovalencia.es
X-WR-CALDESC:Eventos para Ateneo Mercantil de Valencia
REFRESH-INTERVAL;VALUE=DURATION:PT1H
X-Robots-Tag:noindex
X-PUBLISHED-TTL:PT1H
BEGIN:VTIMEZONE
TZID:Europe/Madrid
BEGIN:DAYLIGHT
TZOFFSETFROM:+0100
TZOFFSETTO:+0200
TZNAME:CEST
DTSTART:20240331T010000
END:DAYLIGHT
BEGIN:STANDARD
TZOFFSETFROM:+0200
TZOFFSETTO:+0100
TZNAME:CET
DTSTART:20241027T010000
END:STANDARD
END:VTIMEZONE
BEGIN:VEVENT
DTSTART;TZID=Europe/Madrid:20240301T213000
DTEND;TZID=Europe/Madrid:20240301T233000
DTSTAMP:20260421T181709
CREATED:20240125T090500Z
LAST-MODIFIED:20240213T090757Z
UID:76504-1709328600-1709335800@historico.ateneovalencia.es
SUMMARY:Cena de Gala Fallera 2024 en honor a la Reina del Ateneo la Srta. Carla Rubio Alfonso
DESCRIPTION:El Ateneo Mercantil organiza la Cena de Gala Fallera 2024 en honor a nuestra Reina del Ateneo\, la Srta. Carla Rubio Alfonso\, para presentarla en sociedad y poner en valor su figura. La cena será el próximo viernes 1 de marzo y arrancará a las 21:30 horas en el Salón Noble. Además\, al término de la cena\, la velada seguirá con música en directo gracias a Sandra Acosta\, la vocalista de la orquesta Montecarlo. \nLes indicamos a continuación el menú. Recuerda que hay Dress Code Gala: Caballeros: Esmoquin o traje oscuro y Señoras: Traje de fiesta. Precio: 40 euros. Los tiques se podrán sacar en Secretaría (5ª planta) y podrán elegir mesa en el Restaurante. \nMENÚ:\nEntrante: BUÑUELO DE BACALAO y PULPO EN SALSA TÁRTARA DE AZAFRÁN y ALIOLI DE WASABI. \nPrimer Plato: ENVOLTINI DE CARRILLERA y QUESO IDIAZÁBAL con CREMOSO DE BONIATO y GUISO DE SETAS. \nSegundo Plato (a elegir):  \n\nLINGOTE DE CORDERO\, TIMBAL DE AJOARRIERO y TRINXAT DE JAMÓN\nCORVINA EN SUQUET DE PESCADORES\n\nPostre: SABLE DE CHOCOLATE CARAMELO CON FRESA Y MANGO. \nBodega: VINO BLANCO MASÍA ALDAMAR SAUVIGNON (DO UTIEL REQUENA) y VINO TINTO MASÍA ALDAMAR-CRIANZA (DO UTIEL REQUENA) BODEGA LADRÓN DE LUNAS. \nRefrescos\, cerveza y agua mineral. Cafe Illy e infusiones. \nCartel:
URL:https://historico.ateneovalencia.es/evento/cena-de-gala-fallera-2024-en-honor-a-la-reina-del-ateneo-la-srta-carla-rubio-alfonso/
LOCATION:Salón Noble - Ateneo Mercantil de Valencia\, Plaza del Ayuntamiento 18\, Valencia\, Valencia\, 46002\, España
CATEGORIES:Fallas
ATTACH;FMTTYPE=image/jpeg:https://historico.ateneovalencia.es/wp-content/uploads/2024/01/20240301-Gala-Fallera-2024-Carla-Rubio-Alfonso.jpg
END:VEVENT
END:VCALENDAR