BEGIN:VCALENDAR
VERSION:2.0
PRODID:-//Ateneo Mercantil de Valencia - ECPv6.0.4//NONSGML v1.0//EN
CALSCALE:GREGORIAN
METHOD:PUBLISH
X-ORIGINAL-URL:https://historico.ateneovalencia.es
X-WR-CALDESC:Eventos para Ateneo Mercantil de Valencia
REFRESH-INTERVAL;VALUE=DURATION:PT1H
X-Robots-Tag:noindex
X-PUBLISHED-TTL:PT1H
BEGIN:VTIMEZONE
TZID:Europe/Madrid
BEGIN:DAYLIGHT
TZOFFSETFROM:+0100
TZOFFSETTO:+0200
TZNAME:CEST
DTSTART:20200329T010000
END:DAYLIGHT
BEGIN:STANDARD
TZOFFSETFROM:+0200
TZOFFSETTO:+0100
TZNAME:CET
DTSTART:20201025T010000
END:STANDARD
END:VTIMEZONE
BEGIN:VEVENT
DTSTART;TZID=Europe/Madrid:20200102T120000
DTEND;TZID=Europe/Madrid:20200102T140000
DTSTAMP:20260425T221510
CREATED:20191117T101345Z
LAST-MODIFIED:20191118T182212Z
UID:54061-1577966400-1577973600@historico.ateneovalencia.es
SUMMARY:Película Infantil: "Aladdin"
DESCRIPTION:La apuesta por el cinde de animación volverá a ser una de los ejes centrales para nuestros niños y niñas ateneístas y este año se podrán ver cinco películas\, cuatro en horario de mañana y una por la tarde. La quinta película escogida es "Aladdin" y podrá verse el jueves 2 de enero a las 12 horas en el Salón Sorolla. Una película para todos los públicos y una de las mejores versiones en imagen fotorrealista producidas por Disney a partir de sus clásicos animados. \nAladdin (Mena Massoud) es un adorable pero desafortunado ladronzuelo enamorado de la hija del Sultán\, la princesa Jasmine (Naomi Scott). Para intentar conquistarla\, acepta el desafío de Jafar (Marwan Kenzari)\, que consiste en entrar a una cueva en mitad del desierto para dar con una lámpara mágica que le concederá todos sus deseos. Allí es donde Aladdín conocerá al Genio (Will Smith)\, dando inicio a una aventura como nunca antes había imaginado. \nGénero: Fantástico. Musical. Romance. Aventuras. Remake Mundo Disney. Cine familiar. \nDuración: 2 horas y 8 minutos. \nCartel:
URL:https://historico.ateneovalencia.es/evento/pelicula-infantil-aladdin/
LOCATION:Salón Sorolla - Ateneo Mercantil de Valencia\, Plaza del Ayuntamiento 18\, Valencia\, Valencia\, 46002\, España
CATEGORIES:Navidad
ATTACH;FMTTYPE=image/jpeg:https://historico.ateneovalencia.es/wp-content/uploads/2019/11/PELICULA-ALADDIN-CORTADA.jpg
END:VEVENT
BEGIN:VEVENT
DTSTART;TZID=Europe/Madrid:20200102T190000
DTEND;TZID=Europe/Madrid:20200102T190000
DTSTAMP:20260425T221510
CREATED:20191210T095946Z
LAST-MODIFIED:20191216T093953Z
UID:54606-1577991600-1577991600@historico.ateneovalencia.es
SUMMARY:El Gran Concierto de Año Nuevo de Valencia será en el Ateneo Mercantil
DESCRIPTION:Venta de Entradas al público en El Corte Inglés\n \nEl Ateneo Mercantil de Valencia ha logrado que el tradicional Gran Concierto de Año Nuevo de Valencia llegue hasta nuestro Salón de Actos el próximo jueves 2 de enero a las 19 horas. El mejor concierto estas Navidades vendrá de nuevo al centro de Valencia\, a la Plaza del Ayuntamiento. Un evento que contará con la prestigiosa Orquesta Sinfónica del Mediterráneo dirigida por Juan Antonio Ramírez que ofrecerá un concierto único con un repertorio innovador\, en el que habrá baile clásico y varias sorpresas que iremos desvelando poco a poco. \nAdemás\, este año el Concierto de Año Nuevo será súper exclusivo\, ya que el aforo del teatro del Ateneo Mercantil es algo menor que el de las salas donde se celebró el mismo evento en los últimos años como fue en el Palau de la Música y en el Palau de Les Arts. \nLa Orquesta Sinfónica del Mediterráneo es una de las mejores sinfónicas de la Comunitat Valenciana\, con un gran director y unos músicos de enorme prestigio en el mundo de la música. Disfruta de esta orquesta formada por prestigiosos músicos de la Comunidad Valenciana con gran experiencia profesional que ha maravillado en los conciertos de Navidad en 2017 y 2018. \nLas Entradas para el público en general están a la venta en El Corte Inglés. Tienen que estar atentos para no quedarse sin ellas\, ya que se pondrán a la venta alrededor de 500 entradas. No hay mejor regalo para estas Navidades que unas buenas entradas para el mejor concierto de música clásica de estas Navidades en Valencia. Disfruta de la fórmula perfecta que ha buscado el Ateneo Mercantil e Innovarts Music Productions para este concierto: Música\, Pasión y Señorío en una de las salas con más historia de la ciudad y con una gran acústica. \n\nCartel:\n \nGalería de Imágenes:
URL:https://historico.ateneovalencia.es/evento/el-gran-concierto-de-ano-nuevo-de-valencia-sera-en-el-ateneo-mercantil/
LOCATION:Teatro Ateneo
CATEGORIES:Conciertos y Recitales,Galas,Navidad,Social
ATTACH;FMTTYPE=image/jpeg:https://historico.ateneovalencia.es/wp-content/uploads/2019/12/20200102-Concierto-Año-Nuevo-1.jpg
END:VEVENT
BEGIN:VEVENT
DTSTART;TZID=Europe/Madrid:20200104T170000
DTEND;TZID=Europe/Madrid:20200104T200000
DTSTAMP:20260425T221510
CREATED:20191117T085712Z
LAST-MODIFIED:20200103T114048Z
UID:54047-1578157200-1578168000@historico.ateneovalencia.es
SUMMARY:Segundo Taller Sylvanian Families para Socios - Plazas Limitadas
DESCRIPTION:El Mundo Sylvanian Families que llega al Ateneo Mercantil con una gran exposición en el Salon Noble\, la más grande de Europa\, se completará con dos talleres exclusivos para los niños y niñas de los socios ateneístas que tengan entre 4 y los 12 años. La segunda de las sesiones de los talleres será el próximo sábado 4 de enero\, de 17 a 20 horas en la Sala de Ocio\, en el que estarán divirtiéndose durante tres horas y estarán perfectamente cuidados por monitores. \nAdemás\, la dirección del Ateneo Mercantil se encargará de darles la merienda para que no falte hasta el más mínimo detalle y los más pequeños  se lo pasen en grande. Y es que durante tres horas podrán realizar trabajos de manualidades\, disfrutarán de teatro de muñecos\, títeres y marionetas y muchos juegos. \nEl precio de la actividad es de 2 euros y las plazas son limitadas para cada uno de dos talleres\, por lo que si no quieres quedarte sin sitio\, no pierdas la oportunidad y apunta a tus niños y niñas en Secretaría del Ateneo. Ya están abiertas las inscripciones y se cerrarán una vez se agoten las plazas. \nCartel:
URL:https://historico.ateneovalencia.es/evento/segundo-taller-sylvanian-families-para-socios-plazas-limitadas/
LOCATION:Sala de Ocio - Ateneo Mercantil de Valencia\, Plaza del Ayuntamiento\, 18\, Valencia\, España\, Valencia\, Valencia\, 46002\, España
CATEGORIES:Navidad
ATTACH;FMTTYPE=image/jpeg:https://historico.ateneovalencia.es/wp-content/uploads/2019/11/Sylvanian-1-CORTADA.jpg
END:VEVENT
BEGIN:VEVENT
DTSTART;TZID=Europe/Madrid:20200105T160000
DTEND;TZID=Europe/Madrid:20200105T180000
DTSTAMP:20260425T221510
CREATED:20191117T105943Z
LAST-MODIFIED:20191120T123052Z
UID:54071-1578240000-1578247200@historico.ateneovalencia.es
SUMMARY:Disfruta de SSMM Los Reyes Magos de Oriente en nuestra Gala de Reyes
DESCRIPTION:Sus Majestades los Reyes Magos de Oriente llegan de nuevo a Valencia este domingo 5 de enero para repartir regalos entre los niños y niñas ateneístas que tengan entre 0 y 12 años\, pero antes de desfilar en la cabalgata que recorrerá las calles de la ciudad\, como viene siendo tradición\, primero serán recibidos en el Ateneo Mercantil para dar una sorpresa y repartir ilusión entre los más pequeños de nuestros socios. La novedad es que este año regresan a nuestro salón más grande\, al Salón Noble\, para que muchos más niños puedan participar en la recepción oficial de SSMM los Reyes Magos. La hora de inicio será a las 16 horas. \nMelchor\, Gaspar y Baltasar repartirán cientos de regalos a los más pequeños de la casa. De nuevo nuestros 'peques' visirán una tarde inolvidable llena de sorpresas y no sólo recibirán esos dulces que traen los Reyes Magos\, sino que además\, volverán a repartir libros para fomentar la lectura\, además\, de un regalo para que puedan jugar. ¡Os esperamos a todos! Recordad que la recogida de regalos para la Gala de Reyes se realizará desde el 23 de diciembre hasta el 3 de enero en la quinta planta\, en Secretaría. \nCartel:\n \n\n 
URL:https://historico.ateneovalencia.es/evento/disfruta-de-ssmm-los-reyes-magos-de-oriente-en-nuestra-gala-de-reyes/
LOCATION:Salón Noble - Ateneo Mercantil de Valencia\, Plaza del Ayuntamiento 18\, Valencia\, Valencia\, 46002\, España
CATEGORIES:Navidad
ATTACH;FMTTYPE=image/jpeg:https://historico.ateneovalencia.es/wp-content/uploads/2019/11/GALA-REYES-CORTADA.jpg
END:VEVENT
BEGIN:VEVENT
DTSTART;TZID=Europe/Madrid:20200105T160000
DTEND;TZID=Europe/Madrid:20200105T200000
DTSTAMP:20260425T221510
CREATED:20191117T111525Z
LAST-MODIFIED:20191120T122955Z
UID:54074-1578240000-1578254400@historico.ateneovalencia.es
SUMMARY:Participa en la Cabalgata de Reyes de Valencia con los Trenes del Ateneo
DESCRIPTION:El Ateneo Mercantil participará un nuevo año en la tradicional Cabalgata de los Reyes Magos de Valencia y pone a disposición de sus socios\, que los niñas y niñas de nuestros socios puedan participar en uno de los actos más bonitos de las Navidades. Recuerda que las plazas son limitadas y que está dirigida a pequeños de edades comprendidas entre los 7 y los 13 años. \nUna actividad que tiene un coste de 12 euros hasta que se completen las plazas disponibles y cuyas inscripciones se abrirán en Secretaría del Ateneo Mercantil el próximo 23 de diciembre. Participa en la tarde mágica del 5 de enero que inunda de ilusión las calles de Valencia. No se conoce todavía la temática de la cablagata\, pero en breve informaremos cómo tienen que ir disfrazados los niños participantes. \nLugar de encuentro: Paseo de La Alameda a las 16 horas. \nCartel:
URL:https://historico.ateneovalencia.es/evento/participa-en-la-cabalgata-de-reyes-de-valencia-con-los-trenes-del-ateneo/
LOCATION:Paseo de la Alameda\, 28\, Valencia\, Valencia\, España
CATEGORIES:Navidad
ATTACH;FMTTYPE=image/jpeg:https://historico.ateneovalencia.es/wp-content/uploads/2019/11/CABALGATA-REYES-CORTADA.jpg
END:VEVENT
BEGIN:VEVENT
DTSTART;TZID=Europe/Madrid:20200106T140000
DTEND;TZID=Europe/Madrid:20200106T170000
DTSTAMP:20260425T221510
CREATED:20191118T163903Z
LAST-MODIFIED:20191118T180459Z
UID:54150-1578319200-1578330000@historico.ateneovalencia.es
SUMMARY:Conoce el Menú de la Comida de Reyes en el Restaurante
DESCRIPTION:La mejor restauración de estas Navidades llega de la mano del Restaurante del Ateneo. El Grupo El Alto ha dado a conocer los dos menús que ofrecerá en la comida de Reyes\, el de adultos como el infantil. Recuerda que ya puedes reservar tu plaza en el Ateneo Mercantil para comer el día de Navidad. Las reservas ya se pueden hacer en el propio Restaurante (sexta planta del edificio) o bien reservando en el teléfono 96.293.55.70 y 670.00.61.61. \nRecuerda que el precio de la comida de Reyes es para el menú de adultos: 30€ para los Socios y 35€  para los No Socios\, mientras que el menú infantil es de 22€. \nCartel:
URL:https://historico.ateneovalencia.es/evento/conoce-el-menu-de-la-comida-de-reyes-en-el-restaurante/
LOCATION:Ateneo Restaurante\, Plaza del Ayuntamiento\, 18\, Valencia\, España\, Valencia\, Comunidad Valenciana\, 46002\, España
CATEGORIES:Navidad
ATTACH;FMTTYPE=image/jpeg:https://historico.ateneovalencia.es/wp-content/uploads/2019/11/20200106-Menu-Restaurante-Comida-Reyes-1.jpg
END:VEVENT
END:VCALENDAR