BEGIN:VCALENDAR
VERSION:2.0
PRODID:-//Ateneo Mercantil de Valencia - ECPv6.0.4//NONSGML v1.0//EN
CALSCALE:GREGORIAN
METHOD:PUBLISH
X-ORIGINAL-URL:https://historico.ateneovalencia.es
X-WR-CALDESC:Eventos para Ateneo Mercantil de Valencia
REFRESH-INTERVAL;VALUE=DURATION:PT1H
X-Robots-Tag:noindex
X-PUBLISHED-TTL:PT1H
BEGIN:VTIMEZONE
TZID:Europe/Madrid
BEGIN:DAYLIGHT
TZOFFSETFROM:+0100
TZOFFSETTO:+0200
TZNAME:CEST
DTSTART:20190331T010000
END:DAYLIGHT
BEGIN:STANDARD
TZOFFSETFROM:+0200
TZOFFSETTO:+0100
TZNAME:CET
DTSTART:20191027T010000
END:STANDARD
END:VTIMEZONE
BEGIN:VEVENT
DTSTART;TZID=Europe/Madrid:20191219T180000
DTEND;TZID=Europe/Madrid:20191219T200000
DTSTAMP:20260426T005719
CREATED:20191117T083731Z
LAST-MODIFIED:20191118T161722Z
UID:54040-1576778400-1576785600@historico.ateneovalencia.es
SUMMARY:Arracan las Fiestas 2019 con la Gala de Navidad
DESCRIPTION:Es verdad que la exposición\, exhibición y talleres de Sylvanian Families\, que arrancan el 25 de noviembre\, se enmarcan en las actividades navideñas del Ateneo Mercantil\, lo que marca el inicio de las Navidades en nuestra casa es la Gala de Navidad que este año llega con un nuevo periodista premiado por su dilatada y ejemplar carrera profesional y también lo harán los más pequeños de la casa porque se volverá a premiar sus dibujos navideños. \nAdemás\, en la gala se dará a conocer la futura Reina del Ateneo de 2020 y podremos despedir a Silvia Giménez Santamarina\, que tan bien nos representó esta año. En estas semanas se acercan las entrañables fiestas de la Navidad y el Salón de Actos se viste con las mejores galas para recibir a nuestros socios y dar el pistoletazo de salida a todos los actos programados por nuestra institución estas fechas. \nLa presidenta del Ateneo Mercantil\, Dª. Carmen de Rosa\, presentará un breve balance de las numerosas actividades que se han realizado a lo largo del año. Nuevamente tendremos un fin de fiesta muy especial\, con villancicos y con un coro infantil que tan buena acogida ha tenido en los últimos años. \nCartel:\n \n 
URL:https://historico.ateneovalencia.es/evento/arracan-las-fiestas-2019-con-la-gala-de-navidad/
LOCATION:Teatro Ateneo
CATEGORIES:Navidad
ATTACH;FMTTYPE=image/jpeg:https://historico.ateneovalencia.es/wp-content/uploads/2019/11/GALA-NAVIDAD-CORTADA.jpg
END:VEVENT
BEGIN:VEVENT
DTSTART;TZID=Europe/Madrid:20191222T120000
DTEND;TZID=Europe/Madrid:20191222T140000
DTSTAMP:20260426T005719
CREATED:20191126T100349Z
LAST-MODIFIED:20191126T100349Z
UID:54274-1577016000-1577023200@historico.ateneovalencia.es
SUMMARY:Concierto Solidario Cruz Roja: Societat Musical 'La Nova de Xàtiva'
DESCRIPTION:La Banda y Orquesta de la Sociedad Musical La Nova de Xàtiva será la encargada de poner la música solidaria estas Navidades en el Concierto que la Cruz Roja realizará en el Ateneo Mercantil el próximo domingo 22 de diciembre a las 12.00 horas en el Salón de Actos. Un concierto de Película a favor de la infancia\, ya que el objetivo prioritario es recaudar los máximos fondos posibles para que la institución humanitaria pueda desarrollar proyectos infantiles en 2020. \nLas entradas ya se pueden reservar a un precio de 10 euros en el teléfono 96.380.22.44 y en el email reservasentradas@cruzroja.es. Además\, se han habilitado cuatro puntos de venta anticipada de entradas: \n\nSede local de Cruz Roja en Valencia (c/ Guillem de Castro\, 162 / Teléfono: 96.360.62.11)\nColegio de Parálisis Cerebral de Cruz Roja (c/ Alboraya\, 4-6 / Teléfono 96.369.59.54)\n Centro de Día Cruz Roja (c/ Juan Mercader\, 1 / Teléfono: 607.61.06.08)\n Oficina Provincial de Cruz Roja en Valencia (c/ de la Cruz Roja\, 2 / Teléfono 96.380.22.44)\n\nCartel:
URL:https://historico.ateneovalencia.es/evento/concierto-solidario-cruz-roja-societat-musical-la-nova-de-xativa/
LOCATION:Teatro Ateneo
CATEGORIES:Conciertos Domingos,Navidad
ATTACH;FMTTYPE=image/jpeg:https://historico.ateneovalencia.es/wp-content/uploads/2019/11/20191222-Concierto-Curz-Roja.jpg
END:VEVENT
BEGIN:VEVENT
DTSTART;TZID=Europe/Madrid:20191225T140000
DTEND;TZID=Europe/Madrid:20191225T173000
DTSTAMP:20260426T005719
CREATED:20191118T163134Z
LAST-MODIFIED:20191118T180534Z
UID:54144-1577282400-1577295000@historico.ateneovalencia.es
SUMMARY:Conoce el Menú de Navidad del Restaurante
DESCRIPTION:La mejor restauración de estas Navidades llega de la mano del Restaurante del Ateneo. El Grupo El Alto ha dado a conocer los dos menús que ofrecerá en la comida de Navidad\, el de adultos como el infantil. Recuerda que ya puedes reservar tu plaza en el Ateneo Mercantil para comer el día de Navidad. Las reservas ya se pueden hacer en el propio Restaurante (sexta planta del edificio) o bien reservando en el teléfono 96.293.55.70 y 670.00.61.61 \nEl menú de la comida de Navidad tiene un precio de Adulto de 45€  si eres socio o socia del Ateneo Mercantil y de 55€ para los No socios. Y el menú infantil es de 22€. \nCartel:
URL:https://historico.ateneovalencia.es/evento/conoce-los-menus-de-navidad-del-restaurante/
LOCATION:Restaurante - Ateneo Mercantil de Valencia\, Plaza del Ayuntamiento 18\, Valencia\, Valencia\, 46002\, España
CATEGORIES:Navidad
ATTACH;FMTTYPE=image/jpeg:https://historico.ateneovalencia.es/wp-content/uploads/2019/11/20191225-Comida-Navidad.jpg
END:VEVENT
BEGIN:VEVENT
DTSTART;TZID=Europe/Madrid:20191226T120000
DTEND;TZID=Europe/Madrid:20191226T133000
DTSTAMP:20260426T005720
CREATED:20191117T091303Z
LAST-MODIFIED:20191118T171206Z
UID:54049-1577361600-1577367000@historico.ateneovalencia.es
SUMMARY:Película Infantil: "Se armó el Belén"
DESCRIPTION:La apuesta por el cinde de animación volverá a ser una de los ejes centrales para nuestros niños y niñas ateneístas y este año se podrán ver cinco películas\, cuatro en horario de mañana y una por la tarde. La primera película escogida es "Se armó el Belén" y podrá verse el jueves 26 de diciembre a las 12 horas en el Salón Sorolla. Una película para todos los públicos y que traerá la magia de la Navidad y del nacimiento de Jesús. \nLa trama arranca con Bo que es un burrito pequeño\, pero valiente\, que anhela una vida más allá de su rutina diaria en el molino del pueblo. Un día reúne el coraje necesario para cumplir la aventura de sus sueños. En su viaje conocerá a Ruth\, una adorable oveja que ha perdido su rebaño\, y a Dave\, una paloma con grandes aspiraciones. Durante su camino\, en el que siguen una Estrella muy especial\, encontrarán además a tres camellos y a otros excéntricos animales. Todos ellos se convertirán en los héroes no reconocidos de la primera Navidad. \nGénero: Animación. Aventuras. Fantástico. Animales. Navidad. Religión. \nDuración: 1 hora y 26 minutos. \nCartel:
URL:https://historico.ateneovalencia.es/evento/pelicula-infantil-se-armo-el-belen/
LOCATION:Salón Sorolla - Ateneo Mercantil de Valencia\, Plaza del Ayuntamiento 18\, Valencia\, Valencia\, 46002\, España
CATEGORIES:Navidad
ATTACH;FMTTYPE=image/jpeg:https://historico.ateneovalencia.es/wp-content/uploads/2019/11/ARMO-BELEN-CORTADA.jpg
END:VEVENT
BEGIN:VEVENT
DTSTART;TZID=Europe/Madrid:20191226T173000
DTEND;TZID=Europe/Madrid:20191226T193000
DTSTAMP:20260426T005720
CREATED:20191117T093640Z
LAST-MODIFIED:20191118T172333Z
UID:54052-1577381400-1577388600@historico.ateneovalencia.es
SUMMARY:Película Infantil: "Como entrenar a tu dragón 3"
DESCRIPTION:La apuesta por el cinde de animación volverá a ser una de los ejes centrales para nuestros niños y niñas ateneístas y este año se podrán ver cinco películas\, cuatro en horario de mañana y una por la tarde. La segunda película escogida es "Cómo entrenar a tu dragón 3" y podrá verse el jueves 26 de diciembre a las 17.30 horas en el Salón Sorolla. Una película para todos los públicos y que cierra la trilogía de la amistad de un joven vikingo y el dragón Furia Nocturna. \nLo que comenzó como la inesperada amistad entre estos dos personajes se ha convertido en una épica trilogía que ha recorrido sus vidas. En esta nueva entrega\, Hipo y Desdentao descubrirán finalmente su verdadero destino: para uno\, gobernar Isla Mema junto a Astrid; para el otro\, ser el líder de su especie. Pero\, por el camino\, deberán poner a prueba los lazos que los unen\, plantando cara a la mayor amenaza que jamás hayan afrontado... y a la aparición de una Furia Nocturna hembra. \nGénero: Animación. Aventuras. Comedia. Dragones. Vikingos. Secuela. 3-D. \nDuración: 1 hora y 44 minutos. \nCartel:
URL:https://historico.ateneovalencia.es/evento/pelicula-infantil-como-entrenar-a-tu-dragon-3/
LOCATION:Salón Sorolla - Ateneo Mercantil de Valencia\, Plaza del Ayuntamiento 18\, Valencia\, Valencia\, 46002\, España
CATEGORIES:Navidad
ATTACH;FMTTYPE=image/jpeg:https://historico.ateneovalencia.es/wp-content/uploads/2019/11/DRAGON-BUENO.jpg
END:VEVENT
BEGIN:VEVENT
DTSTART;TZID=Europe/Madrid:20191227T120000
DTEND;TZID=Europe/Madrid:20191227T140000
DTSTAMP:20260426T005720
CREATED:20191117T095039Z
LAST-MODIFIED:20191118T174122Z
UID:54055-1577448000-1577455200@historico.ateneovalencia.es
SUMMARY:Película Infantil: "Toy Story 4"
DESCRIPTION:La apuesta por el cinde de animación volverá a ser una de los ejes centrales para nuestros niños y niñas ateneístas y este año se podrán ver cinco películas\, cuatro en horario de mañana y una por la tarde. La tercera película escogida es "Toy Story 4" y podrá verse el viernes 27 de diciembre a las 12 horas en el Salón Sorolla. Una película para todos los públicos y que trae una nueva entrega de una de las mejores sagas de la historia de la animación. \nWoody siempre ha tenido claro cuál es su labor en el mundo y su prioridad: cuidar a su dueño\, ya sea Andy o Bonnie. Pero cuando Bonnie añade a Forky\, un nuevo juguete de fabricación propia\, a su habitación\, arranca una nueva aventura que servirá para que los viejos y nuevos amigos le enseñen a Woody lo grande que puede ser el mundo para un juguete. \nGénero: Animación. Fantástico. Aventuras. Comedia. Infantil. Muñecos. Cine familiar. Secuela. Pixar. 3-D. \nDuración: 1 hora y 40 minutos. \nCartel:
URL:https://historico.ateneovalencia.es/evento/pelicula-infantil-toy-story-4/
LOCATION:Salón Sorolla - Ateneo Mercantil de Valencia\, Plaza del Ayuntamiento 18\, Valencia\, Valencia\, 46002\, España
CATEGORIES:Navidad
ATTACH;FMTTYPE=image/jpeg:https://historico.ateneovalencia.es/wp-content/uploads/2019/11/Toy_Story_4-462756582-large.jpg
END:VEVENT
BEGIN:VEVENT
DTSTART;TZID=Europe/Madrid:20191227T180000
DTEND;TZID=Europe/Madrid:20191227T210000
DTSTAMP:20260426T005720
CREATED:20191117T103823Z
LAST-MODIFIED:20191118T181116Z
UID:54068-1577469600-1577480400@historico.ateneovalencia.es
SUMMARY:Proyección de la Ópera "La Bohème" de Puccini
DESCRIPTION:No todos los eventos navideños van a estar dirigidos a los más pequeños\, el Ateneo Mercantil también ha pensado en sus socios y socias estas fiestas y por eso el viernes 27 de diciembre a las 18 horas en el Salón de Actos se proyectará la ópera de Giacomo Puccini “La Bohème” (2 horas y media de duración) que se grabó en 2006 en el Teatro Real de Madrid. Esta ópera de Puccini llega con la dirección musical de Jesús López Cobos\, con la puesta en escena de Giancarlo del Monaco y que interpretan magistralmente Inva Mula y Aqules Machado\, además de contar con la colaboración y los coros de la Orquesta Sinfónica del Teatro Real de Madrid. \nEl evento es gratuito hasta completar el aforo del teatro del Ateneo Mercantil. Recuerda que habrá descanso tras la primera hora de proyección de la ópera y en ese momento el púbico asistente podrá acceder al Salón Stolz para poder degustar durante unos minutos trufas y cava por cortesía de nuestra institución. Recuerda que este evento es exclusivo para nuestros socios y socias\, por lo que no podrá acceder público externo al Salón de Actos. \nEl Teatro Real recurrió en 2006 a 'La Bohéme'\, talismán y garantía de éxito. Las 16 representaciones que se ofrecieron colgaron el 'No hay billetes'. La Bohéme toca la fibra sensible de todos: habla de la juventud\, el amor y la muerte. \nCartel:
URL:https://historico.ateneovalencia.es/evento/proyeccion-de-la-opera-la-boheme-de-puccini/
LOCATION:Teatro Ateneo
CATEGORIES:Navidad
ATTACH;FMTTYPE=image/jpeg:https://historico.ateneovalencia.es/wp-content/uploads/2019/11/LA-BOHEME-BUENA.jpg
END:VEVENT
BEGIN:VEVENT
DTSTART;TZID=Europe/Madrid:20191228T170000
DTEND;TZID=Europe/Madrid:20191228T200000
DTSTAMP:20260426T005720
CREATED:20191117T085337Z
LAST-MODIFIED:20191118T182123Z
UID:54044-1577552400-1577563200@historico.ateneovalencia.es
SUMMARY:Primer Taller Sylvanian Families para Socios - Plazas Limitadas
DESCRIPTION:El Mundo Sylvanian Families que llega al Ateneo Mercantil con una gran exposición en el Salon Noble\, la más grande de Europa\, se completará con dos talleres exclusivos para los niños y niñas de los socios ateneístas que tengan entre 4 y los 12 años. La primera de las sesiones de los talleres será el próximo sábado 28 de diciembre\, de 17 a 20 horas en el Salón Sorolla\, en el que estarán divirtiéndose durante tres horas y estarán perfectamente cuidados por monitores. \nAdemás\, la dirección del Ateneo Mercantil se encargará de darles la merienda para que no falte hasta el más mínimo detalle y los más pequeños  se lo pasen en grande. Y es que durante tres horas podrán realizar trabajos de manualidades\, disfrutarán de teatro de muñecos\, títeres y marionetas y muchos juegos. \nEl precio de la actividad es de 2 euros y las plazas son limitadas para cada uno de dos talleres\, por lo que si no quieres quedarte sin sitio\, no pierdas la oportunidad y apunta a tus niños y niñas en Secretaría del Ateneo. Ya están abiertas las inscripciones y se cerrarán una vez se agoten las plazas. \nCartel:
URL:https://historico.ateneovalencia.es/evento/primer-taller-sylvanian-families-para-socios-plazas-limitadas/
LOCATION:Salón Sorolla - Ateneo Mercantil de Valencia\, Plaza del Ayuntamiento 18\, Valencia\, Valencia\, 46002\, España
CATEGORIES:Navidad
ATTACH;FMTTYPE=image/jpeg:https://historico.ateneovalencia.es/wp-content/uploads/2019/11/Sylvanian-1-CORTADA.jpg
END:VEVENT
BEGIN:VEVENT
DTSTART;TZID=Europe/Madrid:20191230T120000
DTEND;TZID=Europe/Madrid:20191230T133000
DTSTAMP:20260426T005720
CREATED:20191117T095937Z
LAST-MODIFIED:20191118T174941Z
UID:54058-1577707200-1577712600@historico.ateneovalencia.es
SUMMARY:Película Infantil: "Lego La Película 2"
DESCRIPTION:La apuesta por el cinde de animación volverá a ser una de los ejes centrales para nuestros niños y niñas ateneístas y este año se podrán ver cinco películas\, cuatro en horario de mañana y una por la tarde. La cuarta película escogida es "Lego La Película 2" y podrá verse el lunes 30 de diciembre a las 12 horas en el Salón Sorolla. Una película para todos los públicos y que trae una historia de continuación de la primera película del universo cinematográfico de Lego. \nDespués de cinco años de tranquilidad aparece una nueva amenaza: invasores de Lego Duplo del espacio exterior que lo destrozan todo antes de que dé tiempo a reconstruirlo. Emmet\, Lucy\, Batman y sus amigos unirán fuerzas para librar una batalla que les llevará a mundos inexplorados. \nGénero: Animación. Comedia. Aventuras. Fantástico. 3-D. Lego \nDuración: 1 hora y 33 minutos. \nCartel:
URL:https://historico.ateneovalencia.es/evento/pelicula-infantil-lego-la-pelicula-2/
LOCATION:Salón Sorolla - Ateneo Mercantil de Valencia\, Plaza del Ayuntamiento 18\, Valencia\, Valencia\, 46002\, España
CATEGORIES:Navidad
ATTACH;FMTTYPE=image/jpeg:https://historico.ateneovalencia.es/wp-content/uploads/2019/11/LEGO-2-BUENA.jpg
END:VEVENT
END:VCALENDAR