BEGIN:VCALENDAR
VERSION:2.0
PRODID:-//Ateneo Mercantil de Valencia - ECPv6.0.4//NONSGML v1.0//EN
CALSCALE:GREGORIAN
METHOD:PUBLISH
X-ORIGINAL-URL:https://historico.ateneovalencia.es
X-WR-CALDESC:Eventos para Ateneo Mercantil de Valencia
REFRESH-INTERVAL;VALUE=DURATION:PT1H
X-Robots-Tag:noindex
X-PUBLISHED-TTL:PT1H
BEGIN:VTIMEZONE
TZID:Europe/Madrid
BEGIN:DAYLIGHT
TZOFFSETFROM:+0100
TZOFFSETTO:+0200
TZNAME:CEST
DTSTART:20250330T010000
END:DAYLIGHT
BEGIN:STANDARD
TZOFFSETFROM:+0200
TZOFFSETTO:+0100
TZNAME:CET
DTSTART:20251026T010000
END:STANDARD
END:VTIMEZONE
BEGIN:VEVENT
DTSTART;TZID=Europe/Madrid:20250610T170000
DTEND;TZID=Europe/Madrid:20250619T200000
DTSTAMP:20260421T041448
CREATED:20250426T074724Z
LAST-MODIFIED:20250426T074735Z
UID:83741-1749574800-1750363200@historico.ateneovalencia.es
SUMMARY:Exposición: "Records d'una vida de teatre" de Carles Castillo
DESCRIPTION:El Ateneo Mercantil de Valencia tiene el placer de invitarles a la exposición "Records d'una vida de teatre"\, un recorrido emotivo por la trayectoria artística del actor y dramaturgo Carles Castillo. \n🗓 Fechas: del 10 al 19 de junio | Entrada gratuita🕔 Horario: de 17:00 a 20:00 horas📍 Lugar: Sala de Exposiciones del Ateneo Mercantil de Valencia🎨 Comisaria: Empar Castillo \nTras 43 años de profesión\, Carles Castillo abre las puertas de su memoria escénica a través de una cuidada selección de carteles\, fotografías y objetos personales que ha conservado a lo largo de su vida dedicada al teatro. \nEsta exposición propone un viaje en el tiempo que repasa sus inicios como cantante en locales nocturnos de Valencia\, su descubrimiento del arte del mimo\, sus incursiones en el cine y la televisión\, y su participación en grandes producciones teatrales. \nActor\, director\, dramaturgo\, escritor y músico\, Carles Castillo es un artista polifacético cuya versatilidad lo ha llevado a crear y participar en innumerables montajes escénicos por toda Europa y Sudamérica (Venezuela\, Colombia\, México)\, dejando una huella imborrable en el mundo de la interpretación. \nEntre todos sus proyectos\, destaca especialmente Imprebís\, creado junto a Carles Montoliu\, una obra pionera en España en el arte de la improvisación\, que logró más de 3.500 representaciones y superó el millón de espectadores. \nUna cita imprescindible para los amantes del teatro y para quienes quieran descubrir los recuerdos de toda una vida sobre los escenarios. \n¡Os esperamos! \nCartel:
URL:https://historico.ateneovalencia.es/evento/exposicion-records-duna-vida-de-teatre-de-carles-castillo/
LOCATION:Sala de Exposiciones - Ateneo Mercantil de Valencia\, Plaza del Ayuntamiento\, 18\, Valencia\, España\, Valencia\, Valencia\, 46002\, España
CATEGORIES:Exposiciones
ATTACH;FMTTYPE=image/jpeg:https://historico.ateneovalencia.es/wp-content/uploads/2025/04/20250610-Exposicion-Carles-Castillo-1.jpg
END:VEVENT
END:VCALENDAR