BEGIN:VCALENDAR
VERSION:2.0
PRODID:-//Ateneo Mercantil de Valencia - ECPv6.0.4//NONSGML v1.0//EN
CALSCALE:GREGORIAN
METHOD:PUBLISH
X-ORIGINAL-URL:https://historico.ateneovalencia.es
X-WR-CALDESC:Eventos para Ateneo Mercantil de Valencia
REFRESH-INTERVAL;VALUE=DURATION:PT1H
X-Robots-Tag:noindex
X-PUBLISHED-TTL:PT1H
BEGIN:VTIMEZONE
TZID:Europe/Madrid
BEGIN:DAYLIGHT
TZOFFSETFROM:+0100
TZOFFSETTO:+0200
TZNAME:CEST
DTSTART:20240331T010000
END:DAYLIGHT
BEGIN:STANDARD
TZOFFSETFROM:+0200
TZOFFSETTO:+0100
TZNAME:CET
DTSTART:20241027T010000
END:STANDARD
BEGIN:DAYLIGHT
TZOFFSETFROM:+0100
TZOFFSETTO:+0200
TZNAME:CEST
DTSTART:20250330T010000
END:DAYLIGHT
BEGIN:STANDARD
TZOFFSETFROM:+0200
TZOFFSETTO:+0100
TZNAME:CET
DTSTART:20251026T010000
END:STANDARD
END:VTIMEZONE
BEGIN:VEVENT
DTSTART;TZID=Europe/Madrid:20241122T170000
DTEND;TZID=Europe/Madrid:20250112T203000
DTSTAMP:20260421T041904
CREATED:20241123T112340Z
LAST-MODIFIED:20241204T015305Z
UID:82250-1732294800-1736713800@historico.ateneovalencia.es
SUMMARY:Exposición Clicks Playmóbil - La mayor colección privada de Europa llega a Valencia con 25.000 piezas
DESCRIPTION:Llega a Valencia y al Ateneo Mercantil de Valencia la mayor colección privada de Europa de clicks de Playmóbil\, que contará en esta ocasión con más de 25.000 piezas que invaden el Ateneo Mercantil (Plaza del Ayuntamiento\, 18 de Valencia) un año más para celebrar las Navidades con los más pequeños\, bueno y los no tan pequeños porque esta exposición la pueden disfrutar todos los integrantes de la familia. \nEste nueva exposición del universo de los clicks recrean dos espectaculares dioramas: ‘La época medieval’ con más de 100 metros cuadrados de diorama y ‘El mundo de las hadas’ y hay que destacar que está colección privada procede de Almería\, Salamanca\, Alicante\, Murcia\, Madrid y Valencia. \nHorarios y entradas a la venta por 4€\nEsta exposición de Clicks de Playmóbil abre sus puertas el viernes 22 de noviembre a partir de las 17:30 horas y permanecerá abierta hasta las 20:30 horas. \nLos sábados y domingos el horario es de 11.00 a 14.00h. y de 17.00 a 20.30h. Ya durante las vacaciones de Navidad la exposición abrirá ininterrumpidamente todos los días de 11.00 a 14.00 y de 17.00 a 20.30. Los días 24 y 31 de diciembre abrirá sólo por la mañana. Los días 25 de diciembre\, 1 y 6 de enero abrirá sólo por la tarde. Tras las fiestas navideñas abrirá el viernes 10 de enero y 11 y 12\, tanto de mañana como de tarde. \nEl precio de la entrada es de 4 euros por persona (niños y adultos). Se pueden adquirir en las propias taquillas del Ateneo Mercantil y a través de la web. \nEntradas Online comprar aquí\nCartel:
URL:https://historico.ateneovalencia.es/evento/exposicion-clicks-playmobil-la-mayor-coleccion-privada-de-europa-llega-a-valencia-con-25-000-piezas/
LOCATION:Salón Noble - Ateneo Mercantil de Valencia\, Plaza del Ayuntamiento 18\, Valencia\, Valencia\, 46002\, España
CATEGORIES:Exposiciones,Navidad
ATTACH;FMTTYPE=image/jpeg:https://historico.ateneovalencia.es/wp-content/uploads/2024/11/20241122-Exposicion-Clics-Playmobil.jpg
END:VEVENT
BEGIN:VEVENT
DTSTART;TZID=Europe/Madrid:20241210T170000
DTEND;TZID=Europe/Madrid:20250105T200000
DTSTAMP:20260421T041904
CREATED:20241124T101647Z
LAST-MODIFIED:20241124T101647Z
UID:82265-1733850000-1736107200@historico.ateneovalencia.es
SUMMARY:Exposición de Dibujo\, Pintura y Grabado "Enseñanzas Artísticas" de la Escuela de Artesanos Fundación CV
DESCRIPTION:Desde el próximo 10 de diciembre y hasta el 5 de enero\, los alumnos de "Enseñanzas Artísticas" de las Escuelas de Artesanos Fundación de la Comunitat Valenciana\, tendrán la oportunidad de mostrar al público de la ciudad de Valencia\, en una exposición colectiva\, las obras que han estado realizando a lo largo de estos últimos cursos. \nSe trata de diferentes obras trabajadas en las aulas de las Escuelas en diversas técnicas: grabado\, pintura óleo\, pintura acuarela\, dibujo\, etc… Todas estas ellas se podrán visitar en la Sala de Exposiciones del Ateneo Mercantil de Valencia (3ª planta)\, que está situado en la Plaza del Ayuntamiento\, 18 de Valencia. La entrada es libre y gratuita. \nEl horario de visitas de esta exposición colectiva es \n\nlunes a domingo de 17:00 a 20 horas\nINAUGURACIÓN de la exposición Martes 10 de diciembre. Hora por confirmar.\n\nCartel:
URL:https://historico.ateneovalencia.es/evento/exposicion-de-dibujo-pintura-y-grabado-ensenanzas-artisticas-de-la-escuela-de-artesanos-fundacion-cv/
LOCATION:Sala de Exposiciones - Ateneo Mercantil de Valencia\, Plaza del Ayuntamiento\, 18\, Valencia\, España\, Valencia\, Valencia\, 46002\, España
CATEGORIES:Exposiciones
ATTACH;FMTTYPE=image/jpeg:https://historico.ateneovalencia.es/wp-content/uploads/2024/11/20241210-Exposicion-Escuela-Artesanos.jpg
END:VEVENT
END:VCALENDAR