BEGIN:VCALENDAR
VERSION:2.0
PRODID:-//Ateneo Mercantil de Valencia - ECPv6.0.4//NONSGML v1.0//EN
CALSCALE:GREGORIAN
METHOD:PUBLISH
X-ORIGINAL-URL:https://historico.ateneovalencia.es
X-WR-CALDESC:Eventos para Ateneo Mercantil de Valencia
REFRESH-INTERVAL;VALUE=DURATION:PT1H
X-Robots-Tag:noindex
X-PUBLISHED-TTL:PT1H
BEGIN:VTIMEZONE
TZID:Europe/Madrid
BEGIN:DAYLIGHT
TZOFFSETFROM:+0100
TZOFFSETTO:+0200
TZNAME:CEST
DTSTART:20240331T010000
END:DAYLIGHT
BEGIN:STANDARD
TZOFFSETFROM:+0200
TZOFFSETTO:+0100
TZNAME:CET
DTSTART:20241027T010000
END:STANDARD
END:VTIMEZONE
BEGIN:VEVENT
DTSTART;TZID=Europe/Madrid:20241024T190000
DTEND;TZID=Europe/Madrid:20241108T210000
DTSTAMP:20260421T135239
CREATED:20240913T122835Z
LAST-MODIFIED:20240916T073934Z
UID:81510-1729796400-1731099600@historico.ateneovalencia.es
SUMMARY:Exposición de Pintura - La obra de Juan Montesa
DESCRIPTION:El Ateneo Mercantil de Valencia acoge la Exposición de Pintura 'La Obra de Juan Montesa' en la sala de exposiciones (tercer piso del Ateneo) del jueves 24 de octubre al domingo 10 noviembre de 19 a 21 horas. \nApreciado visitante: \nLo que usted va a ver no es una exposición de obras de arte. Lo que verá\, será más bien una colección de recuerdos\, nostalgias y un deseo empecinado de una persona mayor\, un viejo diría yo\, de recobrar algunos fragmentos de su niñez y de su adolescencia a través de la mirada retrospectiva.  \nEn definitiva\, una especie de divertimento\, jugando con la tierra que piso\, ignorando el asfalto donde mora\, y transformando el material en imágenes que lo transportan a tiempos pasados y ahora añorados.  \nLos objetos que vio y se han perdido en los tiempos\, los pueblos que hoy están vacíos y solitarios\, los amaneceres a una nueva jornada\, y los anocheceres a la orilla del mar. La silueta de los cipreses en la inmensidad de un paisaje\, apuntando a un cielo enorme en su ilimitada dimensión. Se podrá ver parte de la obra humana\, poblados\, aldeas y algún amontonamiento habitacional\, alguna barca\, pero jamás la presencia humana.  \nCartel:
URL:https://historico.ateneovalencia.es/evento/exposicion-de-pintura-la-obra-de-juan-montesa/
LOCATION:Sala de Exposiciones - Ateneo Mercantil de Valencia\, Plaza del Ayuntamiento\, 18\, Valencia\, España\, Valencia\, Valencia\, 46002\, España
CATEGORIES:Exposiciones
ATTACH;FMTTYPE=image/jpeg:https://historico.ateneovalencia.es/wp-content/uploads/2024/09/20241026-Exposicion-Juan-Montesa.jpg
END:VEVENT
END:VCALENDAR