BEGIN:VCALENDAR
VERSION:2.0
PRODID:-//Ateneo Mercantil de Valencia - ECPv6.0.4//NONSGML v1.0//EN
CALSCALE:GREGORIAN
METHOD:PUBLISH
X-ORIGINAL-URL:https://historico.ateneovalencia.es
X-WR-CALDESC:Eventos para Ateneo Mercantil de Valencia
REFRESH-INTERVAL;VALUE=DURATION:PT1H
X-Robots-Tag:noindex
X-PUBLISHED-TTL:PT1H
BEGIN:VTIMEZONE
TZID:Europe/Madrid
BEGIN:DAYLIGHT
TZOFFSETFROM:+0100
TZOFFSETTO:+0200
TZNAME:CEST
DTSTART:20240331T010000
END:DAYLIGHT
BEGIN:STANDARD
TZOFFSETFROM:+0200
TZOFFSETTO:+0100
TZNAME:CET
DTSTART:20241027T010000
END:STANDARD
END:VTIMEZONE
BEGIN:VEVENT
DTSTART;TZID=Europe/Madrid:20241004T170000
DTEND;TZID=Europe/Madrid:20241020T203000
DTSTAMP:20260421T174059
CREATED:20240722T101900Z
LAST-MODIFIED:20240722T105159Z
UID:81082-1728061200-1729456200@historico.ateneovalencia.es
SUMMARY:Exposición "Universo personal Esteban Munné" - Pintura y escultura
DESCRIPTION:El Ateneo Mercantil de Valencia acoge en la Sala de Exposiciones\, tercer piso del edificio\, durante dos semanas (del 4 al 20 de octubre de 2024) la Exposición de pintura y escultura "Universo personal Esteban Munné". Al artista le apasiona darle vida y color a los espacios y en su última colección ha logrado volver a emocionar como siempre lo hace. \nUna colección que presenta en Valencia\, en nuestra sala de exposiciones\, y que contará con cuadros realizados con acrílicos sobre bastidores de tela como el Rey y Reina Zulú\, la Regata\, el rey León\, Recó del riu y Miravent...\, entre otros cuadros de colecciones anteriores. \nPara lleva a cabo su trabajo creativo\, precisa de un entorno tranquilo y cómodo donde poder investigar y desarrollar los procesos de creación. Desde l'Ampolla\, en la entrada del Delta del Ebro\, ha encontrado esa paz y tranquilidad que necesitaba para poder concentrarse en su obra.  \nLos materiales que utiliza en sus obras\, tanto en los soportes\, con diversas formas y texturas\, como los que integra en forma de colage\, contribuyen al enriquecimiento del trabajo\, confiriéndole un aspecto más abstracto y natural. Las resinas\, el cartón\, la tierra y la madera\, forman la base de los elementos básicos en todas sus obras. \nBreve currículum de Esteban Munné:\nNacido en Barcelona en 1950\, empezó\, muy joven\, a trabajar en diversas agencias de publicidad de Barcelona y las Islas Baleares. Primero como dibujante y posteriormente como creativo y Director de Arte\, hasta que decidió dar el paso y montar su propio estudio de diseño gráfico en Barcelona. \nSu interés por la estética en todas sus vertientes\, lo introduce en el mundo del interiorismo y la decoración. Posteriormente y para dar respuesta a las demandas de algunos de sus clientes\, se decide a desarrollar sus capacidades artísticas y empieza a presentar sus obras pictóricas y escultóricas en diversas  salas de exposiciones. \nEn 1985 realizó su primera exposición en Barcelona\, presentando piezas de gran originalidad y contenido estético (esta fué la definición que reprodujeron algunos medios locales). Desde entonces ha expuesto en diversas salas de España y Sur de Francia. \nActualmente y desde el año 2017\, ha establecido su residencia en l’Ampolla (Tarragona) desde donde sigue preparando nuevas exposiciones bajo la enorme influencia de Delta del Ebro. \nGalería de cuadros:\n\n		\n		\n			\n				\n			\n			\n				\n			\n			\n				\n			\n			\n				\n			\n			\n				\n			\n		\n\nCartel:
URL:https://historico.ateneovalencia.es/evento/exposicion-universo-personal-esteban-munne-pintura-y-escultura/
LOCATION:Sala de Exposiciones - Ateneo Mercantil de Valencia\, Plaza del Ayuntamiento\, 18\, Valencia\, España\, Valencia\, Valencia\, 46002\, España
CATEGORIES:Exposiciones
ATTACH;FMTTYPE=image/jpeg:https://historico.ateneovalencia.es/wp-content/uploads/2024/07/20241004-Exposicion-Munne.jpg
END:VEVENT
END:VCALENDAR