BEGIN:VCALENDAR
VERSION:2.0
PRODID:-//Ateneo Mercantil de Valencia - ECPv6.0.4//NONSGML v1.0//EN
CALSCALE:GREGORIAN
METHOD:PUBLISH
X-ORIGINAL-URL:https://historico.ateneovalencia.es
X-WR-CALDESC:Eventos para Ateneo Mercantil de Valencia
REFRESH-INTERVAL;VALUE=DURATION:PT1H
X-Robots-Tag:noindex
X-PUBLISHED-TTL:PT1H
BEGIN:VTIMEZONE
TZID:Europe/Madrid
BEGIN:DAYLIGHT
TZOFFSETFROM:+0100
TZOFFSETTO:+0200
TZNAME:CEST
DTSTART:20240331T010000
END:DAYLIGHT
BEGIN:STANDARD
TZOFFSETFROM:+0200
TZOFFSETTO:+0100
TZNAME:CET
DTSTART:20241027T010000
END:STANDARD
END:VTIMEZONE
BEGIN:VEVENT
DTSTART;TZID=Europe/Madrid:20240606T120000
DTEND;TZID=Europe/Madrid:20240929T203000
DTSTAMP:20260421T070041
CREATED:20240724T075406Z
LAST-MODIFIED:20240724T075648Z
UID:81133-1717675200-1727641800@historico.ateneovalencia.es
SUMMARY:Exposición "Ripollés al desnudo" . Obras desconocidas de Juan Ripollés
DESCRIPTION:La Exposición "Ripollés al desnudo" es una muestra que acoge las obras más desconocidas de este pintor y escultor universal en el Ateneo Mercantil de Valencia. ¡Solo por tiempo limitado! ¿Vas a perdértelo? \nVenta de entradas: en Taquillas y en Online \n👉 Online pincha aquí \nQué vas a disfrutar\n🖼️ Una exposición con las obras más desconocidas del internacional artista Juan García Ripollés\n🎨 La esencia de este excéntrico escultor y pintor español\n💫 Una muestra que podrás ver solo por tiempo limitado\n👉 En el espectacular Ateneo Mercantil de Valencia\n🌸 Con la colaboración en la dirección artística floral de Francis Montesinos \nInformación\n📅 Fecha: el 6 de junio al 29 de septiembre\n🕒 Horario:\n- Mañanas: de lunes a domingo de 12:00 a 14:00\n- Tardes: de lunes a domingo de 17:30 a 21:00\n⏳ Duración: 45 minutos\n📍 Lugar: Ateneo Mercantil de Valencia\n👤 Edad: todos los públicos\n♿ Accesibilidad: recinto habilitado para personas en silla de ruedas\n❓ Puedes consultar las preguntas frecuentes y sus respuestas aquí \nDescripción\nEl salón noble del Ateneo Mercantil de Valencia acogerá una gran exposición para todos los públicos de obras inéditas\, pinturas y esculturas del artista universal Juan Ripollés. Un recorrido vital donde podrás conocer los aspectos más íntimos de su vida y su obra. A tu llegada\, un holograma del artista te dará la bienvenida. Después verás un gran jardín vertical en el que conviven objetos y fotografías personales del maestro con cuadros realizados con paja y maíz. Una pequeña muestra del entorno en el que trabaja rodeado de naturaleza\, de sus gallos y gallinas. También podrás ver en primicia el cortometraje “El beato Ripo” de Luís G. Berlanga. ¡Consigue tus entradas para la Exposición "Ripollés al desnudo"! \nCartel:
URL:https://historico.ateneovalencia.es/evento/exposicion-ripolles-al-desnudo-obras-desconocidas-de-juan-ripolles/
LOCATION:Salón Noble - Ateneo Mercantil de Valencia\, Plaza del Ayuntamiento 18\, Valencia\, Valencia\, 46002\, España
CATEGORIES:Exposiciones
ATTACH;FMTTYPE=image/jpeg:https://historico.ateneovalencia.es/wp-content/uploads/2024/07/20240601-Exposicion-Ripolles.jpg
END:VEVENT
BEGIN:VEVENT
DTSTART;TZID=Europe/Madrid:20240903T170000
DTEND;TZID=Europe/Madrid:20240927T210000
DTSTAMP:20260421T070041
CREATED:20240730T110430Z
LAST-MODIFIED:20240829T190016Z
UID:81336-1725382800-1727470800@historico.ateneovalencia.es
SUMMARY:Exposición de Pintura de Juan Estellés "Vuelta desde México"
DESCRIPTION:El pintor valenciano\, Juan Estellés\, expone en su tierra. El Ateneo Mercantil de Valencia acogerá del 3 al 27 de septiembre de 2024 una exposición de pintura en la que se podrá ver todo su legado pictórico presentado bajo una mirada positiva de lo bello que es la vida\, a pesar de vivir tragedias como el exilio español o las enfermedades que tuvo que ver como médico en México. La exposición de Juan Estellés "Vuelta desde México" que se exhibirá en el Ateneo Mercantil\, trae al presente y a su tierra natal la obra de un pintor exiliado valenciano. \nVen a conocer la obra imaginativa y virtuosa de Juan Estellés\, pintor valenciano cuya obra vuelve por fin a su tierra natal\, a 50 años de su muerte y 75 de su exilio. Esta muestra brinda una perspectiva amplia de la diversidad de su producción\, y recrea la historia intelectual de un creador original y agudo\, que desarrolló la mayor parte de su obra en tierras mexicanas\, siendo parte de la cultura española en la diáspora. \n"Estoy seguro de que festejamos aquí\, en Juan Estellés\, la originalidad indispensable a toda obra de arte; lo original verdadero\, que es expresión de un temperamento\, de un modo\, de una peculiaridad; la que nos da las cosas como son pero a través de una individualidad propia".\nJuan Gil-Albert (Valencia\, 1937) \n"Juan Estellés hace de todo: pinta al óleo\, a la acuarela; surcando monotipos\, a lápiz; según todas las escuelas de las académicas a las más estridentes manifestaciones de los gustos de hoy; esculpe\, modela\, escribe\, organiza\, critica\, diagnostica. Es médico de locos y de presos\, con lo que se diría siguiendo una fácil pendiente que lo es de todos. Juan Estellés no duda de nada porque puede hacerlo todo".\nMax Aub (México\, 1953) \nJuan Estellés\, pintor de enfermos\, médico de paisajes \nCartel:\n \nEstá exponiendo ahora en el Ateneo Español de México: \nLa exposición de Juan Estellés "Mirada y Espíritu" en el Ateneo Español\, fue presentada por el pintor\, quien comentó que las obras son presentadas bajo una mirada positiva de lo bello que es la vida\, a pesar de vivir tragedias como el exilio español o el ver enfermedades\, ya que el artista fue reconocido por seguir una línea en psiquiatría.\n\nLa exposición presenta el redescubrimiento de este gran pintor valenciano que vivió en México de 1942 a 1965\, esto durante el periodo del exilio español\, por lo que expresa el legado que dejaron dichos artistas en México. La exposición contempla un catálogo de las pinturas donde se encuentran más de 500 recolectadas\, como un conversatorio con un experto en arte y de la época para discutir el impacto de Juan Estellés en esta época y en la cultura.\n\nLa exposición estará en México hasta el 17 de agosto para después ir a Valencia\, la tierra natal de Juan Estellés\, y expondrá en el Ateneo Mercantil de Valencia. En las pinturas podemos observar acuarelas que prevalecen en casi el 70% de las obras\, pero también encontramos oleos y gauches.\n\n\n\n\n 
URL:https://historico.ateneovalencia.es/evento/exposicion-de-pintura-de-juan-estelles-vuelta-desde-mexico/
LOCATION:Sala de Exposiciones - Ateneo Mercantil de Valencia\, Plaza del Ayuntamiento\, 18\, Valencia\, España\, Valencia\, Valencia\, 46002\, España
CATEGORIES:Exposiciones
ATTACH;FMTTYPE=image/jpeg:https://historico.ateneovalencia.es/wp-content/uploads/2024/07/20240902-Exposicion-Juan-Estelles-1.jpg
END:VEVENT
END:VCALENDAR