BEGIN:VCALENDAR
VERSION:2.0
PRODID:-//Ateneo Mercantil de Valencia - ECPv6.0.4//NONSGML v1.0//EN
CALSCALE:GREGORIAN
METHOD:PUBLISH
X-ORIGINAL-URL:https://historico.ateneovalencia.es
X-WR-CALDESC:Eventos para Ateneo Mercantil de Valencia
REFRESH-INTERVAL;VALUE=DURATION:PT1H
X-Robots-Tag:noindex
X-PUBLISHED-TTL:PT1H
BEGIN:VTIMEZONE
TZID:Europe/Madrid
BEGIN:DAYLIGHT
TZOFFSETFROM:+0100
TZOFFSETTO:+0200
TZNAME:CEST
DTSTART:20210328T010000
END:DAYLIGHT
BEGIN:STANDARD
TZOFFSETFROM:+0200
TZOFFSETTO:+0100
TZNAME:CET
DTSTART:20211031T010000
END:STANDARD
END:VTIMEZONE
BEGIN:VEVENT
DTSTART;TZID=Europe/Madrid:20211111T190000
DTEND;TZID=Europe/Madrid:20211111T203000
DTSTAMP:20260425T050200
CREATED:20211004T115631Z
LAST-MODIFIED:20211004T115631Z
UID:65113-1636657200-1636662600@historico.ateneovalencia.es
SUMMARY:Poetas en el Ateneo XXXIX: Pascual Casañ Muñoz
DESCRIPTION:El próximo jueves 11 de noviembre a las 19 horas se celebrará en el Ateneo Mercantil de Valencia una nueva edición de Poetas en el Ateneo con el invitado\, Pascual Casañ Muñoz. Será la trigésimo novena reunión\, que será comandada por el coordinador del ciclo\, Vicente Barberá. \nPascual Casañ Muñoz (Massanassa\, Valencia) es profesor de Filosofía de universidad \, Inspector de Educación de la Generalitat Valenciana y miembro de la Junta de Gobierno del Centro Valencia-Mediterráneo UNESCO. Ha publicado más de 20 libros de carácter filosófico y\, dentro del ámbito poético\, el poemario Entre líneas\, XVI Premio de Poesía "Aurelio Guirao" de Murcia (La Sierpe y el Laúd\, 2012). Sus poemas han aparecido en diversas revistas y antologías. Coordinador de la antología Miradas para compartir la luz\, Antología poética de autores valencianos\, (Boreal Libros\, 2016). \nCartel:
URL:https://historico.ateneovalencia.es/evento/poetas-en-el-ateneo-xxxix-pascual-casan-munoz/
LOCATION:Salón Sorolla - Ateneo Mercantil de Valencia\, Plaza del Ayuntamiento 18\, Valencia\, Valencia\, 46002\, España
CATEGORIES:Poetas en el Ateneo
ATTACH;FMTTYPE=image/jpeg:https://historico.ateneovalencia.es/wp-content/uploads/2021/10/20211111-Poetas-en-el-Ateneo-39-Pascual-Casañ.jpg
END:VEVENT
END:VCALENDAR