BEGIN:VCALENDAR
VERSION:2.0
PRODID:-//Ateneo Mercantil de Valencia - ECPv6.0.4//NONSGML v1.0//EN
CALSCALE:GREGORIAN
METHOD:PUBLISH
X-WR-CALNAME:Ateneo Mercantil de Valencia
X-ORIGINAL-URL:https://historico.ateneovalencia.es
X-WR-CALDESC:Eventos para Ateneo Mercantil de Valencia
REFRESH-INTERVAL;VALUE=DURATION:PT1H
X-Robots-Tag:noindex
X-PUBLISHED-TTL:PT1H
BEGIN:VTIMEZONE
TZID:Europe/Madrid
BEGIN:DAYLIGHT
TZOFFSETFROM:+0100
TZOFFSETTO:+0200
TZNAME:CEST
DTSTART:20210328T010000
END:DAYLIGHT
BEGIN:STANDARD
TZOFFSETFROM:+0200
TZOFFSETTO:+0100
TZNAME:CET
DTSTART:20211031T010000
END:STANDARD
END:VTIMEZONE
BEGIN:VEVENT
DTSTART;TZID=Europe/Madrid:20210422T190000
DTEND;TZID=Europe/Madrid:20210422T203000
DTSTAMP:20260423T183608
CREATED:20210124T155339Z
LAST-MODIFIED:20210325T111049Z
UID:61870-1619118000-1619123400@historico.ateneovalencia.es
SUMMARY:Poetas en el Ateneo XXXV: Bibiana Collado
DESCRIPTION:La poesía regresa al Ateneo Mercantil de Valencia de la mano del Ciclo 'Poetas en el Ateneo' que en su trigésimo quinto encuentro contará con la presencia de la poeta de Burriana\, Bibiana Collado. Este recital estará presentado por Vicente Barberá\, responsable de Poetas en Ateneo. Será el próximo jueves 22 de abril a las 19 horas en el Salón Stolz y la conferencia se dará también en online. \nEnlace para la conferencia On line: https://zoom.us/j/93280863690\nBibiana Collado Cabrera (1985) es una de las voces más sobresalientes del panorama poético español contemporáneo. Con una clara vocación por la literatura\, en especial por la poesía\, desde su infancia. Licenciada en Filología Hispánica por la UV\, donde realizó el Máster de Estudios Hispánicos Avanzados con premio extraordinario\, defendió su tesis doctoral sobre la poesía cubana contemporánea escrita por mujeres. \nSu pasión por las letras la lleva a compaginar la investigación con la escritura y la docencia. Su buen hacer como poeta le ha granjeado importantes reconocimientos\, como el XXXIV Premio de Poesía Arcipreste de Hita 2012 por Como si nunca antes (Pre-textos)\, el accésit del Premio Adonáis 2016 por El recelo del agua (Rail)\, el Premio Complutense de Literatura 2017 por Certeza del colapso (Ed. Complutense)\, el Premio Voces Nuevas de poesía convocado por la editorial Torremozas (2009) y el Premio Universidad de Valencia de Escritura de Creación\, tanto en castellano (2009)\, como en valenciano (2012). \nCartel:
URL:https://historico.ateneovalencia.es/evento/poetas-en-el-ateneo-xxxv-bibiana-collado/
LOCATION:Salón Stolz - Ateneo Mercantil de Valencia\, Plaza del Ayuntamiento\, 18\, Valencia\, España\, Valencia\, Valencia\, 46002\, España
CATEGORIES:Poetas en el Ateneo
ATTACH;FMTTYPE=image/jpeg:https://historico.ateneovalencia.es/wp-content/uploads/2021/01/20210422-Bibiana-Collado.jpg
END:VEVENT
END:VCALENDAR