BEGIN:VCALENDAR
VERSION:2.0
PRODID:-//Ateneo Mercantil de Valencia - ECPv6.0.4//NONSGML v1.0//EN
CALSCALE:GREGORIAN
METHOD:PUBLISH
X-WR-CALNAME:Ateneo Mercantil de Valencia
X-ORIGINAL-URL:https://historico.ateneovalencia.es
X-WR-CALDESC:Eventos para Ateneo Mercantil de Valencia
REFRESH-INTERVAL;VALUE=DURATION:PT1H
X-Robots-Tag:noindex
X-PUBLISHED-TTL:PT1H
BEGIN:VTIMEZONE
TZID:Europe/Madrid
BEGIN:DAYLIGHT
TZOFFSETFROM:+0100
TZOFFSETTO:+0200
TZNAME:CEST
DTSTART:20190331T010000
END:DAYLIGHT
BEGIN:STANDARD
TZOFFSETFROM:+0200
TZOFFSETTO:+0100
TZNAME:CET
DTSTART:20191027T010000
END:STANDARD
END:VTIMEZONE
BEGIN:VEVENT
DTSTART;TZID=Europe/Madrid:20190507T191500
DTEND;TZID=Europe/Madrid:20190507T210000
DTSTAMP:20260422T191236
CREATED:20190411T115657Z
LAST-MODIFIED:20190506T144314Z
UID:46735-1557256500-1557262800@historico.ateneovalencia.es
SUMMARY:Poetas en el Ateneo XXV: Andrés Morales Milohnic
DESCRIPTION:El siguiente poeta en desfilar por el Vestíbulo del Sexto Piso del Ateneo Mercantil será el poeta chileno Andrés Morales Milohnic. Con 'Poetas en el Ateneo XXV' se cierran las presentaciones e intervención de los poetas más importantes antes de las vacaciones de verano y para la siguiente cita habrá que esperar al próximo mes de septiembre. Recuerda que este pequeño homenaje a Andrés Morales será el próximo martes 7 de mayo a las 19:15 h. en la sexta planta de nuestro edificio. \nJuan Andrés Morales Milohnic (Santiago de Chile\, 1962) es un poeta\, ensayista y escritor chileno. Es de padre valenciano\, es miembro de la Academia Chilena de la Lengua desde 2008\, es autor de más de 30 obras y ha sido ganador de numerosos premios literarios. Licenciado en Literatura en Universidad de Chile y doctor en Filosofía y Letras con mención en Filología Hispánica por la Autónoma de Barcelona. Morales es profesor de su alma máter. Autor prolífico\, ha recibido varias distinciones entre las que destaca el Premio Pablo Neruda 2001\, otorgado por la fundación del mismo nombre. \nCartel:\n 
URL:https://historico.ateneovalencia.es/evento/poetas-en-el-ateneo-xxv-andres-morales-milohnic/
LOCATION:Hall Restaurante - Ateneo Mercantil de Valencia\, Plaza del Ayuntamiento\, 18\, Valencia\, España\, Valencia\, Valencia\, 46002\, España
CATEGORIES:Poetas en el Ateneo
ATTACH;FMTTYPE=image/jpeg:https://historico.ateneovalencia.es/wp-content/uploads/2019/04/20190507-Poetas-en-el-Ateneo-XXV-Andres-Morales.jpg
END:VEVENT
END:VCALENDAR