BEGIN:VCALENDAR
VERSION:2.0
PRODID:-//Ateneo Mercantil de Valencia - ECPv6.0.4//NONSGML v1.0//EN
CALSCALE:GREGORIAN
METHOD:PUBLISH
X-WR-CALNAME:Ateneo Mercantil de Valencia
X-ORIGINAL-URL:https://historico.ateneovalencia.es
X-WR-CALDESC:Eventos para Ateneo Mercantil de Valencia
REFRESH-INTERVAL;VALUE=DURATION:PT1H
X-Robots-Tag:noindex
X-PUBLISHED-TTL:PT1H
BEGIN:VTIMEZONE
TZID:Europe/Madrid
BEGIN:DAYLIGHT
TZOFFSETFROM:+0100
TZOFFSETTO:+0200
TZNAME:CEST
DTSTART:20190331T010000
END:DAYLIGHT
BEGIN:STANDARD
TZOFFSETFROM:+0200
TZOFFSETTO:+0100
TZNAME:CET
DTSTART:20191027T010000
END:STANDARD
END:VTIMEZONE
BEGIN:VEVENT
DTSTART;TZID=Europe/Madrid:20190125T190000
DTEND;TZID=Europe/Madrid:20190125T210000
DTSTAMP:20260423T023537
CREATED:20190103T114812Z
LAST-MODIFIED:20190103T114812Z
UID:41181-1548442800-1548450000@historico.ateneovalencia.es
SUMMARY:Poetas en el Ateneo XXII: Fernando Delgado
DESCRIPTION:El próximo poeta en desfilar por el Ateneo Mercantil de Valencia será el premiado escritor de novelas\, poeta y periodista D. Fernando Delgado. Así el próximo viernes 25 de enero  a las 19.00 horas en el Salón Sorolla se celebrará un recital presentado por Vicente Barberá\, creador de Poetas en el Ateneo. \nAutor y periodista español\, Fernando Delgado estudió Periodismo en la UCM e inició su carrera como periodista en medios locales canarios\, dando el salto a la península para trabajar en RNE a finales de los años 60. En esta activa época política se dedicó principalmente al área de cultura\, una labor que fue recompensada en 1981 cuando pasó a ser director de Radio 3 y\, posteriormente\, de RNE. \nDelgado\, formó más tarde parte del consejo de RTVE\, pasando a presentar los informativos de fin de semana durante cinco años\, convirtiéndose en uno de los rostros habituales de la televisión en España. Más tarde volvería a la radio\, donde logró un gran éxito en la Cadena Ser con A vivir que son dos días. Hoy en día es un colaborador habitual en varios medios de radio y prensa escrita. Ha recibido el reconocimiento a su labor con el Premio Ondas o la Antena de oro. \nLicenciado en Ciencias de la Información y periodista en prensa\, radio y televisión\, publicó también libros de artículos y ensayos como Cambio de tiempo (1994) y Parece mentira (2005). Obtuvo el premio Europa en Salerno en 1986\, el Ondas Nacional de Televisión en 1995 por su tarea de difusión cultural en los telediarios de ﬁ n de semana de TVE\, la Antena de Oro de la Asociación de profesionales de radio y televisión ese mismo año y el premio Villa de Madrid de periodismo Mesonero Romanos en 2006. El gremio de bibliotecarios de la Comunidad Valenciana lo distinguió en 2010 como bibliotecario de honor. \nDentro del campo de la literatura\, actividad a la que se dedica ahora por completo\, podríamos decir que su trabajo se fue desarrollando de manera paralela a su labor periodística\, publicando su primera novela en 1976. Desde ese momento publicó varios libros\, llegando a ganar premios tan importantes como el Planeta (1995) o el Azorín (2015). \nDe entre su obra habría que destacar algunos títulos tan conocidos como La mirada del otro\, Sus ojos en mí\, Exterminio en Lastenia o Me llamo Lucas y no soy perro. Su poesía se contiene en Proceso de adivinaciones (1981)\, Autobiografía del hijo (1995)\, Presencias de ceniza (2001) y El pájaro escondido en un museo (2010). \nCartel:
URL:https://historico.ateneovalencia.es/evento/poetas-en-el-ateneo-xxii-fernando-delgado/
LOCATION:Salón Sorolla - Ateneo Mercantil de Valencia\, Plaza del Ayuntamiento 18\, Valencia\, Valencia\, 46002\, España
CATEGORIES:Poetas en el Ateneo
ATTACH;FMTTYPE=image/jpeg:https://historico.ateneovalencia.es/wp-content/uploads/2019/01/20190125-Poetas-en-el-Ateneo-XXII-Fernando-Delgado.jpg
END:VEVENT
END:VCALENDAR